BEGIN:VCALENDAR
VERSION:2.0
PRODID:-//Universität Innsbruck//LFU:online//DE
METHOD:PUBLISH
BEGIN:VEVENT
UID:25W_846181_4860689@uibk.ac.at
ORGANIZER;CN="LFU:online Universität Innsbruck":MAILTO:Uni-Innsbruck-noreply@uibk.ac.at
SUMMARY:VU Energieeffiziente Gebäude (LV 846181-0 25W)
DESCRIPTION:Lehrveranstaltung 846181 25W, Gruppe 0\nTitel: VU Energieeffiziente Gebäude\nOrt: HSB  6\n\nhttps://lfuonline.uibk.ac.at/public/lfuonline_lv.details?sem_id_in=25W&lvnr_id_in=846181\n
CLASS:PUBLIC
DTSTART:20251002T151500Z
DTEND:20251002T164500Z
DTSTAMP:20260422T220754Z
LOCATION:HSB  6
COMMENT:zusammen mit LV 846108
END:VEVENT
BEGIN:VEVENT
UID:25W_846181_4860690@uibk.ac.at
ORGANIZER;CN="LFU:online Universität Innsbruck":MAILTO:Uni-Innsbruck-noreply@uibk.ac.at
SUMMARY:VU Energieeffiziente Gebäude (LV 846181-0 25W)
DESCRIPTION:Lehrveranstaltung 846181 25W, Gruppe 0\nTitel: VU Energieeffiziente Gebäude\nOrt: HSB  6\n\nhttps://lfuonline.uibk.ac.at/public/lfuonline_lv.details?sem_id_in=25W&lvnr_id_in=846181\n
CLASS:PUBLIC
DTSTART:20251009T151500Z
DTEND:20251009T164500Z
DTSTAMP:20260422T220754Z
LOCATION:HSB  6
COMMENT:zusammen mit LV 846108
END:VEVENT
BEGIN:VEVENT
UID:25W_846181_4947275@uibk.ac.at
ORGANIZER;CN="LFU:online Universität Innsbruck":MAILTO:Uni-Innsbruck-noreply@uibk.ac.at
SUMMARY:VU Energieeffiziente Gebäude (LV 846181-0 25W)
DESCRIPTION:Lehrveranstaltung 846181 25W, Gruppe 0\nTitel: VU Energieeffiziente Gebäude\nOrt: Freiland\n\nhttps://lfuonline.uibk.ac.at/public/lfuonline_lv.details?sem_id_in=25W&lvnr_id_in=846181\n
CLASS:PUBLIC
DTSTART:20251010T050000Z
DTEND:20251010T160000Z
DTSTAMP:20260422T220754Z
LOCATION:Freiland
COMMENT:Ausflug zur Passivhaus Holzhybridbau mit innovativer Energieversorung - Workshop zur Wohnanlage "In der MEllen": https://tickets.passivehouse.com/PHI/mellen-11/\nUnkostenbeitrag: ca. 25,- , genaue Info in der ersten LV-Einheit
END:VEVENT
BEGIN:VEVENT
UID:25W_846181_4860691@uibk.ac.at
ORGANIZER;CN="LFU:online Universität Innsbruck":MAILTO:Uni-Innsbruck-noreply@uibk.ac.at
SUMMARY:VU Energieeffiziente Gebäude (LV 846181-0 25W)
DESCRIPTION:Lehrveranstaltung 846181 25W, Gruppe 0\nTitel: VU Energieeffiziente Gebäude\nOrt: HSB  6\n\nhttps://lfuonline.uibk.ac.at/public/lfuonline_lv.details?sem_id_in=25W&lvnr_id_in=846181\n
CLASS:PUBLIC
DTSTART:20251016T151500Z
DTEND:20251016T164500Z
DTSTAMP:20260422T220754Z
LOCATION:HSB  6
COMMENT:zusammen mit LV 846108
END:VEVENT
BEGIN:VEVENT
UID:25W_846181_4860692@uibk.ac.at
ORGANIZER;CN="LFU:online Universität Innsbruck":MAILTO:Uni-Innsbruck-noreply@uibk.ac.at
SUMMARY:VU Energieeffiziente Gebäude (LV 846181-0 25W)
DESCRIPTION:Lehrveranstaltung 846181 25W, Gruppe 0\nTitel: VU Energieeffiziente Gebäude\nOrt: HSB  6\n\nhttps://lfuonline.uibk.ac.at/public/lfuonline_lv.details?sem_id_in=25W&lvnr_id_in=846181\n
CLASS:PUBLIC
DTSTART:20251023T151500Z
DTEND:20251023T164500Z
DTSTAMP:20260422T220754Z
LOCATION:HSB  6
COMMENT:zusammen mit LV 846108
END:VEVENT
BEGIN:VEVENT
UID:25W_846181_4860693@uibk.ac.at
ORGANIZER;CN="LFU:online Universität Innsbruck":MAILTO:Uni-Innsbruck-noreply@uibk.ac.at
SUMMARY:VU Energieeffiziente Gebäude (LV 846181-0 25W)
DESCRIPTION:Lehrveranstaltung 846181 25W, Gruppe 0\nTitel: VU Energieeffiziente Gebäude\nOrt: HSB  6\n\nhttps://lfuonline.uibk.ac.at/public/lfuonline_lv.details?sem_id_in=25W&lvnr_id_in=846181\n
CLASS:PUBLIC
DTSTART:20251030T161500Z
DTEND:20251030T174500Z
DTSTAMP:20260422T220754Z
LOCATION:HSB  6
COMMENT:zusammen mit LV 846108
END:VEVENT
BEGIN:VEVENT
UID:25W_846181_4860694@uibk.ac.at
ORGANIZER;CN="LFU:online Universität Innsbruck":MAILTO:Uni-Innsbruck-noreply@uibk.ac.at
SUMMARY:VU Energieeffiziente Gebäude (LV 846181-0 25W)
DESCRIPTION:Lehrveranstaltung 846181 25W, Gruppe 0\nTitel: VU Energieeffiziente Gebäude\nOrt: HSB  6\n\nhttps://lfuonline.uibk.ac.at/public/lfuonline_lv.details?sem_id_in=25W&lvnr_id_in=846181\n
CLASS:PUBLIC
DTSTART:20251106T161500Z
DTEND:20251106T174500Z
DTSTAMP:20260422T220754Z
LOCATION:HSB  6
COMMENT:zusammen mit LV 846108
END:VEVENT
BEGIN:VEVENT
UID:25W_846181_4860695@uibk.ac.at
ORGANIZER;CN="LFU:online Universität Innsbruck":MAILTO:Uni-Innsbruck-noreply@uibk.ac.at
SUMMARY:VU Energieeffiziente Gebäude (LV 846181-0 25W)
DESCRIPTION:Lehrveranstaltung 846181 25W, Gruppe 0\nTitel: VU Energieeffiziente Gebäude\nOrt: HSB  6\n\nhttps://lfuonline.uibk.ac.at/public/lfuonline_lv.details?sem_id_in=25W&lvnr_id_in=846181\n
CLASS:PUBLIC
DTSTART:20251113T161500Z
DTEND:20251113T174500Z
DTSTAMP:20260422T220754Z
LOCATION:HSB  6
COMMENT:zusammen mit LV 846108
END:VEVENT
BEGIN:VEVENT
UID:25W_846181_4860696@uibk.ac.at
ORGANIZER;CN="LFU:online Universität Innsbruck":MAILTO:Uni-Innsbruck-noreply@uibk.ac.at
SUMMARY:VU Energieeffiziente Gebäude (LV 846181-0 25W)
DESCRIPTION:Lehrveranstaltung 846181 25W, Gruppe 0\nTitel: VU Energieeffiziente Gebäude\nOrt: HSB  6\n\nhttps://lfuonline.uibk.ac.at/public/lfuonline_lv.details?sem_id_in=25W&lvnr_id_in=846181\n
CLASS:PUBLIC
DTSTART:20251120T161500Z
DTEND:20251120T174500Z
DTSTAMP:20260422T220754Z
LOCATION:HSB  6
COMMENT:zusammen mit LV 846108
END:VEVENT
BEGIN:VEVENT
UID:25W_846181_4860697@uibk.ac.at
ORGANIZER;CN="LFU:online Universität Innsbruck":MAILTO:Uni-Innsbruck-noreply@uibk.ac.at
SUMMARY:VU Energieeffiziente Gebäude (LV 846181-0 25W)
DESCRIPTION:Lehrveranstaltung 846181 25W, Gruppe 0\nTitel: VU Energieeffiziente Gebäude\nOrt: HSB  6\n\nhttps://lfuonline.uibk.ac.at/public/lfuonline_lv.details?sem_id_in=25W&lvnr_id_in=846181\n
CLASS:PUBLIC
DTSTART:20251127T161500Z
DTEND:20251127T174500Z
DTSTAMP:20260422T220754Z
LOCATION:HSB  6
COMMENT:zusammen mit LV 846108
END:VEVENT
BEGIN:VEVENT
UID:25W_846181_4860698@uibk.ac.at
ORGANIZER;CN="LFU:online Universität Innsbruck":MAILTO:Uni-Innsbruck-noreply@uibk.ac.at
SUMMARY:VU Energieeffiziente Gebäude (LV 846181-0 25W)
DESCRIPTION:Lehrveranstaltung 846181 25W, Gruppe 0\nTitel: VU Energieeffiziente Gebäude\nOrt: HSB  6\n\nhttps://lfuonline.uibk.ac.at/public/lfuonline_lv.details?sem_id_in=25W&lvnr_id_in=846181\n
CLASS:PUBLIC
DTSTART:20251204T161500Z
DTEND:20251204T174500Z
DTSTAMP:20260422T220754Z
LOCATION:HSB  6
COMMENT:zusammen mit LV 846108
END:VEVENT
BEGIN:VEVENT
UID:25W_846181_4860699@uibk.ac.at
ORGANIZER;CN="LFU:online Universität Innsbruck":MAILTO:Uni-Innsbruck-noreply@uibk.ac.at
SUMMARY:VU Energieeffiziente Gebäude (LV 846181-0 25W)
DESCRIPTION:Lehrveranstaltung 846181 25W, Gruppe 0\nTitel: VU Energieeffiziente Gebäude\nOrt: HSB  6\n\nhttps://lfuonline.uibk.ac.at/public/lfuonline_lv.details?sem_id_in=25W&lvnr_id_in=846181\n
CLASS:PUBLIC
DTSTART:20251211T161500Z
DTEND:20251211T174500Z
DTSTAMP:20260422T220754Z
LOCATION:HSB  6
COMMENT:zusammen mit LV 846108
END:VEVENT
BEGIN:VEVENT
UID:25W_846181_4860700@uibk.ac.at
ORGANIZER;CN="LFU:online Universität Innsbruck":MAILTO:Uni-Innsbruck-noreply@uibk.ac.at
SUMMARY:VU Energieeffiziente Gebäude (LV 846181-0 25W)
DESCRIPTION:Lehrveranstaltung 846181 25W, Gruppe 0\nTitel: VU Energieeffiziente Gebäude\nOrt: HSB  6\n\nhttps://lfuonline.uibk.ac.at/public/lfuonline_lv.details?sem_id_in=25W&lvnr_id_in=846181\n
CLASS:PUBLIC
DTSTART:20260108T161500Z
DTEND:20260108T174500Z
DTSTAMP:20260422T220754Z
LOCATION:HSB  6
COMMENT:zusammen mit LV 846108
END:VEVENT
BEGIN:VEVENT
UID:25W_846181_4860701@uibk.ac.at
ORGANIZER;CN="LFU:online Universität Innsbruck":MAILTO:Uni-Innsbruck-noreply@uibk.ac.at
SUMMARY:VU Energieeffiziente Gebäude (LV 846181-0 25W)
DESCRIPTION:Lehrveranstaltung 846181 25W, Gruppe 0\nTitel: VU Energieeffiziente Gebäude\nOrt: HSB  6\n\nhttps://lfuonline.uibk.ac.at/public/lfuonline_lv.details?sem_id_in=25W&lvnr_id_in=846181\n
CLASS:PUBLIC
DTSTART:20260115T161500Z
DTEND:20260115T174500Z
DTSTAMP:20260422T220754Z
LOCATION:HSB  6
COMMENT:zusammen mit LV 846108
END:VEVENT
BEGIN:VEVENT
UID:25W_846181_4860702@uibk.ac.at
ORGANIZER;CN="LFU:online Universität Innsbruck":MAILTO:Uni-Innsbruck-noreply@uibk.ac.at
SUMMARY:VU Energieeffiziente Gebäude (LV 846181-0 25W)
DESCRIPTION:Lehrveranstaltung 846181 25W, Gruppe 0\nTitel: VU Energieeffiziente Gebäude\nOrt: HSB  6\n\nhttps://lfuonline.uibk.ac.at/public/lfuonline_lv.details?sem_id_in=25W&lvnr_id_in=846181\n
CLASS:PUBLIC
DTSTART:20260122T161500Z
DTEND:20260122T174500Z
DTSTAMP:20260422T220754Z
LOCATION:HSB  6
COMMENT:zusammen mit LV 846108
END:VEVENT
BEGIN:VEVENT
UID:25W_846181_4860703@uibk.ac.at
ORGANIZER;CN="LFU:online Universität Innsbruck":MAILTO:Uni-Innsbruck-noreply@uibk.ac.at
SUMMARY:VU Energieeffiziente Gebäude (LV 846181-0 25W)
DESCRIPTION:Lehrveranstaltung 846181 25W, Gruppe 0\nTitel: VU Energieeffiziente Gebäude\nOrt: HSB  6\n\nhttps://lfuonline.uibk.ac.at/public/lfuonline_lv.details?sem_id_in=25W&lvnr_id_in=846181\n
CLASS:PUBLIC
DTSTART:20260129T161500Z
DTEND:20260129T174500Z
DTSTAMP:20260422T220754Z
LOCATION:HSB  6
COMMENT:zusammen mit LV 846108
END:VEVENT
BEGIN:VEVENT
UID:25W_846181_5012215@uibk.ac.at
ORGANIZER;CN="LFU:online Universität Innsbruck":MAILTO:Uni-Innsbruck-noreply@uibk.ac.at
SUMMARY:VU Energieeffiziente Gebäude (LV 846181-0 25W)
DESCRIPTION:Lehrveranstaltung 846181 25W, Gruppe 0\nTitel: VU Energieeffiziente Gebäude\nOrt: HSB  5\n\nhttps://lfuonline.uibk.ac.at/public/lfuonline_lv.details?sem_id_in=25W&lvnr_id_in=846181\n
CLASS:PUBLIC
DTSTART:20260204T100000Z
DTEND:20260204T110000Z
DTSTAMP:20260422T220754Z
LOCATION:HSB  5
COMMENT:Schriftliche Prüfung
END:VEVENT
END:VCALENDAR