BEGIN:VCALENDAR
VERSION:2.0
PRODID:-//Universität Innsbruck//LFU:online//DE
METHOD:PUBLISH
BEGIN:VEVENT
UID:16W_846605_2811062@uibk.ac.at
ORGANIZER;CN="LFU:online Universität Innsbruck":MAILTO:Uni-Innsbruck-noreply@uibk.ac.at
SUMMARY:Hochbau 1 (LV 846605-0 16W)
DESCRIPTION:Lehrveranstaltung 846605 16W, Gruppe 0\nTitel: Hochbau 1\nOrt: HSB  1\n\nhttps://lfuonline.uibk.ac.at/public/lfuonline_lv.details?sem_id_in=16W&lvnr_id_in=846605\n
CLASS:PUBLIC
DTSTART:20161007T061500Z
DTEND:20161007T080000Z
DTSTAMP:20260421T204258Z
LOCATION:HSB  1
END:VEVENT
BEGIN:VEVENT
UID:16W_846605_2811065@uibk.ac.at
ORGANIZER;CN="LFU:online Universität Innsbruck":MAILTO:Uni-Innsbruck-noreply@uibk.ac.at
SUMMARY:Hochbau 1 (LV 846605-0 16W)
DESCRIPTION:Lehrveranstaltung 846605 16W, Gruppe 0\nTitel: Hochbau 1\nOrt: HSB  1\n\nhttps://lfuonline.uibk.ac.at/public/lfuonline_lv.details?sem_id_in=16W&lvnr_id_in=846605\n
CLASS:PUBLIC
DTSTART:20161028T061500Z
DTEND:20161028T080000Z
DTSTAMP:20260421T204258Z
LOCATION:HSB  1
END:VEVENT
BEGIN:VEVENT
UID:16W_846605_2811066@uibk.ac.at
ORGANIZER;CN="LFU:online Universität Innsbruck":MAILTO:Uni-Innsbruck-noreply@uibk.ac.at
SUMMARY:Hochbau 1 (LV 846605-0 16W)
DESCRIPTION:Lehrveranstaltung 846605 16W, Gruppe 0\nTitel: Hochbau 1\nOrt: HSB  1\n\nhttps://lfuonline.uibk.ac.at/public/lfuonline_lv.details?sem_id_in=16W&lvnr_id_in=846605\n
CLASS:PUBLIC
DTSTART:20161104T071500Z
DTEND:20161104T090000Z
DTSTAMP:20260421T204258Z
LOCATION:HSB  1
END:VEVENT
BEGIN:VEVENT
UID:16W_846605_2811067@uibk.ac.at
ORGANIZER;CN="LFU:online Universität Innsbruck":MAILTO:Uni-Innsbruck-noreply@uibk.ac.at
SUMMARY:Hochbau 1 (LV 846605-0 16W)
DESCRIPTION:Lehrveranstaltung 846605 16W, Gruppe 0\nTitel: Hochbau 1\nOrt: HSB  1\n\nhttps://lfuonline.uibk.ac.at/public/lfuonline_lv.details?sem_id_in=16W&lvnr_id_in=846605\n
CLASS:PUBLIC
DTSTART:20161111T071500Z
DTEND:20161111T090000Z
DTSTAMP:20260421T204258Z
LOCATION:HSB  1
END:VEVENT
BEGIN:VEVENT
UID:16W_846605_2811069@uibk.ac.at
ORGANIZER;CN="LFU:online Universität Innsbruck":MAILTO:Uni-Innsbruck-noreply@uibk.ac.at
SUMMARY:Hochbau 1 (LV 846605-0 16W)
DESCRIPTION:Lehrveranstaltung 846605 16W, Gruppe 0\nTitel: Hochbau 1\nOrt: HSB  1\n\nhttps://lfuonline.uibk.ac.at/public/lfuonline_lv.details?sem_id_in=16W&lvnr_id_in=846605\n
CLASS:PUBLIC
DTSTART:20161125T071500Z
DTEND:20161125T090000Z
DTSTAMP:20260421T204258Z
LOCATION:HSB  1
END:VEVENT
BEGIN:VEVENT
UID:16W_846605_2811070@uibk.ac.at
ORGANIZER;CN="LFU:online Universität Innsbruck":MAILTO:Uni-Innsbruck-noreply@uibk.ac.at
SUMMARY:Hochbau 1 (LV 846605-0 16W)
DESCRIPTION:Lehrveranstaltung 846605 16W, Gruppe 0\nTitel: Hochbau 1\nOrt: HSB  1\n\nhttps://lfuonline.uibk.ac.at/public/lfuonline_lv.details?sem_id_in=16W&lvnr_id_in=846605\n
CLASS:PUBLIC
DTSTART:20161202T071500Z
DTEND:20161202T090000Z
DTSTAMP:20260421T204258Z
LOCATION:HSB  1
END:VEVENT
BEGIN:VEVENT
UID:16W_846605_2811072@uibk.ac.at
ORGANIZER;CN="LFU:online Universität Innsbruck":MAILTO:Uni-Innsbruck-noreply@uibk.ac.at
SUMMARY:Hochbau 1 (LV 846605-0 16W)
DESCRIPTION:Lehrveranstaltung 846605 16W, Gruppe 0\nTitel: Hochbau 1\nOrt: HSB  1\n\nhttps://lfuonline.uibk.ac.at/public/lfuonline_lv.details?sem_id_in=16W&lvnr_id_in=846605\n
CLASS:PUBLIC
DTSTART:20161216T071500Z
DTEND:20161216T090000Z
DTSTAMP:20260421T204258Z
LOCATION:HSB  1
END:VEVENT
BEGIN:VEVENT
UID:16W_846605_2811073@uibk.ac.at
ORGANIZER;CN="LFU:online Universität Innsbruck":MAILTO:Uni-Innsbruck-noreply@uibk.ac.at
SUMMARY:Hochbau 1 (LV 846605-0 16W)
DESCRIPTION:Lehrveranstaltung 846605 16W, Gruppe 0\nTitel: Hochbau 1\nOrt: HSB  1\n\nhttps://lfuonline.uibk.ac.at/public/lfuonline_lv.details?sem_id_in=16W&lvnr_id_in=846605\n
CLASS:PUBLIC
DTSTART:20170113T071500Z
DTEND:20170113T090000Z
DTSTAMP:20260421T204258Z
LOCATION:HSB  1
END:VEVENT
BEGIN:VEVENT
UID:16W_846605_2811074@uibk.ac.at
ORGANIZER;CN="LFU:online Universität Innsbruck":MAILTO:Uni-Innsbruck-noreply@uibk.ac.at
SUMMARY:Hochbau 1 (LV 846605-0 16W)
DESCRIPTION:Lehrveranstaltung 846605 16W, Gruppe 0\nTitel: Hochbau 1\nOrt: HSB  1\n\nhttps://lfuonline.uibk.ac.at/public/lfuonline_lv.details?sem_id_in=16W&lvnr_id_in=846605\n
CLASS:PUBLIC
DTSTART:20170120T071500Z
DTEND:20170120T090000Z
DTSTAMP:20260421T204258Z
LOCATION:HSB  1
END:VEVENT
END:VCALENDAR