BEGIN:VCALENDAR
VERSION:2.0
PRODID:-//Universität Innsbruck//LFU:online//DE
METHOD:PUBLISH
BEGIN:VEVENT
UID:24S_846615_4469810@uibk.ac.at
ORGANIZER;CN="LFU:online Universität Innsbruck":MAILTO:Uni-Innsbruck-noreply@uibk.ac.at
SUMMARY:SE Ablaufplanung und Baustellenkoordination (LV 846615-0 24S)
DESCRIPTION:Lehrveranstaltung 846615 24S, Gruppe 0\nTitel: SE Ablaufplanung und Baustellenkoordination\nOrt: SR 12\n\nhttps://lfuonline.uibk.ac.at/public/lfuonline_lv.details?sem_id_in=24S&lvnr_id_in=846615\n
CLASS:PUBLIC
DTSTART:20240304T161500Z
DTEND:20240304T174500Z
DTSTAMP:20260422T181713Z
LOCATION:SR 12
END:VEVENT
BEGIN:VEVENT
UID:24S_846615_4469811@uibk.ac.at
ORGANIZER;CN="LFU:online Universität Innsbruck":MAILTO:Uni-Innsbruck-noreply@uibk.ac.at
SUMMARY:SE Ablaufplanung und Baustellenkoordination (LV 846615-0 24S)
DESCRIPTION:Lehrveranstaltung 846615 24S, Gruppe 0\nTitel: SE Ablaufplanung und Baustellenkoordination\nOrt: SR 12\n\nhttps://lfuonline.uibk.ac.at/public/lfuonline_lv.details?sem_id_in=24S&lvnr_id_in=846615\n
CLASS:PUBLIC
DTSTART:20240311T161500Z
DTEND:20240311T174500Z
DTSTAMP:20260422T181713Z
LOCATION:SR 12
END:VEVENT
BEGIN:VEVENT
UID:24S_846615_4469812@uibk.ac.at
ORGANIZER;CN="LFU:online Universität Innsbruck":MAILTO:Uni-Innsbruck-noreply@uibk.ac.at
SUMMARY:SE Ablaufplanung und Baustellenkoordination (LV 846615-0 24S)
DESCRIPTION:Lehrveranstaltung 846615 24S, Gruppe 0\nTitel: SE Ablaufplanung und Baustellenkoordination\nOrt: SR 12\n\nhttps://lfuonline.uibk.ac.at/public/lfuonline_lv.details?sem_id_in=24S&lvnr_id_in=846615\n
CLASS:PUBLIC
DTSTART:20240318T161500Z
DTEND:20240318T174500Z
DTSTAMP:20260422T181713Z
LOCATION:SR 12
END:VEVENT
BEGIN:VEVENT
UID:24S_846615_4469813@uibk.ac.at
ORGANIZER;CN="LFU:online Universität Innsbruck":MAILTO:Uni-Innsbruck-noreply@uibk.ac.at
SUMMARY:SE Ablaufplanung und Baustellenkoordination (LV 846615-0 24S)
DESCRIPTION:Lehrveranstaltung 846615 24S, Gruppe 0\nTitel: SE Ablaufplanung und Baustellenkoordination\nOrt: SR 12\n\nhttps://lfuonline.uibk.ac.at/public/lfuonline_lv.details?sem_id_in=24S&lvnr_id_in=846615\n
CLASS:PUBLIC
DTSTART:20240408T151500Z
DTEND:20240408T164500Z
DTSTAMP:20260422T181713Z
LOCATION:SR 12
END:VEVENT
BEGIN:VEVENT
UID:24S_846615_4469814@uibk.ac.at
ORGANIZER;CN="LFU:online Universität Innsbruck":MAILTO:Uni-Innsbruck-noreply@uibk.ac.at
SUMMARY:SE Ablaufplanung und Baustellenkoordination (LV 846615-0 24S)
DESCRIPTION:Lehrveranstaltung 846615 24S, Gruppe 0\nTitel: SE Ablaufplanung und Baustellenkoordination\nOrt: SR 12\n\nhttps://lfuonline.uibk.ac.at/public/lfuonline_lv.details?sem_id_in=24S&lvnr_id_in=846615\n
CLASS:PUBLIC
DTSTART:20240415T151500Z
DTEND:20240415T164500Z
DTSTAMP:20260422T181713Z
LOCATION:SR 12
END:VEVENT
BEGIN:VEVENT
UID:24S_846615_4469815@uibk.ac.at
ORGANIZER;CN="LFU:online Universität Innsbruck":MAILTO:Uni-Innsbruck-noreply@uibk.ac.at
SUMMARY:SE Ablaufplanung und Baustellenkoordination (LV 846615-0 24S)
DESCRIPTION:Lehrveranstaltung 846615 24S, Gruppe 0\nTitel: SE Ablaufplanung und Baustellenkoordination\nOrt: SR 12\n\nhttps://lfuonline.uibk.ac.at/public/lfuonline_lv.details?sem_id_in=24S&lvnr_id_in=846615\n
CLASS:PUBLIC
DTSTART:20240422T151500Z
DTEND:20240422T164500Z
DTSTAMP:20260422T181713Z
LOCATION:SR 12
END:VEVENT
BEGIN:VEVENT
UID:24S_846615_4469816@uibk.ac.at
ORGANIZER;CN="LFU:online Universität Innsbruck":MAILTO:Uni-Innsbruck-noreply@uibk.ac.at
SUMMARY:SE Ablaufplanung und Baustellenkoordination (LV 846615-0 24S)
DESCRIPTION:Lehrveranstaltung 846615 24S, Gruppe 0\nTitel: SE Ablaufplanung und Baustellenkoordination\nOrt: SR 12\n\nhttps://lfuonline.uibk.ac.at/public/lfuonline_lv.details?sem_id_in=24S&lvnr_id_in=846615\n
CLASS:PUBLIC
DTSTART:20240429T151500Z
DTEND:20240429T164500Z
DTSTAMP:20260422T181713Z
LOCATION:SR 12
END:VEVENT
BEGIN:VEVENT
UID:24S_846615_4469817@uibk.ac.at
ORGANIZER;CN="LFU:online Universität Innsbruck":MAILTO:Uni-Innsbruck-noreply@uibk.ac.at
SUMMARY:SE Ablaufplanung und Baustellenkoordination (LV 846615-0 24S)
DESCRIPTION:Lehrveranstaltung 846615 24S, Gruppe 0\nTitel: SE Ablaufplanung und Baustellenkoordination\nOrt: SR 12\n\nhttps://lfuonline.uibk.ac.at/public/lfuonline_lv.details?sem_id_in=24S&lvnr_id_in=846615\n
CLASS:PUBLIC
DTSTART:20240506T151500Z
DTEND:20240506T164500Z
DTSTAMP:20260422T181713Z
LOCATION:SR 12
END:VEVENT
BEGIN:VEVENT
UID:24S_846615_4469818@uibk.ac.at
ORGANIZER;CN="LFU:online Universität Innsbruck":MAILTO:Uni-Innsbruck-noreply@uibk.ac.at
SUMMARY:SE Ablaufplanung und Baustellenkoordination (LV 846615-0 24S)
DESCRIPTION:Lehrveranstaltung 846615 24S, Gruppe 0\nTitel: SE Ablaufplanung und Baustellenkoordination\nOrt: SR 12\n\nhttps://lfuonline.uibk.ac.at/public/lfuonline_lv.details?sem_id_in=24S&lvnr_id_in=846615\n
CLASS:PUBLIC
DTSTART:20240513T151500Z
DTEND:20240513T164500Z
DTSTAMP:20260422T181713Z
LOCATION:SR 12
END:VEVENT
BEGIN:VEVENT
UID:24S_846615_4469819@uibk.ac.at
ORGANIZER;CN="LFU:online Universität Innsbruck":MAILTO:Uni-Innsbruck-noreply@uibk.ac.at
SUMMARY:SE Ablaufplanung und Baustellenkoordination (LV 846615-0 24S)
DESCRIPTION:Lehrveranstaltung 846615 24S, Gruppe 0\nTitel: SE Ablaufplanung und Baustellenkoordination\nOrt: SR 12\n\nhttps://lfuonline.uibk.ac.at/public/lfuonline_lv.details?sem_id_in=24S&lvnr_id_in=846615\n
CLASS:PUBLIC
DTSTART:20240527T151500Z
DTEND:20240527T164500Z
DTSTAMP:20260422T181713Z
LOCATION:SR 12
END:VEVENT
BEGIN:VEVENT
UID:24S_846615_4469820@uibk.ac.at
ORGANIZER;CN="LFU:online Universität Innsbruck":MAILTO:Uni-Innsbruck-noreply@uibk.ac.at
SUMMARY:SE Ablaufplanung und Baustellenkoordination (LV 846615-0 24S)
DESCRIPTION:Lehrveranstaltung 846615 24S, Gruppe 0\nTitel: SE Ablaufplanung und Baustellenkoordination\nOrt: SR 12\n\nhttps://lfuonline.uibk.ac.at/public/lfuonline_lv.details?sem_id_in=24S&lvnr_id_in=846615\n
CLASS:PUBLIC
DTSTART:20240603T151500Z
DTEND:20240603T164500Z
DTSTAMP:20260422T181713Z
LOCATION:SR 12
END:VEVENT
BEGIN:VEVENT
UID:24S_846615_4469821@uibk.ac.at
ORGANIZER;CN="LFU:online Universität Innsbruck":MAILTO:Uni-Innsbruck-noreply@uibk.ac.at
SUMMARY:SE Ablaufplanung und Baustellenkoordination (LV 846615-0 24S)
DESCRIPTION:Lehrveranstaltung 846615 24S, Gruppe 0\nTitel: SE Ablaufplanung und Baustellenkoordination\nOrt: SR 12\n\nhttps://lfuonline.uibk.ac.at/public/lfuonline_lv.details?sem_id_in=24S&lvnr_id_in=846615\n
CLASS:PUBLIC
DTSTART:20240610T151500Z
DTEND:20240610T164500Z
DTSTAMP:20260422T181713Z
LOCATION:SR 12
END:VEVENT
BEGIN:VEVENT
UID:24S_846615_4469822@uibk.ac.at
ORGANIZER;CN="LFU:online Universität Innsbruck":MAILTO:Uni-Innsbruck-noreply@uibk.ac.at
SUMMARY:SE Ablaufplanung und Baustellenkoordination (LV 846615-0 24S)
DESCRIPTION:Lehrveranstaltung 846615 24S, Gruppe 0\nTitel: SE Ablaufplanung und Baustellenkoordination\nOrt: SR 12\n\nhttps://lfuonline.uibk.ac.at/public/lfuonline_lv.details?sem_id_in=24S&lvnr_id_in=846615\n
CLASS:PUBLIC
DTSTART:20240617T151500Z
DTEND:20240617T164500Z
DTSTAMP:20260422T181713Z
LOCATION:SR 12
END:VEVENT
BEGIN:VEVENT
UID:24S_846615_4469823@uibk.ac.at
ORGANIZER;CN="LFU:online Universität Innsbruck":MAILTO:Uni-Innsbruck-noreply@uibk.ac.at
SUMMARY:SE Ablaufplanung und Baustellenkoordination (LV 846615-0 24S)
DESCRIPTION:Lehrveranstaltung 846615 24S, Gruppe 0\nTitel: SE Ablaufplanung und Baustellenkoordination\nOrt: SR 12\n\nhttps://lfuonline.uibk.ac.at/public/lfuonline_lv.details?sem_id_in=24S&lvnr_id_in=846615\n
CLASS:PUBLIC
DTSTART:20240624T151500Z
DTEND:20240624T164500Z
DTSTAMP:20260422T181713Z
LOCATION:SR 12
END:VEVENT
END:VCALENDAR