BEGIN:VCALENDAR
VERSION:2.0
PRODID:-//Universität Innsbruck//LFU:online//DE
METHOD:PUBLISH
BEGIN:VEVENT
UID:18W_850209_3207259@uibk.ac.at
ORGANIZER;CN="LFU:online Universität Innsbruck":MAILTO:Uni-Innsbruck-noreply@uibk.ac.at
SUMMARY:PR Angewandte Robotik (LV 850209-0 18W)
DESCRIPTION:Lehrveranstaltung 850209 18W, Gruppe 0\nTitel: PR Angewandte Robotik\nOrt: HSB  1\n\nhttps://lfuonline.uibk.ac.at/public/lfuonline_lv.details?sem_id_in=18W&lvnr_id_in=850209\n
CLASS:PUBLIC
DTSTART:20181108T150000Z
DTEND:20181108T190000Z
DTSTAMP:20260420T001330Z
LOCATION:HSB  1
COMMENT:STREAMING Innsbruck - Lienz theoretische Einführung für alle Gruppen
END:VEVENT
BEGIN:VEVENT
UID:18W_850209_3207289@uibk.ac.at
ORGANIZER;CN="LFU:online Universität Innsbruck":MAILTO:Uni-Innsbruck-noreply@uibk.ac.at
SUMMARY:PR Angewandte Robotik (LV 850209-0 18W)
DESCRIPTION:Lehrveranstaltung 850209 18W, Gruppe 0\nTitel: PR Angewandte Robotik\nOrt: Seminarraum 1 (ICT-Gebäude)\n\nhttps://lfuonline.uibk.ac.at/public/lfuonline_lv.details?sem_id_in=18W&lvnr_id_in=850209\n
CLASS:PUBLIC
DTSTART:20181115T070000Z
DTEND:20181115T170000Z
DTSTAMP:20260420T001330Z
LOCATION:Seminarraum 1 (ICT-Gebäude)
COMMENT:theoretische Einführung für alle Gruppen
END:VEVENT
BEGIN:VEVENT
UID:18W_850209_3186278@uibk.ac.at
ORGANIZER;CN="LFU:online Universität Innsbruck":MAILTO:Uni-Innsbruck-noreply@uibk.ac.at
SUMMARY:PR Angewandte Robotik (LV 850209-0 18W)
DESCRIPTION:Lehrveranstaltung 850209 18W, Gruppe 0\nTitel: PR Angewandte Robotik\nOrt: Großer Praktikumsraum Mechatronik\n\nhttps://lfuonline.uibk.ac.at/public/lfuonline_lv.details?sem_id_in=18W&lvnr_id_in=850209\n
CLASS:PUBLIC
DTSTART:20181122T140000Z
DTEND:20181122T210000Z
DTSTAMP:20260420T001330Z
LOCATION:Großer Praktikumsraum Mechatronik
END:VEVENT
BEGIN:VEVENT
UID:18W_850209_3295086@uibk.ac.at
ORGANIZER;CN="LFU:online Universität Innsbruck":MAILTO:Uni-Innsbruck-noreply@uibk.ac.at
SUMMARY:PR Angewandte Robotik (LV 850209-0 18W)
DESCRIPTION:Lehrveranstaltung 850209 18W, Gruppe 0\nTitel: PR Angewandte Robotik\nOrt: Seminarraum 2 (ICT-Gebäude)\n\nhttps://lfuonline.uibk.ac.at/public/lfuonline_lv.details?sem_id_in=18W&lvnr_id_in=850209\n
CLASS:PUBLIC
DTSTART:20181206T093000Z
DTEND:20181206T110000Z
DTSTAMP:20260420T001330Z
LOCATION:Seminarraum 2 (ICT-Gebäude)
COMMENT:Fragestunde
END:VEVENT
BEGIN:VEVENT
UID:18W_850209_3186290@uibk.ac.at
ORGANIZER;CN="LFU:online Universität Innsbruck":MAILTO:Uni-Innsbruck-noreply@uibk.ac.at
SUMMARY:PR Angewandte Robotik (LV 850209-0 18W)
DESCRIPTION:Lehrveranstaltung 850209 18W, Gruppe 0\nTitel: PR Angewandte Robotik\nOrt: Großer Praktikumsraum Mechatronik\n\nhttps://lfuonline.uibk.ac.at/public/lfuonline_lv.details?sem_id_in=18W&lvnr_id_in=850209\n
CLASS:PUBLIC
DTSTART:20181213T140000Z
DTEND:20181213T210000Z
DTSTAMP:20260420T001330Z
LOCATION:Großer Praktikumsraum Mechatronik
END:VEVENT
BEGIN:VEVENT
UID:18W_850209_3186295@uibk.ac.at
ORGANIZER;CN="LFU:online Universität Innsbruck":MAILTO:Uni-Innsbruck-noreply@uibk.ac.at
SUMMARY:PR Angewandte Robotik (LV 850209-0 18W)
DESCRIPTION:Lehrveranstaltung 850209 18W, Gruppe 0\nTitel: PR Angewandte Robotik\nOrt: Großer Praktikumsraum Mechatronik\n\nhttps://lfuonline.uibk.ac.at/public/lfuonline_lv.details?sem_id_in=18W&lvnr_id_in=850209\n
CLASS:PUBLIC
DTSTART:20190110T140000Z
DTEND:20190110T210000Z
DTSTAMP:20260420T001330Z
LOCATION:Großer Praktikumsraum Mechatronik
END:VEVENT
END:VCALENDAR