BEGIN:VCALENDAR
VERSION:2.0
PRODID:-//Universität Innsbruck//LFU:online//DE
METHOD:PUBLISH
BEGIN:VEVENT
UID:20S_850357_3558127@uibk.ac.at
ORGANIZER;CN="LFU:online Universität Innsbruck":MAILTO:Uni-Innsbruck-noreply@uibk.ac.at
SUMMARY:VU Industrielle Mechatronik 1 - Vertiefung: Internet der Dinge (LV 850357-0 20S)
DESCRIPTION:Lehrveranstaltung 850357 20S, Gruppe 0\nTitel: VU Industrielle Mechatronik 1 - Vertiefung: Internet der Dinge\nOrt: Großer Praktikumsraum Mechatronik\n\nhttps://lfuonline.uibk.ac.at/public/lfuonline_lv.details?sem_id_in=20S&lvnr_id_in=850357\n
CLASS:PUBLIC
DTSTART:20200320T073000Z
DTEND:20200320T160000Z
DTSTAMP:20260419T150826Z
LOCATION:Großer Praktikumsraum Mechatronik
END:VEVENT
BEGIN:VEVENT
UID:20S_850357_3558128@uibk.ac.at
ORGANIZER;CN="LFU:online Universität Innsbruck":MAILTO:Uni-Innsbruck-noreply@uibk.ac.at
SUMMARY:VU Industrielle Mechatronik 1 - Vertiefung: Internet der Dinge (LV 850357-0 20S)
DESCRIPTION:Lehrveranstaltung 850357 20S, Gruppe 0\nTitel: VU Industrielle Mechatronik 1 - Vertiefung: Internet der Dinge\nOrt: Großer Praktikumsraum Mechatronik\n\nhttps://lfuonline.uibk.ac.at/public/lfuonline_lv.details?sem_id_in=20S&lvnr_id_in=850357\n
CLASS:PUBLIC
DTSTART:20200327T073000Z
DTEND:20200327T160000Z
DTSTAMP:20260419T150826Z
LOCATION:Großer Praktikumsraum Mechatronik
END:VEVENT
END:VCALENDAR