BEGIN:VCALENDAR
VERSION:2.0
PRODID:-//Universität Innsbruck//LFU:online//DE
METHOD:PUBLISH
BEGIN:VEVENT
UID:21W_850501_3900501@uibk.ac.at
ORGANIZER;CN="LFU:online Universität Innsbruck":MAILTO:Uni-Innsbruck-noreply@uibk.ac.at
SUMMARY:VO Fertigungstechnik (LV 850501-0 21W)
DESCRIPTION:Lehrveranstaltung 850501 21W, Gruppe 0\nTitel: VO Fertigungstechnik\nOrt: eLecture - online\n\nhttps://lfuonline.uibk.ac.at/public/lfuonline_lv.details?sem_id_in=21W&lvnr_id_in=850501\n
CLASS:PUBLIC
DTSTART:20211005T081500Z
DTEND:20211005T100000Z
DTSTAMP:20260421T050621Z
LOCATION:eLecture - online
END:VEVENT
BEGIN:VEVENT
UID:21W_850501_3900502@uibk.ac.at
ORGANIZER;CN="LFU:online Universität Innsbruck":MAILTO:Uni-Innsbruck-noreply@uibk.ac.at
SUMMARY:VO Fertigungstechnik (LV 850501-0 21W)
DESCRIPTION:Lehrveranstaltung 850501 21W, Gruppe 0\nTitel: VO Fertigungstechnik\nOrt: eLecture - online\n\nhttps://lfuonline.uibk.ac.at/public/lfuonline_lv.details?sem_id_in=21W&lvnr_id_in=850501\n
CLASS:PUBLIC
DTSTART:20211012T081500Z
DTEND:20211012T100000Z
DTSTAMP:20260421T050621Z
LOCATION:eLecture - online
END:VEVENT
BEGIN:VEVENT
UID:21W_850501_3900503@uibk.ac.at
ORGANIZER;CN="LFU:online Universität Innsbruck":MAILTO:Uni-Innsbruck-noreply@uibk.ac.at
SUMMARY:VO Fertigungstechnik (LV 850501-0 21W)
DESCRIPTION:Lehrveranstaltung 850501 21W, Gruppe 0\nTitel: VO Fertigungstechnik\nOrt: eLecture - online\n\nhttps://lfuonline.uibk.ac.at/public/lfuonline_lv.details?sem_id_in=21W&lvnr_id_in=850501\n
CLASS:PUBLIC
DTSTART:20211019T081500Z
DTEND:20211019T100000Z
DTSTAMP:20260421T050621Z
LOCATION:eLecture - online
END:VEVENT
BEGIN:VEVENT
UID:21W_850501_3900504@uibk.ac.at
ORGANIZER;CN="LFU:online Universität Innsbruck":MAILTO:Uni-Innsbruck-noreply@uibk.ac.at
SUMMARY:VO Fertigungstechnik (LV 850501-0 21W)
DESCRIPTION:Lehrveranstaltung 850501 21W, Gruppe 0\nTitel: VO Fertigungstechnik\nOrt: eLecture - online\n\nhttps://lfuonline.uibk.ac.at/public/lfuonline_lv.details?sem_id_in=21W&lvnr_id_in=850501\n
CLASS:PUBLIC
DTSTART:20211109T091500Z
DTEND:20211109T110000Z
DTSTAMP:20260421T050621Z
LOCATION:eLecture - online
END:VEVENT
BEGIN:VEVENT
UID:21W_850501_3900505@uibk.ac.at
ORGANIZER;CN="LFU:online Universität Innsbruck":MAILTO:Uni-Innsbruck-noreply@uibk.ac.at
SUMMARY:VO Fertigungstechnik (LV 850501-0 21W)
DESCRIPTION:Lehrveranstaltung 850501 21W, Gruppe 0\nTitel: VO Fertigungstechnik\nOrt: eLecture - online\n\nhttps://lfuonline.uibk.ac.at/public/lfuonline_lv.details?sem_id_in=21W&lvnr_id_in=850501\n
CLASS:PUBLIC
DTSTART:20211116T091500Z
DTEND:20211116T110000Z
DTSTAMP:20260421T050621Z
LOCATION:eLecture - online
END:VEVENT
BEGIN:VEVENT
UID:21W_850501_3900506@uibk.ac.at
ORGANIZER;CN="LFU:online Universität Innsbruck":MAILTO:Uni-Innsbruck-noreply@uibk.ac.at
SUMMARY:VO Fertigungstechnik (LV 850501-0 21W)
DESCRIPTION:Lehrveranstaltung 850501 21W, Gruppe 0\nTitel: VO Fertigungstechnik\nOrt: eLecture - online\n\nhttps://lfuonline.uibk.ac.at/public/lfuonline_lv.details?sem_id_in=21W&lvnr_id_in=850501\n
CLASS:PUBLIC
DTSTART:20211123T091500Z
DTEND:20211123T110000Z
DTSTAMP:20260421T050621Z
LOCATION:eLecture - online
END:VEVENT
BEGIN:VEVENT
UID:21W_850501_3900507@uibk.ac.at
ORGANIZER;CN="LFU:online Universität Innsbruck":MAILTO:Uni-Innsbruck-noreply@uibk.ac.at
SUMMARY:VO Fertigungstechnik (LV 850501-0 21W)
DESCRIPTION:Lehrveranstaltung 850501 21W, Gruppe 0\nTitel: VO Fertigungstechnik\nOrt: eLecture - online\n\nhttps://lfuonline.uibk.ac.at/public/lfuonline_lv.details?sem_id_in=21W&lvnr_id_in=850501\n
CLASS:PUBLIC
DTSTART:20211130T091500Z
DTEND:20211130T110000Z
DTSTAMP:20260421T050621Z
LOCATION:eLecture - online
END:VEVENT
BEGIN:VEVENT
UID:21W_850501_3900508@uibk.ac.at
ORGANIZER;CN="LFU:online Universität Innsbruck":MAILTO:Uni-Innsbruck-noreply@uibk.ac.at
SUMMARY:VO Fertigungstechnik (LV 850501-0 21W)
DESCRIPTION:Lehrveranstaltung 850501 21W, Gruppe 0\nTitel: VO Fertigungstechnik\nOrt: eLecture - online\n\nhttps://lfuonline.uibk.ac.at/public/lfuonline_lv.details?sem_id_in=21W&lvnr_id_in=850501\n
CLASS:PUBLIC
DTSTART:20211207T091500Z
DTEND:20211207T110000Z
DTSTAMP:20260421T050621Z
LOCATION:eLecture - online
END:VEVENT
BEGIN:VEVENT
UID:21W_850501_3900509@uibk.ac.at
ORGANIZER;CN="LFU:online Universität Innsbruck":MAILTO:Uni-Innsbruck-noreply@uibk.ac.at
SUMMARY:VO Fertigungstechnik (LV 850501-0 21W)
DESCRIPTION:Lehrveranstaltung 850501 21W, Gruppe 0\nTitel: VO Fertigungstechnik\nOrt: eLecture - online\n\nhttps://lfuonline.uibk.ac.at/public/lfuonline_lv.details?sem_id_in=21W&lvnr_id_in=850501\n
CLASS:PUBLIC
DTSTART:20211214T091500Z
DTEND:20211214T110000Z
DTSTAMP:20260421T050621Z
LOCATION:eLecture - online
END:VEVENT
BEGIN:VEVENT
UID:21W_850501_3900510@uibk.ac.at
ORGANIZER;CN="LFU:online Universität Innsbruck":MAILTO:Uni-Innsbruck-noreply@uibk.ac.at
SUMMARY:VO Fertigungstechnik (LV 850501-0 21W)
DESCRIPTION:Lehrveranstaltung 850501 21W, Gruppe 0\nTitel: VO Fertigungstechnik\nOrt: eLecture - online\n\nhttps://lfuonline.uibk.ac.at/public/lfuonline_lv.details?sem_id_in=21W&lvnr_id_in=850501\n
CLASS:PUBLIC
DTSTART:20220111T091500Z
DTEND:20220111T110000Z
DTSTAMP:20260421T050621Z
LOCATION:eLecture - online
END:VEVENT
BEGIN:VEVENT
UID:21W_850501_3900511@uibk.ac.at
ORGANIZER;CN="LFU:online Universität Innsbruck":MAILTO:Uni-Innsbruck-noreply@uibk.ac.at
SUMMARY:VO Fertigungstechnik (LV 850501-0 21W)
DESCRIPTION:Lehrveranstaltung 850501 21W, Gruppe 0\nTitel: VO Fertigungstechnik\nOrt: eLecture - online\n\nhttps://lfuonline.uibk.ac.at/public/lfuonline_lv.details?sem_id_in=21W&lvnr_id_in=850501\n
CLASS:PUBLIC
DTSTART:20220118T091500Z
DTEND:20220118T110000Z
DTSTAMP:20260421T050621Z
LOCATION:eLecture - online
END:VEVENT
BEGIN:VEVENT
UID:21W_850501_3900512@uibk.ac.at
ORGANIZER;CN="LFU:online Universität Innsbruck":MAILTO:Uni-Innsbruck-noreply@uibk.ac.at
SUMMARY:VO Fertigungstechnik (LV 850501-0 21W)
DESCRIPTION:Lehrveranstaltung 850501 21W, Gruppe 0\nTitel: VO Fertigungstechnik\nOrt: eLecture - online\n\nhttps://lfuonline.uibk.ac.at/public/lfuonline_lv.details?sem_id_in=21W&lvnr_id_in=850501\n
CLASS:PUBLIC
DTSTART:20220125T091500Z
DTEND:20220125T110000Z
DTSTAMP:20260421T050621Z
LOCATION:eLecture - online
END:VEVENT
BEGIN:VEVENT
UID:21W_850501_3900513@uibk.ac.at
ORGANIZER;CN="LFU:online Universität Innsbruck":MAILTO:Uni-Innsbruck-noreply@uibk.ac.at
SUMMARY:VO Fertigungstechnik (LV 850501-0 21W)
DESCRIPTION:Lehrveranstaltung 850501 21W, Gruppe 0\nTitel: VO Fertigungstechnik\nOrt: HSB  3\n\nhttps://lfuonline.uibk.ac.at/public/lfuonline_lv.details?sem_id_in=21W&lvnr_id_in=850501\n
CLASS:PUBLIC
DTSTART:20220201T091500Z
DTEND:20220201T110000Z
DTSTAMP:20260421T050621Z
LOCATION:HSB  3
COMMENT:Prüfung
END:VEVENT
BEGIN:VEVENT
UID:21W_850501_4049843@uibk.ac.at
ORGANIZER;CN="LFU:online Universität Innsbruck":MAILTO:Uni-Innsbruck-noreply@uibk.ac.at
SUMMARY:VO Fertigungstechnik (LV 850501-0 21W)
DESCRIPTION:Lehrveranstaltung 850501 21W, Gruppe 0\nTitel: VO Fertigungstechnik\nOrt: HSB  3\n\nhttps://lfuonline.uibk.ac.at/public/lfuonline_lv.details?sem_id_in=21W&lvnr_id_in=850501\n
CLASS:PUBLIC
DTSTART:20220315T091500Z
DTEND:20220315T110000Z
DTSTAMP:20260421T050621Z
LOCATION:HSB  3
END:VEVENT
BEGIN:VEVENT
UID:21W_850501_4049844@uibk.ac.at
ORGANIZER;CN="LFU:online Universität Innsbruck":MAILTO:Uni-Innsbruck-noreply@uibk.ac.at
SUMMARY:VO Fertigungstechnik (LV 850501-0 21W)
DESCRIPTION:Lehrveranstaltung 850501 21W, Gruppe 0\nTitel: VO Fertigungstechnik\nOrt: HSB  3\n\nhttps://lfuonline.uibk.ac.at/public/lfuonline_lv.details?sem_id_in=21W&lvnr_id_in=850501\n
CLASS:PUBLIC
DTSTART:20220329T081500Z
DTEND:20220329T100000Z
DTSTAMP:20260421T050621Z
LOCATION:HSB  3
END:VEVENT
END:VCALENDAR