BEGIN:VCALENDAR
VERSION:2.0
PRODID:-//Universität Innsbruck//LFU:online//DE
METHOD:PUBLISH
BEGIN:VEVENT
UID:25S_850715_4776262@uibk.ac.at
ORGANIZER;CN="LFU:online Universität Innsbruck":MAILTO:Uni-Innsbruck-noreply@uibk.ac.at
SUMMARY:VU Elektromechanische Aktuatorik (LV 850715-0 25S)
DESCRIPTION:Lehrveranstaltung 850715 25S, Gruppe 0\nTitel: VU Elektromechanische Aktuatorik\nOrt: SR 12\n\nhttps://lfuonline.uibk.ac.at/public/lfuonline_lv.details?sem_id_in=25S&lvnr_id_in=850715\n
CLASS:PUBLIC
DTSTART:20250307T073000Z
DTEND:20250307T090000Z
DTSTAMP:20260423T051153Z
LOCATION:SR 12
END:VEVENT
BEGIN:VEVENT
UID:25S_850715_4776263@uibk.ac.at
ORGANIZER;CN="LFU:online Universität Innsbruck":MAILTO:Uni-Innsbruck-noreply@uibk.ac.at
SUMMARY:VU Elektromechanische Aktuatorik (LV 850715-0 25S)
DESCRIPTION:Lehrveranstaltung 850715 25S, Gruppe 0\nTitel: VU Elektromechanische Aktuatorik\nOrt: SR 12\n\nhttps://lfuonline.uibk.ac.at/public/lfuonline_lv.details?sem_id_in=25S&lvnr_id_in=850715\n
CLASS:PUBLIC
DTSTART:20250314T073000Z
DTEND:20250314T090000Z
DTSTAMP:20260423T051153Z
LOCATION:SR 12
END:VEVENT
BEGIN:VEVENT
UID:25S_850715_4776264@uibk.ac.at
ORGANIZER;CN="LFU:online Universität Innsbruck":MAILTO:Uni-Innsbruck-noreply@uibk.ac.at
SUMMARY:VU Elektromechanische Aktuatorik (LV 850715-0 25S)
DESCRIPTION:Lehrveranstaltung 850715 25S, Gruppe 0\nTitel: VU Elektromechanische Aktuatorik\nOrt: SR 12\n\nhttps://lfuonline.uibk.ac.at/public/lfuonline_lv.details?sem_id_in=25S&lvnr_id_in=850715\n
CLASS:PUBLIC
DTSTART:20250321T073000Z
DTEND:20250321T090000Z
DTSTAMP:20260423T051153Z
LOCATION:SR 12
END:VEVENT
BEGIN:VEVENT
UID:25S_850715_4776265@uibk.ac.at
ORGANIZER;CN="LFU:online Universität Innsbruck":MAILTO:Uni-Innsbruck-noreply@uibk.ac.at
SUMMARY:VU Elektromechanische Aktuatorik (LV 850715-0 25S)
DESCRIPTION:Lehrveranstaltung 850715 25S, Gruppe 0\nTitel: VU Elektromechanische Aktuatorik\nOrt: SR 12\n\nhttps://lfuonline.uibk.ac.at/public/lfuonline_lv.details?sem_id_in=25S&lvnr_id_in=850715\n
CLASS:PUBLIC
DTSTART:20250328T073000Z
DTEND:20250328T090000Z
DTSTAMP:20260423T051153Z
LOCATION:SR 12
END:VEVENT
BEGIN:VEVENT
UID:25S_850715_4776266@uibk.ac.at
ORGANIZER;CN="LFU:online Universität Innsbruck":MAILTO:Uni-Innsbruck-noreply@uibk.ac.at
SUMMARY:VU Elektromechanische Aktuatorik (LV 850715-0 25S)
DESCRIPTION:Lehrveranstaltung 850715 25S, Gruppe 0\nTitel: VU Elektromechanische Aktuatorik\nOrt: SR 12\n\nhttps://lfuonline.uibk.ac.at/public/lfuonline_lv.details?sem_id_in=25S&lvnr_id_in=850715\n
CLASS:PUBLIC
DTSTART:20250404T063000Z
DTEND:20250404T080000Z
DTSTAMP:20260423T051153Z
LOCATION:SR 12
END:VEVENT
BEGIN:VEVENT
UID:25S_850715_4776267@uibk.ac.at
ORGANIZER;CN="LFU:online Universität Innsbruck":MAILTO:Uni-Innsbruck-noreply@uibk.ac.at
SUMMARY:VU Elektromechanische Aktuatorik (LV 850715-0 25S)
DESCRIPTION:Lehrveranstaltung 850715 25S, Gruppe 0\nTitel: VU Elektromechanische Aktuatorik\nOrt: SR 12\n\nhttps://lfuonline.uibk.ac.at/public/lfuonline_lv.details?sem_id_in=25S&lvnr_id_in=850715\n
CLASS:PUBLIC
DTSTART:20250411T063000Z
DTEND:20250411T080000Z
DTSTAMP:20260423T051153Z
LOCATION:SR 12
END:VEVENT
BEGIN:VEVENT
UID:25S_850715_4776268@uibk.ac.at
ORGANIZER;CN="LFU:online Universität Innsbruck":MAILTO:Uni-Innsbruck-noreply@uibk.ac.at
SUMMARY:VU Elektromechanische Aktuatorik (LV 850715-0 25S)
DESCRIPTION:Lehrveranstaltung 850715 25S, Gruppe 0\nTitel: VU Elektromechanische Aktuatorik\nOrt: SR 12\n\nhttps://lfuonline.uibk.ac.at/public/lfuonline_lv.details?sem_id_in=25S&lvnr_id_in=850715\n
CLASS:PUBLIC
DTSTART:20250502T063000Z
DTEND:20250502T080000Z
DTSTAMP:20260423T051153Z
LOCATION:SR 12
END:VEVENT
BEGIN:VEVENT
UID:25S_850715_4776269@uibk.ac.at
ORGANIZER;CN="LFU:online Universität Innsbruck":MAILTO:Uni-Innsbruck-noreply@uibk.ac.at
SUMMARY:VU Elektromechanische Aktuatorik (LV 850715-0 25S)
DESCRIPTION:Lehrveranstaltung 850715 25S, Gruppe 0\nTitel: VU Elektromechanische Aktuatorik\nOrt: SR 12\n\nhttps://lfuonline.uibk.ac.at/public/lfuonline_lv.details?sem_id_in=25S&lvnr_id_in=850715\n
CLASS:PUBLIC
DTSTART:20250509T063000Z
DTEND:20250509T080000Z
DTSTAMP:20260423T051153Z
LOCATION:SR 12
END:VEVENT
BEGIN:VEVENT
UID:25S_850715_4776270@uibk.ac.at
ORGANIZER;CN="LFU:online Universität Innsbruck":MAILTO:Uni-Innsbruck-noreply@uibk.ac.at
SUMMARY:VU Elektromechanische Aktuatorik (LV 850715-0 25S)
DESCRIPTION:Lehrveranstaltung 850715 25S, Gruppe 0\nTitel: VU Elektromechanische Aktuatorik\nOrt: SR 12\n\nhttps://lfuonline.uibk.ac.at/public/lfuonline_lv.details?sem_id_in=25S&lvnr_id_in=850715\n
CLASS:PUBLIC
DTSTART:20250516T063000Z
DTEND:20250516T080000Z
DTSTAMP:20260423T051153Z
LOCATION:SR 12
END:VEVENT
BEGIN:VEVENT
UID:25S_850715_4776271@uibk.ac.at
ORGANIZER;CN="LFU:online Universität Innsbruck":MAILTO:Uni-Innsbruck-noreply@uibk.ac.at
SUMMARY:VU Elektromechanische Aktuatorik (LV 850715-0 25S)
DESCRIPTION:Lehrveranstaltung 850715 25S, Gruppe 0\nTitel: VU Elektromechanische Aktuatorik\nOrt: SR 12\n\nhttps://lfuonline.uibk.ac.at/public/lfuonline_lv.details?sem_id_in=25S&lvnr_id_in=850715\n
CLASS:PUBLIC
DTSTART:20250523T063000Z
DTEND:20250523T080000Z
DTSTAMP:20260423T051153Z
LOCATION:SR 12
END:VEVENT
BEGIN:VEVENT
UID:25S_850715_4776272@uibk.ac.at
ORGANIZER;CN="LFU:online Universität Innsbruck":MAILTO:Uni-Innsbruck-noreply@uibk.ac.at
SUMMARY:VU Elektromechanische Aktuatorik (LV 850715-0 25S)
DESCRIPTION:Lehrveranstaltung 850715 25S, Gruppe 0\nTitel: VU Elektromechanische Aktuatorik\nOrt: SR 12\n\nhttps://lfuonline.uibk.ac.at/public/lfuonline_lv.details?sem_id_in=25S&lvnr_id_in=850715\n
CLASS:PUBLIC
DTSTART:20250530T063000Z
DTEND:20250530T080000Z
DTSTAMP:20260423T051153Z
LOCATION:SR 12
END:VEVENT
BEGIN:VEVENT
UID:25S_850715_4776273@uibk.ac.at
ORGANIZER;CN="LFU:online Universität Innsbruck":MAILTO:Uni-Innsbruck-noreply@uibk.ac.at
SUMMARY:VU Elektromechanische Aktuatorik (LV 850715-0 25S)
DESCRIPTION:Lehrveranstaltung 850715 25S, Gruppe 0\nTitel: VU Elektromechanische Aktuatorik\nOrt: SR 12\n\nhttps://lfuonline.uibk.ac.at/public/lfuonline_lv.details?sem_id_in=25S&lvnr_id_in=850715\n
CLASS:PUBLIC
DTSTART:20250606T063000Z
DTEND:20250606T080000Z
DTSTAMP:20260423T051153Z
LOCATION:SR 12
END:VEVENT
BEGIN:VEVENT
UID:25S_850715_4776274@uibk.ac.at
ORGANIZER;CN="LFU:online Universität Innsbruck":MAILTO:Uni-Innsbruck-noreply@uibk.ac.at
SUMMARY:VU Elektromechanische Aktuatorik (LV 850715-0 25S)
DESCRIPTION:Lehrveranstaltung 850715 25S, Gruppe 0\nTitel: VU Elektromechanische Aktuatorik\nOrt: SR 12\n\nhttps://lfuonline.uibk.ac.at/public/lfuonline_lv.details?sem_id_in=25S&lvnr_id_in=850715\n
CLASS:PUBLIC
DTSTART:20250613T063000Z
DTEND:20250613T080000Z
DTSTAMP:20260423T051153Z
LOCATION:SR 12
END:VEVENT
BEGIN:VEVENT
UID:25S_850715_4776275@uibk.ac.at
ORGANIZER;CN="LFU:online Universität Innsbruck":MAILTO:Uni-Innsbruck-noreply@uibk.ac.at
SUMMARY:VU Elektromechanische Aktuatorik (LV 850715-0 25S)
DESCRIPTION:Lehrveranstaltung 850715 25S, Gruppe 0\nTitel: VU Elektromechanische Aktuatorik\nOrt: SR 12\n\nhttps://lfuonline.uibk.ac.at/public/lfuonline_lv.details?sem_id_in=25S&lvnr_id_in=850715\n
CLASS:PUBLIC
DTSTART:20250620T061500Z
DTEND:20250620T074500Z
DTSTAMP:20260423T051153Z
LOCATION:SR 12
END:VEVENT
BEGIN:VEVENT
UID:25S_850715_4776276@uibk.ac.at
ORGANIZER;CN="LFU:online Universität Innsbruck":MAILTO:Uni-Innsbruck-noreply@uibk.ac.at
SUMMARY:VU Elektromechanische Aktuatorik (LV 850715-0 25S)
DESCRIPTION:Lehrveranstaltung 850715 25S, Gruppe 0\nTitel: VU Elektromechanische Aktuatorik\nOrt: SR 12\n\nhttps://lfuonline.uibk.ac.at/public/lfuonline_lv.details?sem_id_in=25S&lvnr_id_in=850715\n
CLASS:PUBLIC
DTSTART:20250627T063000Z
DTEND:20250627T080000Z
DTSTAMP:20260423T051153Z
LOCATION:SR 12
END:VEVENT
BEGIN:VEVENT
UID:25S_850715_4940908@uibk.ac.at
ORGANIZER;CN="LFU:online Universität Innsbruck":MAILTO:Uni-Innsbruck-noreply@uibk.ac.at
SUMMARY:VU Elektromechanische Aktuatorik (LV 850715-0 25S)
DESCRIPTION:Lehrveranstaltung 850715 25S, Gruppe 0\nTitel: VU Elektromechanische Aktuatorik\nOrt: HSB  8\n\nhttps://lfuonline.uibk.ac.at/public/lfuonline_lv.details?sem_id_in=25S&lvnr_id_in=850715\n
CLASS:PUBLIC
DTSTART:20250926T070000Z
DTEND:20250926T090000Z
DTSTAMP:20260423T051153Z
LOCATION:HSB  8
COMMENT:Prüfung
END:VEVENT
END:VCALENDAR