BEGIN:VCALENDAR
VERSION:2.0
PRODID:-//Universität Innsbruck//LFU:online//DE
METHOD:PUBLISH
BEGIN:VEVENT
UID:23S_930011_4234013@uibk.ac.at
ORGANIZER;CN="LFU:online Universität Innsbruck":MAILTO:Uni-Innsbruck-noreply@uibk.ac.at
SUMMARY:Lektüreseminar politikwissenschaftliche Geschlechterforschung: Femininistisch-marxistische Theorien (LV 930011-0 23S)
DESCRIPTION:Lehrveranstaltung 930011 23S, Gruppe 0\nTitel: Lektüreseminar politikwissenschaftliche Geschlechterforschung: Femininistisch-marxistische Theorien\nOrt: MS (Theologie)\n\nhttps://lfuonline.uibk.ac.at/public/lfuonline_lv.details?sem_id_in=23S&lvnr_id_in=930011\n
CLASS:PUBLIC
DTSTART:20230307T140000Z
DTEND:20230307T153000Z
DTSTAMP:20260419T121610Z
LOCATION:MS (Theologie)
END:VEVENT
BEGIN:VEVENT
UID:23S_930011_4234014@uibk.ac.at
ORGANIZER;CN="LFU:online Universität Innsbruck":MAILTO:Uni-Innsbruck-noreply@uibk.ac.at
SUMMARY:Lektüreseminar politikwissenschaftliche Geschlechterforschung: Femininistisch-marxistische Theorien (LV 930011-0 23S)
DESCRIPTION:Lehrveranstaltung 930011 23S, Gruppe 0\nTitel: Lektüreseminar politikwissenschaftliche Geschlechterforschung: Femininistisch-marxistische Theorien\nOrt: MS (Theologie)\n\nhttps://lfuonline.uibk.ac.at/public/lfuonline_lv.details?sem_id_in=23S&lvnr_id_in=930011\n
CLASS:PUBLIC
DTSTART:20230314T140000Z
DTEND:20230314T153000Z
DTSTAMP:20260419T121610Z
LOCATION:MS (Theologie)
END:VEVENT
BEGIN:VEVENT
UID:23S_930011_4234015@uibk.ac.at
ORGANIZER;CN="LFU:online Universität Innsbruck":MAILTO:Uni-Innsbruck-noreply@uibk.ac.at
SUMMARY:Lektüreseminar politikwissenschaftliche Geschlechterforschung: Femininistisch-marxistische Theorien (LV 930011-0 23S)
DESCRIPTION:Lehrveranstaltung 930011 23S, Gruppe 0\nTitel: Lektüreseminar politikwissenschaftliche Geschlechterforschung: Femininistisch-marxistische Theorien\nOrt: MS (Theologie)\n\nhttps://lfuonline.uibk.ac.at/public/lfuonline_lv.details?sem_id_in=23S&lvnr_id_in=930011\n
CLASS:PUBLIC
DTSTART:20230321T140000Z
DTEND:20230321T153000Z
DTSTAMP:20260419T121610Z
LOCATION:MS (Theologie)
END:VEVENT
BEGIN:VEVENT
UID:23S_930011_4234016@uibk.ac.at
ORGANIZER;CN="LFU:online Universität Innsbruck":MAILTO:Uni-Innsbruck-noreply@uibk.ac.at
SUMMARY:Lektüreseminar politikwissenschaftliche Geschlechterforschung: Femininistisch-marxistische Theorien (LV 930011-0 23S)
DESCRIPTION:Lehrveranstaltung 930011 23S, Gruppe 0\nTitel: Lektüreseminar politikwissenschaftliche Geschlechterforschung: Femininistisch-marxistische Theorien\nOrt: MS (Theologie)\n\nhttps://lfuonline.uibk.ac.at/public/lfuonline_lv.details?sem_id_in=23S&lvnr_id_in=930011\n
CLASS:PUBLIC
DTSTART:20230328T130000Z
DTEND:20230328T143000Z
DTSTAMP:20260419T121610Z
LOCATION:MS (Theologie)
END:VEVENT
BEGIN:VEVENT
UID:23S_930011_4234017@uibk.ac.at
ORGANIZER;CN="LFU:online Universität Innsbruck":MAILTO:Uni-Innsbruck-noreply@uibk.ac.at
SUMMARY:Lektüreseminar politikwissenschaftliche Geschlechterforschung: Femininistisch-marxistische Theorien (LV 930011-0 23S)
DESCRIPTION:Lehrveranstaltung 930011 23S, Gruppe 0\nTitel: Lektüreseminar politikwissenschaftliche Geschlechterforschung: Femininistisch-marxistische Theorien\nOrt: MS (Theologie)\n\nhttps://lfuonline.uibk.ac.at/public/lfuonline_lv.details?sem_id_in=23S&lvnr_id_in=930011\n
CLASS:PUBLIC
DTSTART:20230418T130000Z
DTEND:20230418T143000Z
DTSTAMP:20260419T121610Z
LOCATION:MS (Theologie)
END:VEVENT
BEGIN:VEVENT
UID:23S_930011_4234018@uibk.ac.at
ORGANIZER;CN="LFU:online Universität Innsbruck":MAILTO:Uni-Innsbruck-noreply@uibk.ac.at
SUMMARY:Lektüreseminar politikwissenschaftliche Geschlechterforschung: Femininistisch-marxistische Theorien (LV 930011-0 23S)
DESCRIPTION:Lehrveranstaltung 930011 23S, Gruppe 0\nTitel: Lektüreseminar politikwissenschaftliche Geschlechterforschung: Femininistisch-marxistische Theorien\nOrt: MS (Theologie)\n\nhttps://lfuonline.uibk.ac.at/public/lfuonline_lv.details?sem_id_in=23S&lvnr_id_in=930011\n
CLASS:PUBLIC
DTSTART:20230425T130000Z
DTEND:20230425T143000Z
DTSTAMP:20260419T121610Z
LOCATION:MS (Theologie)
END:VEVENT
BEGIN:VEVENT
UID:23S_930011_4234019@uibk.ac.at
ORGANIZER;CN="LFU:online Universität Innsbruck":MAILTO:Uni-Innsbruck-noreply@uibk.ac.at
SUMMARY:Lektüreseminar politikwissenschaftliche Geschlechterforschung: Femininistisch-marxistische Theorien (LV 930011-0 23S)
DESCRIPTION:Lehrveranstaltung 930011 23S, Gruppe 0\nTitel: Lektüreseminar politikwissenschaftliche Geschlechterforschung: Femininistisch-marxistische Theorien\nOrt: MS (Theologie)\n\nhttps://lfuonline.uibk.ac.at/public/lfuonline_lv.details?sem_id_in=23S&lvnr_id_in=930011\n
CLASS:PUBLIC
DTSTART:20230502T130000Z
DTEND:20230502T143000Z
DTSTAMP:20260419T121610Z
LOCATION:MS (Theologie)
END:VEVENT
BEGIN:VEVENT
UID:23S_930011_4234020@uibk.ac.at
ORGANIZER;CN="LFU:online Universität Innsbruck":MAILTO:Uni-Innsbruck-noreply@uibk.ac.at
SUMMARY:Lektüreseminar politikwissenschaftliche Geschlechterforschung: Femininistisch-marxistische Theorien (LV 930011-0 23S)
DESCRIPTION:Lehrveranstaltung 930011 23S, Gruppe 0\nTitel: Lektüreseminar politikwissenschaftliche Geschlechterforschung: Femininistisch-marxistische Theorien\nOrt: MS (Theologie)\n\nhttps://lfuonline.uibk.ac.at/public/lfuonline_lv.details?sem_id_in=23S&lvnr_id_in=930011\n
CLASS:PUBLIC
DTSTART:20230509T130000Z
DTEND:20230509T143000Z
DTSTAMP:20260419T121610Z
LOCATION:MS (Theologie)
END:VEVENT
BEGIN:VEVENT
UID:23S_930011_4234021@uibk.ac.at
ORGANIZER;CN="LFU:online Universität Innsbruck":MAILTO:Uni-Innsbruck-noreply@uibk.ac.at
SUMMARY:Lektüreseminar politikwissenschaftliche Geschlechterforschung: Femininistisch-marxistische Theorien (LV 930011-0 23S)
DESCRIPTION:Lehrveranstaltung 930011 23S, Gruppe 0\nTitel: Lektüreseminar politikwissenschaftliche Geschlechterforschung: Femininistisch-marxistische Theorien\nOrt: MS (Theologie)\n\nhttps://lfuonline.uibk.ac.at/public/lfuonline_lv.details?sem_id_in=23S&lvnr_id_in=930011\n
CLASS:PUBLIC
DTSTART:20230516T130000Z
DTEND:20230516T143000Z
DTSTAMP:20260419T121610Z
LOCATION:MS (Theologie)
END:VEVENT
BEGIN:VEVENT
UID:23S_930011_4234022@uibk.ac.at
ORGANIZER;CN="LFU:online Universität Innsbruck":MAILTO:Uni-Innsbruck-noreply@uibk.ac.at
SUMMARY:Lektüreseminar politikwissenschaftliche Geschlechterforschung: Femininistisch-marxistische Theorien (LV 930011-0 23S)
DESCRIPTION:Lehrveranstaltung 930011 23S, Gruppe 0\nTitel: Lektüreseminar politikwissenschaftliche Geschlechterforschung: Femininistisch-marxistische Theorien\nOrt: MS (Theologie)\n\nhttps://lfuonline.uibk.ac.at/public/lfuonline_lv.details?sem_id_in=23S&lvnr_id_in=930011\n
CLASS:PUBLIC
DTSTART:20230523T130000Z
DTEND:20230523T143000Z
DTSTAMP:20260419T121610Z
LOCATION:MS (Theologie)
END:VEVENT
BEGIN:VEVENT
UID:23S_930011_4234023@uibk.ac.at
ORGANIZER;CN="LFU:online Universität Innsbruck":MAILTO:Uni-Innsbruck-noreply@uibk.ac.at
SUMMARY:Lektüreseminar politikwissenschaftliche Geschlechterforschung: Femininistisch-marxistische Theorien (LV 930011-0 23S)
DESCRIPTION:Lehrveranstaltung 930011 23S, Gruppe 0\nTitel: Lektüreseminar politikwissenschaftliche Geschlechterforschung: Femininistisch-marxistische Theorien\nOrt: MS (Theologie)\n\nhttps://lfuonline.uibk.ac.at/public/lfuonline_lv.details?sem_id_in=23S&lvnr_id_in=930011\n
CLASS:PUBLIC
DTSTART:20230530T130000Z
DTEND:20230530T143000Z
DTSTAMP:20260419T121610Z
LOCATION:MS (Theologie)
END:VEVENT
BEGIN:VEVENT
UID:23S_930011_4234024@uibk.ac.at
ORGANIZER;CN="LFU:online Universität Innsbruck":MAILTO:Uni-Innsbruck-noreply@uibk.ac.at
SUMMARY:Lektüreseminar politikwissenschaftliche Geschlechterforschung: Femininistisch-marxistische Theorien (LV 930011-0 23S)
DESCRIPTION:Lehrveranstaltung 930011 23S, Gruppe 0\nTitel: Lektüreseminar politikwissenschaftliche Geschlechterforschung: Femininistisch-marxistische Theorien\nOrt: MS (Theologie)\n\nhttps://lfuonline.uibk.ac.at/public/lfuonline_lv.details?sem_id_in=23S&lvnr_id_in=930011\n
CLASS:PUBLIC
DTSTART:20230606T130000Z
DTEND:20230606T143000Z
DTSTAMP:20260419T121610Z
LOCATION:MS (Theologie)
END:VEVENT
BEGIN:VEVENT
UID:23S_930011_4234025@uibk.ac.at
ORGANIZER;CN="LFU:online Universität Innsbruck":MAILTO:Uni-Innsbruck-noreply@uibk.ac.at
SUMMARY:Lektüreseminar politikwissenschaftliche Geschlechterforschung: Femininistisch-marxistische Theorien (LV 930011-0 23S)
DESCRIPTION:Lehrveranstaltung 930011 23S, Gruppe 0\nTitel: Lektüreseminar politikwissenschaftliche Geschlechterforschung: Femininistisch-marxistische Theorien\nOrt: MS (Theologie)\n\nhttps://lfuonline.uibk.ac.at/public/lfuonline_lv.details?sem_id_in=23S&lvnr_id_in=930011\n
CLASS:PUBLIC
DTSTART:20230613T130000Z
DTEND:20230613T143000Z
DTSTAMP:20260419T121610Z
LOCATION:MS (Theologie)
END:VEVENT
BEGIN:VEVENT
UID:23S_930011_4234026@uibk.ac.at
ORGANIZER;CN="LFU:online Universität Innsbruck":MAILTO:Uni-Innsbruck-noreply@uibk.ac.at
SUMMARY:Lektüreseminar politikwissenschaftliche Geschlechterforschung: Femininistisch-marxistische Theorien (LV 930011-0 23S)
DESCRIPTION:Lehrveranstaltung 930011 23S, Gruppe 0\nTitel: Lektüreseminar politikwissenschaftliche Geschlechterforschung: Femininistisch-marxistische Theorien\nOrt: MS (Theologie)\n\nhttps://lfuonline.uibk.ac.at/public/lfuonline_lv.details?sem_id_in=23S&lvnr_id_in=930011\n
CLASS:PUBLIC
DTSTART:20230620T130000Z
DTEND:20230620T143000Z
DTSTAMP:20260419T121610Z
LOCATION:MS (Theologie)
END:VEVENT
BEGIN:VEVENT
UID:23S_930011_4234027@uibk.ac.at
ORGANIZER;CN="LFU:online Universität Innsbruck":MAILTO:Uni-Innsbruck-noreply@uibk.ac.at
SUMMARY:Lektüreseminar politikwissenschaftliche Geschlechterforschung: Femininistisch-marxistische Theorien (LV 930011-0 23S)
DESCRIPTION:Lehrveranstaltung 930011 23S, Gruppe 0\nTitel: Lektüreseminar politikwissenschaftliche Geschlechterforschung: Femininistisch-marxistische Theorien\nOrt: MS (Theologie)\n\nhttps://lfuonline.uibk.ac.at/public/lfuonline_lv.details?sem_id_in=23S&lvnr_id_in=930011\n
CLASS:PUBLIC
DTSTART:20230627T130000Z
DTEND:20230627T143000Z
DTSTAMP:20260419T121610Z
LOCATION:MS (Theologie)
END:VEVENT
END:VCALENDAR