BEGIN:VCALENDAR
VERSION:2.0
PRODID:-//Universität Innsbruck//LFU:online//DE
METHOD:PUBLISH
BEGIN:VEVENT
UID:24S_966209_4510118@uibk.ac.at
ORGANIZER;CN="LFU:online Universität Innsbruck":MAILTO:Uni-Innsbruck-noreply@uibk.ac.at
SUMMARY:UE Deutsch für das Studium II: c (LV 966209-0 24S)
DESCRIPTION:Lehrveranstaltung 966209 24S, Gruppe 0\nTitel: UE Deutsch für das Studium II: c\nOrt: Seminarraum EG004 (Grauer Bär)\n\nhttps://lfuonline.uibk.ac.at/public/lfuonline_lv.details?sem_id_in=24S&lvnr_id_in=966209\n
CLASS:PUBLIC
DTSTART:20240311T084500Z
DTEND:20240311T101500Z
DTSTAMP:20260422T042320Z
LOCATION:Seminarraum EG004 (Grauer Bär)
END:VEVENT
BEGIN:VEVENT
UID:24S_966209_4510162@uibk.ac.at
ORGANIZER;CN="LFU:online Universität Innsbruck":MAILTO:Uni-Innsbruck-noreply@uibk.ac.at
SUMMARY:UE Deutsch für das Studium II: c (LV 966209-0 24S)
DESCRIPTION:Lehrveranstaltung 966209 24S, Gruppe 0\nTitel: UE Deutsch für das Studium II: c\nOrt: Seminarraum EG004 (Grauer Bär)\n\nhttps://lfuonline.uibk.ac.at/public/lfuonline_lv.details?sem_id_in=24S&lvnr_id_in=966209\n
CLASS:PUBLIC
DTSTART:20240313T121500Z
DTEND:20240313T134500Z
DTSTAMP:20260422T042320Z
LOCATION:Seminarraum EG004 (Grauer Bär)
END:VEVENT
BEGIN:VEVENT
UID:24S_966209_4510119@uibk.ac.at
ORGANIZER;CN="LFU:online Universität Innsbruck":MAILTO:Uni-Innsbruck-noreply@uibk.ac.at
SUMMARY:UE Deutsch für das Studium II: c (LV 966209-0 24S)
DESCRIPTION:Lehrveranstaltung 966209 24S, Gruppe 0\nTitel: UE Deutsch für das Studium II: c\nOrt: Seminarraum EG004 (Grauer Bär)\n\nhttps://lfuonline.uibk.ac.at/public/lfuonline_lv.details?sem_id_in=24S&lvnr_id_in=966209\n
CLASS:PUBLIC
DTSTART:20240318T084500Z
DTEND:20240318T101500Z
DTSTAMP:20260422T042320Z
LOCATION:Seminarraum EG004 (Grauer Bär)
END:VEVENT
BEGIN:VEVENT
UID:24S_966209_4510163@uibk.ac.at
ORGANIZER;CN="LFU:online Universität Innsbruck":MAILTO:Uni-Innsbruck-noreply@uibk.ac.at
SUMMARY:UE Deutsch für das Studium II: c (LV 966209-0 24S)
DESCRIPTION:Lehrveranstaltung 966209 24S, Gruppe 0\nTitel: UE Deutsch für das Studium II: c\nOrt: Seminarraum EG004 (Grauer Bär)\n\nhttps://lfuonline.uibk.ac.at/public/lfuonline_lv.details?sem_id_in=24S&lvnr_id_in=966209\n
CLASS:PUBLIC
DTSTART:20240320T121500Z
DTEND:20240320T134500Z
DTSTAMP:20260422T042320Z
LOCATION:Seminarraum EG004 (Grauer Bär)
END:VEVENT
BEGIN:VEVENT
UID:24S_966209_4510120@uibk.ac.at
ORGANIZER;CN="LFU:online Universität Innsbruck":MAILTO:Uni-Innsbruck-noreply@uibk.ac.at
SUMMARY:UE Deutsch für das Studium II: c (LV 966209-0 24S)
DESCRIPTION:Lehrveranstaltung 966209 24S, Gruppe 0\nTitel: UE Deutsch für das Studium II: c\nOrt: Seminarraum EG004 (Grauer Bär)\n\nhttps://lfuonline.uibk.ac.at/public/lfuonline_lv.details?sem_id_in=24S&lvnr_id_in=966209\n
CLASS:PUBLIC
DTSTART:20240408T074500Z
DTEND:20240408T091500Z
DTSTAMP:20260422T042320Z
LOCATION:Seminarraum EG004 (Grauer Bär)
END:VEVENT
BEGIN:VEVENT
UID:24S_966209_4510164@uibk.ac.at
ORGANIZER;CN="LFU:online Universität Innsbruck":MAILTO:Uni-Innsbruck-noreply@uibk.ac.at
SUMMARY:UE Deutsch für das Studium II: c (LV 966209-0 24S)
DESCRIPTION:Lehrveranstaltung 966209 24S, Gruppe 0\nTitel: UE Deutsch für das Studium II: c\nOrt: Seminarraum EG004 (Grauer Bär)\n\nhttps://lfuonline.uibk.ac.at/public/lfuonline_lv.details?sem_id_in=24S&lvnr_id_in=966209\n
CLASS:PUBLIC
DTSTART:20240410T111500Z
DTEND:20240410T124500Z
DTSTAMP:20260422T042320Z
LOCATION:Seminarraum EG004 (Grauer Bär)
END:VEVENT
BEGIN:VEVENT
UID:24S_966209_4510121@uibk.ac.at
ORGANIZER;CN="LFU:online Universität Innsbruck":MAILTO:Uni-Innsbruck-noreply@uibk.ac.at
SUMMARY:UE Deutsch für das Studium II: c (LV 966209-0 24S)
DESCRIPTION:Lehrveranstaltung 966209 24S, Gruppe 0\nTitel: UE Deutsch für das Studium II: c\nOrt: Seminarraum EG004 (Grauer Bär)\n\nhttps://lfuonline.uibk.ac.at/public/lfuonline_lv.details?sem_id_in=24S&lvnr_id_in=966209\n
CLASS:PUBLIC
DTSTART:20240415T074500Z
DTEND:20240415T091500Z
DTSTAMP:20260422T042320Z
LOCATION:Seminarraum EG004 (Grauer Bär)
END:VEVENT
BEGIN:VEVENT
UID:24S_966209_4510165@uibk.ac.at
ORGANIZER;CN="LFU:online Universität Innsbruck":MAILTO:Uni-Innsbruck-noreply@uibk.ac.at
SUMMARY:UE Deutsch für das Studium II: c (LV 966209-0 24S)
DESCRIPTION:Lehrveranstaltung 966209 24S, Gruppe 0\nTitel: UE Deutsch für das Studium II: c\nOrt: Seminarraum EG004 (Grauer Bär)\n\nhttps://lfuonline.uibk.ac.at/public/lfuonline_lv.details?sem_id_in=24S&lvnr_id_in=966209\n
CLASS:PUBLIC
DTSTART:20240417T111500Z
DTEND:20240417T124500Z
DTSTAMP:20260422T042320Z
LOCATION:Seminarraum EG004 (Grauer Bär)
END:VEVENT
BEGIN:VEVENT
UID:24S_966209_4510122@uibk.ac.at
ORGANIZER;CN="LFU:online Universität Innsbruck":MAILTO:Uni-Innsbruck-noreply@uibk.ac.at
SUMMARY:UE Deutsch für das Studium II: c (LV 966209-0 24S)
DESCRIPTION:Lehrveranstaltung 966209 24S, Gruppe 0\nTitel: UE Deutsch für das Studium II: c\nOrt: Seminarraum EG004 (Grauer Bär)\n\nhttps://lfuonline.uibk.ac.at/public/lfuonline_lv.details?sem_id_in=24S&lvnr_id_in=966209\n
CLASS:PUBLIC
DTSTART:20240422T074500Z
DTEND:20240422T091500Z
DTSTAMP:20260422T042320Z
LOCATION:Seminarraum EG004 (Grauer Bär)
END:VEVENT
BEGIN:VEVENT
UID:24S_966209_4590900@uibk.ac.at
ORGANIZER;CN="LFU:online Universität Innsbruck":MAILTO:Uni-Innsbruck-noreply@uibk.ac.at
SUMMARY:UE Deutsch für das Studium II: c (LV 966209-0 24S)
DESCRIPTION:Lehrveranstaltung 966209 24S, Gruppe 0\nTitel: UE Deutsch für das Studium II: c\nOrt: Seminarraum EG002 (Grauer Bär)\n\nhttps://lfuonline.uibk.ac.at/public/lfuonline_lv.details?sem_id_in=24S&lvnr_id_in=966209\n
CLASS:PUBLIC
DTSTART:20240424T093000Z
DTEND:20240424T110000Z
DTSTAMP:20260422T042320Z
LOCATION:Seminarraum EG002 (Grauer Bär)
END:VEVENT
BEGIN:VEVENT
UID:24S_966209_4510166@uibk.ac.at
ORGANIZER;CN="LFU:online Universität Innsbruck":MAILTO:Uni-Innsbruck-noreply@uibk.ac.at
SUMMARY:UE Deutsch für das Studium II: c (LV 966209-0 24S)
DESCRIPTION:Lehrveranstaltung 966209 24S, Gruppe 0\nTitel: UE Deutsch für das Studium II: c\nOrt: Seminarraum EG004 (Grauer Bär)\n\nhttps://lfuonline.uibk.ac.at/public/lfuonline_lv.details?sem_id_in=24S&lvnr_id_in=966209\n
CLASS:PUBLIC
DTSTART:20240424T111500Z
DTEND:20240424T124500Z
DTSTAMP:20260422T042320Z
LOCATION:Seminarraum EG004 (Grauer Bär)
END:VEVENT
BEGIN:VEVENT
UID:24S_966209_4510123@uibk.ac.at
ORGANIZER;CN="LFU:online Universität Innsbruck":MAILTO:Uni-Innsbruck-noreply@uibk.ac.at
SUMMARY:UE Deutsch für das Studium II: c (LV 966209-0 24S)
DESCRIPTION:Lehrveranstaltung 966209 24S, Gruppe 0\nTitel: UE Deutsch für das Studium II: c\nOrt: Seminarraum EG004 (Grauer Bär)\n\nhttps://lfuonline.uibk.ac.at/public/lfuonline_lv.details?sem_id_in=24S&lvnr_id_in=966209\n
CLASS:PUBLIC
DTSTART:20240429T074500Z
DTEND:20240429T091500Z
DTSTAMP:20260422T042320Z
LOCATION:Seminarraum EG004 (Grauer Bär)
END:VEVENT
BEGIN:VEVENT
UID:24S_966209_4510124@uibk.ac.at
ORGANIZER;CN="LFU:online Universität Innsbruck":MAILTO:Uni-Innsbruck-noreply@uibk.ac.at
SUMMARY:UE Deutsch für das Studium II: c (LV 966209-0 24S)
DESCRIPTION:Lehrveranstaltung 966209 24S, Gruppe 0\nTitel: UE Deutsch für das Studium II: c\nOrt: Seminarraum EG004 (Grauer Bär)\n\nhttps://lfuonline.uibk.ac.at/public/lfuonline_lv.details?sem_id_in=24S&lvnr_id_in=966209\n
CLASS:PUBLIC
DTSTART:20240506T074500Z
DTEND:20240506T091500Z
DTSTAMP:20260422T042320Z
LOCATION:Seminarraum EG004 (Grauer Bär)
END:VEVENT
BEGIN:VEVENT
UID:24S_966209_4510167@uibk.ac.at
ORGANIZER;CN="LFU:online Universität Innsbruck":MAILTO:Uni-Innsbruck-noreply@uibk.ac.at
SUMMARY:UE Deutsch für das Studium II: c (LV 966209-0 24S)
DESCRIPTION:Lehrveranstaltung 966209 24S, Gruppe 0\nTitel: UE Deutsch für das Studium II: c\nOrt: Seminarraum EG004 (Grauer Bär)\n\nhttps://lfuonline.uibk.ac.at/public/lfuonline_lv.details?sem_id_in=24S&lvnr_id_in=966209\n
CLASS:PUBLIC
DTSTART:20240508T111500Z
DTEND:20240508T124500Z
DTSTAMP:20260422T042320Z
LOCATION:Seminarraum EG004 (Grauer Bär)
END:VEVENT
BEGIN:VEVENT
UID:24S_966209_4510125@uibk.ac.at
ORGANIZER;CN="LFU:online Universität Innsbruck":MAILTO:Uni-Innsbruck-noreply@uibk.ac.at
SUMMARY:UE Deutsch für das Studium II: c (LV 966209-0 24S)
DESCRIPTION:Lehrveranstaltung 966209 24S, Gruppe 0\nTitel: UE Deutsch für das Studium II: c\nOrt: Seminarraum EG004 (Grauer Bär)\n\nhttps://lfuonline.uibk.ac.at/public/lfuonline_lv.details?sem_id_in=24S&lvnr_id_in=966209\n
CLASS:PUBLIC
DTSTART:20240513T074500Z
DTEND:20240513T091500Z
DTSTAMP:20260422T042320Z
LOCATION:Seminarraum EG004 (Grauer Bär)
END:VEVENT
BEGIN:VEVENT
UID:24S_966209_4510168@uibk.ac.at
ORGANIZER;CN="LFU:online Universität Innsbruck":MAILTO:Uni-Innsbruck-noreply@uibk.ac.at
SUMMARY:UE Deutsch für das Studium II: c (LV 966209-0 24S)
DESCRIPTION:Lehrveranstaltung 966209 24S, Gruppe 0\nTitel: UE Deutsch für das Studium II: c\nOrt: Seminarraum EG004 (Grauer Bär)\n\nhttps://lfuonline.uibk.ac.at/public/lfuonline_lv.details?sem_id_in=24S&lvnr_id_in=966209\n
CLASS:PUBLIC
DTSTART:20240515T111500Z
DTEND:20240515T124500Z
DTSTAMP:20260422T042320Z
LOCATION:Seminarraum EG004 (Grauer Bär)
END:VEVENT
BEGIN:VEVENT
UID:24S_966209_4510169@uibk.ac.at
ORGANIZER;CN="LFU:online Universität Innsbruck":MAILTO:Uni-Innsbruck-noreply@uibk.ac.at
SUMMARY:UE Deutsch für das Studium II: c (LV 966209-0 24S)
DESCRIPTION:Lehrveranstaltung 966209 24S, Gruppe 0\nTitel: UE Deutsch für das Studium II: c\nOrt: Seminarraum EG004 (Grauer Bär)\n\nhttps://lfuonline.uibk.ac.at/public/lfuonline_lv.details?sem_id_in=24S&lvnr_id_in=966209\n
CLASS:PUBLIC
DTSTART:20240522T111500Z
DTEND:20240522T124500Z
DTSTAMP:20260422T042320Z
LOCATION:Seminarraum EG004 (Grauer Bär)
END:VEVENT
BEGIN:VEVENT
UID:24S_966209_4510126@uibk.ac.at
ORGANIZER;CN="LFU:online Universität Innsbruck":MAILTO:Uni-Innsbruck-noreply@uibk.ac.at
SUMMARY:UE Deutsch für das Studium II: c (LV 966209-0 24S)
DESCRIPTION:Lehrveranstaltung 966209 24S, Gruppe 0\nTitel: UE Deutsch für das Studium II: c\nOrt: Seminarraum EG004 (Grauer Bär)\n\nhttps://lfuonline.uibk.ac.at/public/lfuonline_lv.details?sem_id_in=24S&lvnr_id_in=966209\n
CLASS:PUBLIC
DTSTART:20240527T074500Z
DTEND:20240527T091500Z
DTSTAMP:20260422T042320Z
LOCATION:Seminarraum EG004 (Grauer Bär)
END:VEVENT
BEGIN:VEVENT
UID:24S_966209_4510170@uibk.ac.at
ORGANIZER;CN="LFU:online Universität Innsbruck":MAILTO:Uni-Innsbruck-noreply@uibk.ac.at
SUMMARY:UE Deutsch für das Studium II: c (LV 966209-0 24S)
DESCRIPTION:Lehrveranstaltung 966209 24S, Gruppe 0\nTitel: UE Deutsch für das Studium II: c\nOrt: Seminarraum EG004 (Grauer Bär)\n\nhttps://lfuonline.uibk.ac.at/public/lfuonline_lv.details?sem_id_in=24S&lvnr_id_in=966209\n
CLASS:PUBLIC
DTSTART:20240529T111500Z
DTEND:20240529T124500Z
DTSTAMP:20260422T042320Z
LOCATION:Seminarraum EG004 (Grauer Bär)
END:VEVENT
BEGIN:VEVENT
UID:24S_966209_4510127@uibk.ac.at
ORGANIZER;CN="LFU:online Universität Innsbruck":MAILTO:Uni-Innsbruck-noreply@uibk.ac.at
SUMMARY:UE Deutsch für das Studium II: c (LV 966209-0 24S)
DESCRIPTION:Lehrveranstaltung 966209 24S, Gruppe 0\nTitel: UE Deutsch für das Studium II: c\nOrt: Seminarraum EG004 (Grauer Bär)\n\nhttps://lfuonline.uibk.ac.at/public/lfuonline_lv.details?sem_id_in=24S&lvnr_id_in=966209\n
CLASS:PUBLIC
DTSTART:20240603T074500Z
DTEND:20240603T091500Z
DTSTAMP:20260422T042320Z
LOCATION:Seminarraum EG004 (Grauer Bär)
END:VEVENT
BEGIN:VEVENT
UID:24S_966209_4510171@uibk.ac.at
ORGANIZER;CN="LFU:online Universität Innsbruck":MAILTO:Uni-Innsbruck-noreply@uibk.ac.at
SUMMARY:UE Deutsch für das Studium II: c (LV 966209-0 24S)
DESCRIPTION:Lehrveranstaltung 966209 24S, Gruppe 0\nTitel: UE Deutsch für das Studium II: c\nOrt: Seminarraum EG004 (Grauer Bär)\n\nhttps://lfuonline.uibk.ac.at/public/lfuonline_lv.details?sem_id_in=24S&lvnr_id_in=966209\n
CLASS:PUBLIC
DTSTART:20240605T111500Z
DTEND:20240605T124500Z
DTSTAMP:20260422T042320Z
LOCATION:Seminarraum EG004 (Grauer Bär)
END:VEVENT
BEGIN:VEVENT
UID:24S_966209_4510128@uibk.ac.at
ORGANIZER;CN="LFU:online Universität Innsbruck":MAILTO:Uni-Innsbruck-noreply@uibk.ac.at
SUMMARY:UE Deutsch für das Studium II: c (LV 966209-0 24S)
DESCRIPTION:Lehrveranstaltung 966209 24S, Gruppe 0\nTitel: UE Deutsch für das Studium II: c\nOrt: Seminarraum EG004 (Grauer Bär)\n\nhttps://lfuonline.uibk.ac.at/public/lfuonline_lv.details?sem_id_in=24S&lvnr_id_in=966209\n
CLASS:PUBLIC
DTSTART:20240610T074500Z
DTEND:20240610T091500Z
DTSTAMP:20260422T042320Z
LOCATION:Seminarraum EG004 (Grauer Bär)
END:VEVENT
BEGIN:VEVENT
UID:24S_966209_4510172@uibk.ac.at
ORGANIZER;CN="LFU:online Universität Innsbruck":MAILTO:Uni-Innsbruck-noreply@uibk.ac.at
SUMMARY:UE Deutsch für das Studium II: c (LV 966209-0 24S)
DESCRIPTION:Lehrveranstaltung 966209 24S, Gruppe 0\nTitel: UE Deutsch für das Studium II: c\nOrt: Seminarraum EG004 (Grauer Bär)\n\nhttps://lfuonline.uibk.ac.at/public/lfuonline_lv.details?sem_id_in=24S&lvnr_id_in=966209\n
CLASS:PUBLIC
DTSTART:20240612T111500Z
DTEND:20240612T124500Z
DTSTAMP:20260422T042320Z
LOCATION:Seminarraum EG004 (Grauer Bär)
END:VEVENT
BEGIN:VEVENT
UID:24S_966209_4510129@uibk.ac.at
ORGANIZER;CN="LFU:online Universität Innsbruck":MAILTO:Uni-Innsbruck-noreply@uibk.ac.at
SUMMARY:UE Deutsch für das Studium II: c (LV 966209-0 24S)
DESCRIPTION:Lehrveranstaltung 966209 24S, Gruppe 0\nTitel: UE Deutsch für das Studium II: c\nOrt: Seminarraum EG004 (Grauer Bär)\n\nhttps://lfuonline.uibk.ac.at/public/lfuonline_lv.details?sem_id_in=24S&lvnr_id_in=966209\n
CLASS:PUBLIC
DTSTART:20240617T074500Z
DTEND:20240617T091500Z
DTSTAMP:20260422T042320Z
LOCATION:Seminarraum EG004 (Grauer Bär)
END:VEVENT
BEGIN:VEVENT
UID:24S_966209_4510173@uibk.ac.at
ORGANIZER;CN="LFU:online Universität Innsbruck":MAILTO:Uni-Innsbruck-noreply@uibk.ac.at
SUMMARY:UE Deutsch für das Studium II: c (LV 966209-0 24S)
DESCRIPTION:Lehrveranstaltung 966209 24S, Gruppe 0\nTitel: UE Deutsch für das Studium II: c\nOrt: Seminarraum EG004 (Grauer Bär)\n\nhttps://lfuonline.uibk.ac.at/public/lfuonline_lv.details?sem_id_in=24S&lvnr_id_in=966209\n
CLASS:PUBLIC
DTSTART:20240619T111500Z
DTEND:20240619T124500Z
DTSTAMP:20260422T042320Z
LOCATION:Seminarraum EG004 (Grauer Bär)
END:VEVENT
BEGIN:VEVENT
UID:24S_966209_4510130@uibk.ac.at
ORGANIZER;CN="LFU:online Universität Innsbruck":MAILTO:Uni-Innsbruck-noreply@uibk.ac.at
SUMMARY:UE Deutsch für das Studium II: c (LV 966209-0 24S)
DESCRIPTION:Lehrveranstaltung 966209 24S, Gruppe 0\nTitel: UE Deutsch für das Studium II: c\nOrt: Seminarraum EG004 (Grauer Bär)\n\nhttps://lfuonline.uibk.ac.at/public/lfuonline_lv.details?sem_id_in=24S&lvnr_id_in=966209\n
CLASS:PUBLIC
DTSTART:20240624T074500Z
DTEND:20240624T091500Z
DTSTAMP:20260422T042320Z
LOCATION:Seminarraum EG004 (Grauer Bär)
END:VEVENT
BEGIN:VEVENT
UID:24S_966209_4510174@uibk.ac.at
ORGANIZER;CN="LFU:online Universität Innsbruck":MAILTO:Uni-Innsbruck-noreply@uibk.ac.at
SUMMARY:UE Deutsch für das Studium II: c (LV 966209-0 24S)
DESCRIPTION:Lehrveranstaltung 966209 24S, Gruppe 0\nTitel: UE Deutsch für das Studium II: c\nOrt: Seminarraum EG004 (Grauer Bär)\n\nhttps://lfuonline.uibk.ac.at/public/lfuonline_lv.details?sem_id_in=24S&lvnr_id_in=966209\n
CLASS:PUBLIC
DTSTART:20240626T111500Z
DTEND:20240626T124500Z
DTSTAMP:20260422T042320Z
LOCATION:Seminarraum EG004 (Grauer Bär)
END:VEVENT
BEGIN:VEVENT
UID:24S_966209_4510117@uibk.ac.at
ORGANIZER;CN="LFU:online Universität Innsbruck":MAILTO:Uni-Innsbruck-noreply@uibk.ac.at
SUMMARY:UE Deutsch für das Studium II: c (LV 966209-0 24S)
DESCRIPTION:Lehrveranstaltung 966209 24S, Gruppe 0\nTitel: UE Deutsch für das Studium II: c\nOrt: Seminarraum EG004 (Grauer Bär)\n\nhttps://lfuonline.uibk.ac.at/public/lfuonline_lv.details?sem_id_in=24S&lvnr_id_in=966209\n
CLASS:PUBLIC
DTSTART:20240701T074500Z
DTEND:20240701T091500Z
DTSTAMP:20260422T042320Z
LOCATION:Seminarraum EG004 (Grauer Bär)
END:VEVENT
BEGIN:VEVENT
UID:24S_966209_4590741@uibk.ac.at
ORGANIZER;CN="LFU:online Universität Innsbruck":MAILTO:Uni-Innsbruck-noreply@uibk.ac.at
SUMMARY:UE Deutsch für das Studium II: c (LV 966209-0 24S)
DESCRIPTION:Lehrveranstaltung 966209 24S, Gruppe 0\nTitel: UE Deutsch für das Studium II: c\nOrt: Hörsaal 6\n\nhttps://lfuonline.uibk.ac.at/public/lfuonline_lv.details?sem_id_in=24S&lvnr_id_in=966209\n
CLASS:PUBLIC
DTSTART:20240701T110000Z
DTEND:20240701T130000Z
DTSTAMP:20260422T042320Z
LOCATION:Hörsaal 6
COMMENT:Prüfungstermin
END:VEVENT
BEGIN:VEVENT
UID:24S_966209_4510161@uibk.ac.at
ORGANIZER;CN="LFU:online Universität Innsbruck":MAILTO:Uni-Innsbruck-noreply@uibk.ac.at
SUMMARY:UE Deutsch für das Studium II: c (LV 966209-0 24S)
DESCRIPTION:Lehrveranstaltung 966209 24S, Gruppe 0\nTitel: UE Deutsch für das Studium II: c\nOrt: Seminarraum EG004 (Grauer Bär)\n\nhttps://lfuonline.uibk.ac.at/public/lfuonline_lv.details?sem_id_in=24S&lvnr_id_in=966209\n
CLASS:PUBLIC
DTSTART:20240703T111500Z
DTEND:20240703T124500Z
DTSTAMP:20260422T042320Z
LOCATION:Seminarraum EG004 (Grauer Bär)
END:VEVENT
BEGIN:VEVENT
UID:24S_966209_4692004@uibk.ac.at
ORGANIZER;CN="LFU:online Universität Innsbruck":MAILTO:Uni-Innsbruck-noreply@uibk.ac.at
SUMMARY:UE Deutsch für das Studium II: c (LV 966209-0 24S)
DESCRIPTION:Lehrveranstaltung 966209 24S, Gruppe 0\nTitel: UE Deutsch für das Studium II: c\nOrt: 40935 SR\n\nhttps://lfuonline.uibk.ac.at/public/lfuonline_lv.details?sem_id_in=24S&lvnr_id_in=966209\n
CLASS:PUBLIC
DTSTART:20240819T080000Z
DTEND:20240819T100000Z
DTSTAMP:20260422T042320Z
LOCATION:40935 SR
COMMENT:Wiederholungsprüfung
END:VEVENT
BEGIN:VEVENT
UID:24S_966209_4701976@uibk.ac.at
ORGANIZER;CN="LFU:online Universität Innsbruck":MAILTO:Uni-Innsbruck-noreply@uibk.ac.at
SUMMARY:UE Deutsch für das Studium II: c (LV 966209-0 24S)
DESCRIPTION:Lehrveranstaltung 966209 24S, Gruppe 0\nTitel: UE Deutsch für das Studium II: c\nOrt: Seminarraum EG002 (Grauer Bär)\n\nhttps://lfuonline.uibk.ac.at/public/lfuonline_lv.details?sem_id_in=24S&lvnr_id_in=966209\n
CLASS:PUBLIC
DTSTART:20240925T070000Z
DTEND:20240925T100000Z
DTSTAMP:20260422T042320Z
LOCATION:Seminarraum EG002 (Grauer Bär)
COMMENT:Wiederholungsprüfung
END:VEVENT
END:VCALENDAR