BEGIN:VCALENDAR
VERSION:2.0
PRODID:-//Universität Innsbruck//LFU:online//DE
METHOD:PUBLISH
BEGIN:VEVENT
UID:23S_198870_4261792@uibk.ac.at
ORGANIZER;CN="LFU:online Universität Innsbruck":MAILTO:Uni-Innsbruck-noreply@uibk.ac.at
SUMMARY:VU Aspekte der Digitalisierung: Spezielle Themen in Ethik und Digitalisierung (LV 198870-1 23S)
DESCRIPTION:Lehrveranstaltung 198870 23S, Gruppe 1\nTitel: VU Aspekte der Digitalisierung: Spezielle Themen in Ethik und Digitalisierung\nOrt: eLecture - online\n\nhttps://lfuonline.uibk.ac.at/public/lfuonline_lv.details?sem_id_in=23S&lvnr_id_in=198870\n
CLASS:PUBLIC
DTSTART:20230307T071500Z
DTEND:20230307T100000Z
DTSTAMP:20260425T033430Z
LOCATION:eLecture - online
END:VEVENT
BEGIN:VEVENT
UID:23S_198870_4261793@uibk.ac.at
ORGANIZER;CN="LFU:online Universität Innsbruck":MAILTO:Uni-Innsbruck-noreply@uibk.ac.at
SUMMARY:VU Aspekte der Digitalisierung: Spezielle Themen in Ethik und Digitalisierung (LV 198870-1 23S)
DESCRIPTION:Lehrveranstaltung 198870 23S, Gruppe 1\nTitel: VU Aspekte der Digitalisierung: Spezielle Themen in Ethik und Digitalisierung\nOrt: eLecture - online\n\nhttps://lfuonline.uibk.ac.at/public/lfuonline_lv.details?sem_id_in=23S&lvnr_id_in=198870\n
CLASS:PUBLIC
DTSTART:20230314T071500Z
DTEND:20230314T100000Z
DTSTAMP:20260425T033430Z
LOCATION:eLecture - online
END:VEVENT
BEGIN:VEVENT
UID:23S_198870_4261794@uibk.ac.at
ORGANIZER;CN="LFU:online Universität Innsbruck":MAILTO:Uni-Innsbruck-noreply@uibk.ac.at
SUMMARY:VU Aspekte der Digitalisierung: Spezielle Themen in Ethik und Digitalisierung (LV 198870-1 23S)
DESCRIPTION:Lehrveranstaltung 198870 23S, Gruppe 1\nTitel: VU Aspekte der Digitalisierung: Spezielle Themen in Ethik und Digitalisierung\nOrt: eLecture - online\n\nhttps://lfuonline.uibk.ac.at/public/lfuonline_lv.details?sem_id_in=23S&lvnr_id_in=198870\n
CLASS:PUBLIC
DTSTART:20230321T071500Z
DTEND:20230321T100000Z
DTSTAMP:20260425T033430Z
LOCATION:eLecture - online
END:VEVENT
BEGIN:VEVENT
UID:23S_198870_4261795@uibk.ac.at
ORGANIZER;CN="LFU:online Universität Innsbruck":MAILTO:Uni-Innsbruck-noreply@uibk.ac.at
SUMMARY:VU Aspekte der Digitalisierung: Spezielle Themen in Ethik und Digitalisierung (LV 198870-1 23S)
DESCRIPTION:Lehrveranstaltung 198870 23S, Gruppe 1\nTitel: VU Aspekte der Digitalisierung: Spezielle Themen in Ethik und Digitalisierung\nOrt: eLecture - online\n\nhttps://lfuonline.uibk.ac.at/public/lfuonline_lv.details?sem_id_in=23S&lvnr_id_in=198870\n
CLASS:PUBLIC
DTSTART:20230328T061500Z
DTEND:20230328T090000Z
DTSTAMP:20260425T033430Z
LOCATION:eLecture - online
END:VEVENT
BEGIN:VEVENT
UID:23S_198870_4261796@uibk.ac.at
ORGANIZER;CN="LFU:online Universität Innsbruck":MAILTO:Uni-Innsbruck-noreply@uibk.ac.at
SUMMARY:VU Aspekte der Digitalisierung: Spezielle Themen in Ethik und Digitalisierung (LV 198870-1 23S)
DESCRIPTION:Lehrveranstaltung 198870 23S, Gruppe 1\nTitel: VU Aspekte der Digitalisierung: Spezielle Themen in Ethik und Digitalisierung\nOrt: eLecture - online\n\nhttps://lfuonline.uibk.ac.at/public/lfuonline_lv.details?sem_id_in=23S&lvnr_id_in=198870\n
CLASS:PUBLIC
DTSTART:20230418T061500Z
DTEND:20230418T090000Z
DTSTAMP:20260425T033430Z
LOCATION:eLecture - online
END:VEVENT
BEGIN:VEVENT
UID:23S_198870_4261797@uibk.ac.at
ORGANIZER;CN="LFU:online Universität Innsbruck":MAILTO:Uni-Innsbruck-noreply@uibk.ac.at
SUMMARY:VU Aspekte der Digitalisierung: Spezielle Themen in Ethik und Digitalisierung (LV 198870-1 23S)
DESCRIPTION:Lehrveranstaltung 198870 23S, Gruppe 1\nTitel: VU Aspekte der Digitalisierung: Spezielle Themen in Ethik und Digitalisierung\nOrt: eLecture - online\n\nhttps://lfuonline.uibk.ac.at/public/lfuonline_lv.details?sem_id_in=23S&lvnr_id_in=198870\n
CLASS:PUBLIC
DTSTART:20230425T061500Z
DTEND:20230425T090000Z
DTSTAMP:20260425T033430Z
LOCATION:eLecture - online
END:VEVENT
BEGIN:VEVENT
UID:23S_198870_4261798@uibk.ac.at
ORGANIZER;CN="LFU:online Universität Innsbruck":MAILTO:Uni-Innsbruck-noreply@uibk.ac.at
SUMMARY:VU Aspekte der Digitalisierung: Spezielle Themen in Ethik und Digitalisierung (LV 198870-1 23S)
DESCRIPTION:Lehrveranstaltung 198870 23S, Gruppe 1\nTitel: VU Aspekte der Digitalisierung: Spezielle Themen in Ethik und Digitalisierung\nOrt: eLecture - online\n\nhttps://lfuonline.uibk.ac.at/public/lfuonline_lv.details?sem_id_in=23S&lvnr_id_in=198870\n
CLASS:PUBLIC
DTSTART:20230502T061500Z
DTEND:20230502T090000Z
DTSTAMP:20260425T033430Z
LOCATION:eLecture - online
END:VEVENT
BEGIN:VEVENT
UID:23S_198870_4261799@uibk.ac.at
ORGANIZER;CN="LFU:online Universität Innsbruck":MAILTO:Uni-Innsbruck-noreply@uibk.ac.at
SUMMARY:VU Aspekte der Digitalisierung: Spezielle Themen in Ethik und Digitalisierung (LV 198870-1 23S)
DESCRIPTION:Lehrveranstaltung 198870 23S, Gruppe 1\nTitel: VU Aspekte der Digitalisierung: Spezielle Themen in Ethik und Digitalisierung\nOrt: eLecture - online\n\nhttps://lfuonline.uibk.ac.at/public/lfuonline_lv.details?sem_id_in=23S&lvnr_id_in=198870\n
CLASS:PUBLIC
DTSTART:20230509T061500Z
DTEND:20230509T090000Z
DTSTAMP:20260425T033430Z
LOCATION:eLecture - online
END:VEVENT
BEGIN:VEVENT
UID:23S_198870_4261800@uibk.ac.at
ORGANIZER;CN="LFU:online Universität Innsbruck":MAILTO:Uni-Innsbruck-noreply@uibk.ac.at
SUMMARY:VU Aspekte der Digitalisierung: Spezielle Themen in Ethik und Digitalisierung (LV 198870-1 23S)
DESCRIPTION:Lehrveranstaltung 198870 23S, Gruppe 1\nTitel: VU Aspekte der Digitalisierung: Spezielle Themen in Ethik und Digitalisierung\nOrt: eLecture - online\n\nhttps://lfuonline.uibk.ac.at/public/lfuonline_lv.details?sem_id_in=23S&lvnr_id_in=198870\n
CLASS:PUBLIC
DTSTART:20230516T061500Z
DTEND:20230516T090000Z
DTSTAMP:20260425T033430Z
LOCATION:eLecture - online
END:VEVENT
BEGIN:VEVENT
UID:23S_198870_4261801@uibk.ac.at
ORGANIZER;CN="LFU:online Universität Innsbruck":MAILTO:Uni-Innsbruck-noreply@uibk.ac.at
SUMMARY:VU Aspekte der Digitalisierung: Spezielle Themen in Ethik und Digitalisierung (LV 198870-1 23S)
DESCRIPTION:Lehrveranstaltung 198870 23S, Gruppe 1\nTitel: VU Aspekte der Digitalisierung: Spezielle Themen in Ethik und Digitalisierung\nOrt: eLecture - online\n\nhttps://lfuonline.uibk.ac.at/public/lfuonline_lv.details?sem_id_in=23S&lvnr_id_in=198870\n
CLASS:PUBLIC
DTSTART:20230523T061500Z
DTEND:20230523T090000Z
DTSTAMP:20260425T033430Z
LOCATION:eLecture - online
END:VEVENT
BEGIN:VEVENT
UID:23S_198870_4261802@uibk.ac.at
ORGANIZER;CN="LFU:online Universität Innsbruck":MAILTO:Uni-Innsbruck-noreply@uibk.ac.at
SUMMARY:VU Aspekte der Digitalisierung: Spezielle Themen in Ethik und Digitalisierung (LV 198870-1 23S)
DESCRIPTION:Lehrveranstaltung 198870 23S, Gruppe 1\nTitel: VU Aspekte der Digitalisierung: Spezielle Themen in Ethik und Digitalisierung\nOrt: eLecture - online\n\nhttps://lfuonline.uibk.ac.at/public/lfuonline_lv.details?sem_id_in=23S&lvnr_id_in=198870\n
CLASS:PUBLIC
DTSTART:20230530T061500Z
DTEND:20230530T090000Z
DTSTAMP:20260425T033430Z
LOCATION:eLecture - online
END:VEVENT
BEGIN:VEVENT
UID:23S_198870_4261803@uibk.ac.at
ORGANIZER;CN="LFU:online Universität Innsbruck":MAILTO:Uni-Innsbruck-noreply@uibk.ac.at
SUMMARY:VU Aspekte der Digitalisierung: Spezielle Themen in Ethik und Digitalisierung (LV 198870-1 23S)
DESCRIPTION:Lehrveranstaltung 198870 23S, Gruppe 1\nTitel: VU Aspekte der Digitalisierung: Spezielle Themen in Ethik und Digitalisierung\nOrt: eLecture - online\n\nhttps://lfuonline.uibk.ac.at/public/lfuonline_lv.details?sem_id_in=23S&lvnr_id_in=198870\n
CLASS:PUBLIC
DTSTART:20230606T061500Z
DTEND:20230606T090000Z
DTSTAMP:20260425T033430Z
LOCATION:eLecture - online
END:VEVENT
BEGIN:VEVENT
UID:23S_198870_4261804@uibk.ac.at
ORGANIZER;CN="LFU:online Universität Innsbruck":MAILTO:Uni-Innsbruck-noreply@uibk.ac.at
SUMMARY:VU Aspekte der Digitalisierung: Spezielle Themen in Ethik und Digitalisierung (LV 198870-1 23S)
DESCRIPTION:Lehrveranstaltung 198870 23S, Gruppe 1\nTitel: VU Aspekte der Digitalisierung: Spezielle Themen in Ethik und Digitalisierung\nOrt: eLecture - online\n\nhttps://lfuonline.uibk.ac.at/public/lfuonline_lv.details?sem_id_in=23S&lvnr_id_in=198870\n
CLASS:PUBLIC
DTSTART:20230613T061500Z
DTEND:20230613T090000Z
DTSTAMP:20260425T033430Z
LOCATION:eLecture - online
END:VEVENT
BEGIN:VEVENT
UID:23S_198870_4261805@uibk.ac.at
ORGANIZER;CN="LFU:online Universität Innsbruck":MAILTO:Uni-Innsbruck-noreply@uibk.ac.at
SUMMARY:VU Aspekte der Digitalisierung: Spezielle Themen in Ethik und Digitalisierung (LV 198870-1 23S)
DESCRIPTION:Lehrveranstaltung 198870 23S, Gruppe 1\nTitel: VU Aspekte der Digitalisierung: Spezielle Themen in Ethik und Digitalisierung\nOrt: eLecture - online\n\nhttps://lfuonline.uibk.ac.at/public/lfuonline_lv.details?sem_id_in=23S&lvnr_id_in=198870\n
CLASS:PUBLIC
DTSTART:20230620T061500Z
DTEND:20230620T090000Z
DTSTAMP:20260425T033430Z
LOCATION:eLecture - online
END:VEVENT
BEGIN:VEVENT
UID:23S_198870_4261806@uibk.ac.at
ORGANIZER;CN="LFU:online Universität Innsbruck":MAILTO:Uni-Innsbruck-noreply@uibk.ac.at
SUMMARY:VU Aspekte der Digitalisierung: Spezielle Themen in Ethik und Digitalisierung (LV 198870-1 23S)
DESCRIPTION:Lehrveranstaltung 198870 23S, Gruppe 1\nTitel: VU Aspekte der Digitalisierung: Spezielle Themen in Ethik und Digitalisierung\nOrt: eLecture - online\n\nhttps://lfuonline.uibk.ac.at/public/lfuonline_lv.details?sem_id_in=23S&lvnr_id_in=198870\n
CLASS:PUBLIC
DTSTART:20230627T061500Z
DTEND:20230627T090000Z
DTSTAMP:20260425T033430Z
LOCATION:eLecture - online
END:VEVENT
END:VCALENDAR