BEGIN:VCALENDAR
VERSION:2.0
PRODID:-//Universität Innsbruck//LFU:online//DE
METHOD:PUBLISH
BEGIN:VEVENT
UID:20W_627300_3627573@uibk.ac.at
ORGANIZER;CN="LFU:online Universität Innsbruck":MAILTO:Uni-Innsbruck-noreply@uibk.ac.at
SUMMARY:VU Einführung in das Testen und Bewerten im Fremdsprachenunterricht (3 Gruppen) (LV 627300-1 20W)
DESCRIPTION:Lehrveranstaltung 627300 20W, Gruppe 1\nTitel: VU Einführung in das Testen und Bewerten im Fremdsprachenunterricht (3 Gruppen)\nOrt: eLecture - online\n\nhttps://lfuonline.uibk.ac.at/public/lfuonline_lv.details?sem_id_in=20W&lvnr_id_in=627300\n
CLASS:PUBLIC
DTSTART:20201007T133000Z
DTEND:20201007T150000Z
DTSTAMP:20260419T213457Z
LOCATION:eLecture - online
END:VEVENT
BEGIN:VEVENT
UID:20W_627300_3627846@uibk.ac.at
ORGANIZER;CN="LFU:online Universität Innsbruck":MAILTO:Uni-Innsbruck-noreply@uibk.ac.at
SUMMARY:VU Einführung in das Testen und Bewerten im Fremdsprachenunterricht (3 Gruppen) (LV 627300-1 20W)
DESCRIPTION:Lehrveranstaltung 627300 20W, Gruppe 1\nTitel: VU Einführung in das Testen und Bewerten im Fremdsprachenunterricht (3 Gruppen)\nOrt: eLecture - online\n\nhttps://lfuonline.uibk.ac.at/public/lfuonline_lv.details?sem_id_in=20W&lvnr_id_in=627300\n
CLASS:PUBLIC
DTSTART:20201010T063000Z
DTEND:20201010T094500Z
DTSTAMP:20260419T213457Z
LOCATION:eLecture - online
END:VEVENT
BEGIN:VEVENT
UID:20W_627300_3627574@uibk.ac.at
ORGANIZER;CN="LFU:online Universität Innsbruck":MAILTO:Uni-Innsbruck-noreply@uibk.ac.at
SUMMARY:VU Einführung in das Testen und Bewerten im Fremdsprachenunterricht (3 Gruppen) (LV 627300-1 20W)
DESCRIPTION:Lehrveranstaltung 627300 20W, Gruppe 1\nTitel: VU Einführung in das Testen und Bewerten im Fremdsprachenunterricht (3 Gruppen)\nOrt: eLecture - online\n\nhttps://lfuonline.uibk.ac.at/public/lfuonline_lv.details?sem_id_in=20W&lvnr_id_in=627300\n
CLASS:PUBLIC
DTSTART:20201014T133000Z
DTEND:20201014T150000Z
DTSTAMP:20260419T213457Z
LOCATION:eLecture - online
END:VEVENT
BEGIN:VEVENT
UID:20W_627300_3627575@uibk.ac.at
ORGANIZER;CN="LFU:online Universität Innsbruck":MAILTO:Uni-Innsbruck-noreply@uibk.ac.at
SUMMARY:VU Einführung in das Testen und Bewerten im Fremdsprachenunterricht (3 Gruppen) (LV 627300-1 20W)
DESCRIPTION:Lehrveranstaltung 627300 20W, Gruppe 1\nTitel: VU Einführung in das Testen und Bewerten im Fremdsprachenunterricht (3 Gruppen)\nOrt: eLecture - online\n\nhttps://lfuonline.uibk.ac.at/public/lfuonline_lv.details?sem_id_in=20W&lvnr_id_in=627300\n
CLASS:PUBLIC
DTSTART:20201021T133000Z
DTEND:20201021T150000Z
DTSTAMP:20260419T213457Z
LOCATION:eLecture - online
END:VEVENT
BEGIN:VEVENT
UID:20W_627300_3627576@uibk.ac.at
ORGANIZER;CN="LFU:online Universität Innsbruck":MAILTO:Uni-Innsbruck-noreply@uibk.ac.at
SUMMARY:VU Einführung in das Testen und Bewerten im Fremdsprachenunterricht (3 Gruppen) (LV 627300-1 20W)
DESCRIPTION:Lehrveranstaltung 627300 20W, Gruppe 1\nTitel: VU Einführung in das Testen und Bewerten im Fremdsprachenunterricht (3 Gruppen)\nOrt: eLecture - online\n\nhttps://lfuonline.uibk.ac.at/public/lfuonline_lv.details?sem_id_in=20W&lvnr_id_in=627300\n
CLASS:PUBLIC
DTSTART:20201104T143000Z
DTEND:20201104T160000Z
DTSTAMP:20260419T213457Z
LOCATION:eLecture - online
END:VEVENT
BEGIN:VEVENT
UID:20W_627300_3627577@uibk.ac.at
ORGANIZER;CN="LFU:online Universität Innsbruck":MAILTO:Uni-Innsbruck-noreply@uibk.ac.at
SUMMARY:VU Einführung in das Testen und Bewerten im Fremdsprachenunterricht (3 Gruppen) (LV 627300-1 20W)
DESCRIPTION:Lehrveranstaltung 627300 20W, Gruppe 1\nTitel: VU Einführung in das Testen und Bewerten im Fremdsprachenunterricht (3 Gruppen)\nOrt: eLecture - online\n\nhttps://lfuonline.uibk.ac.at/public/lfuonline_lv.details?sem_id_in=20W&lvnr_id_in=627300\n
CLASS:PUBLIC
DTSTART:20201111T143000Z
DTEND:20201111T160000Z
DTSTAMP:20260419T213457Z
LOCATION:eLecture - online
END:VEVENT
BEGIN:VEVENT
UID:20W_627300_3627578@uibk.ac.at
ORGANIZER;CN="LFU:online Universität Innsbruck":MAILTO:Uni-Innsbruck-noreply@uibk.ac.at
SUMMARY:VU Einführung in das Testen und Bewerten im Fremdsprachenunterricht (3 Gruppen) (LV 627300-1 20W)
DESCRIPTION:Lehrveranstaltung 627300 20W, Gruppe 1\nTitel: VU Einführung in das Testen und Bewerten im Fremdsprachenunterricht (3 Gruppen)\nOrt: eLecture - online\n\nhttps://lfuonline.uibk.ac.at/public/lfuonline_lv.details?sem_id_in=20W&lvnr_id_in=627300\n
CLASS:PUBLIC
DTSTART:20201118T143000Z
DTEND:20201118T160000Z
DTSTAMP:20260419T213457Z
LOCATION:eLecture - online
END:VEVENT
BEGIN:VEVENT
UID:20W_627300_3627579@uibk.ac.at
ORGANIZER;CN="LFU:online Universität Innsbruck":MAILTO:Uni-Innsbruck-noreply@uibk.ac.at
SUMMARY:VU Einführung in das Testen und Bewerten im Fremdsprachenunterricht (3 Gruppen) (LV 627300-1 20W)
DESCRIPTION:Lehrveranstaltung 627300 20W, Gruppe 1\nTitel: VU Einführung in das Testen und Bewerten im Fremdsprachenunterricht (3 Gruppen)\nOrt: eLecture - online\n\nhttps://lfuonline.uibk.ac.at/public/lfuonline_lv.details?sem_id_in=20W&lvnr_id_in=627300\n
CLASS:PUBLIC
DTSTART:20201125T143000Z
DTEND:20201125T160000Z
DTSTAMP:20260419T213457Z
LOCATION:eLecture - online
END:VEVENT
BEGIN:VEVENT
UID:20W_627300_3627580@uibk.ac.at
ORGANIZER;CN="LFU:online Universität Innsbruck":MAILTO:Uni-Innsbruck-noreply@uibk.ac.at
SUMMARY:VU Einführung in das Testen und Bewerten im Fremdsprachenunterricht (3 Gruppen) (LV 627300-1 20W)
DESCRIPTION:Lehrveranstaltung 627300 20W, Gruppe 1\nTitel: VU Einführung in das Testen und Bewerten im Fremdsprachenunterricht (3 Gruppen)\nOrt: eLecture - online\n\nhttps://lfuonline.uibk.ac.at/public/lfuonline_lv.details?sem_id_in=20W&lvnr_id_in=627300\n
CLASS:PUBLIC
DTSTART:20201202T143000Z
DTEND:20201202T160000Z
DTSTAMP:20260419T213457Z
LOCATION:eLecture - online
END:VEVENT
BEGIN:VEVENT
UID:20W_627300_3627581@uibk.ac.at
ORGANIZER;CN="LFU:online Universität Innsbruck":MAILTO:Uni-Innsbruck-noreply@uibk.ac.at
SUMMARY:VU Einführung in das Testen und Bewerten im Fremdsprachenunterricht (3 Gruppen) (LV 627300-1 20W)
DESCRIPTION:Lehrveranstaltung 627300 20W, Gruppe 1\nTitel: VU Einführung in das Testen und Bewerten im Fremdsprachenunterricht (3 Gruppen)\nOrt: eLecture - online\n\nhttps://lfuonline.uibk.ac.at/public/lfuonline_lv.details?sem_id_in=20W&lvnr_id_in=627300\n
CLASS:PUBLIC
DTSTART:20201209T143000Z
DTEND:20201209T160000Z
DTSTAMP:20260419T213457Z
LOCATION:eLecture - online
END:VEVENT
BEGIN:VEVENT
UID:20W_627300_3627582@uibk.ac.at
ORGANIZER;CN="LFU:online Universität Innsbruck":MAILTO:Uni-Innsbruck-noreply@uibk.ac.at
SUMMARY:VU Einführung in das Testen und Bewerten im Fremdsprachenunterricht (3 Gruppen) (LV 627300-1 20W)
DESCRIPTION:Lehrveranstaltung 627300 20W, Gruppe 1\nTitel: VU Einführung in das Testen und Bewerten im Fremdsprachenunterricht (3 Gruppen)\nOrt: eLecture - online\n\nhttps://lfuonline.uibk.ac.at/public/lfuonline_lv.details?sem_id_in=20W&lvnr_id_in=627300\n
CLASS:PUBLIC
DTSTART:20201216T143000Z
DTEND:20201216T160000Z
DTSTAMP:20260419T213457Z
LOCATION:eLecture - online
END:VEVENT
BEGIN:VEVENT
UID:20W_627300_3627583@uibk.ac.at
ORGANIZER;CN="LFU:online Universität Innsbruck":MAILTO:Uni-Innsbruck-noreply@uibk.ac.at
SUMMARY:VU Einführung in das Testen und Bewerten im Fremdsprachenunterricht (3 Gruppen) (LV 627300-1 20W)
DESCRIPTION:Lehrveranstaltung 627300 20W, Gruppe 1\nTitel: VU Einführung in das Testen und Bewerten im Fremdsprachenunterricht (3 Gruppen)\nOrt: eLecture - online\n\nhttps://lfuonline.uibk.ac.at/public/lfuonline_lv.details?sem_id_in=20W&lvnr_id_in=627300\n
CLASS:PUBLIC
DTSTART:20210113T143000Z
DTEND:20210113T160000Z
DTSTAMP:20260419T213457Z
LOCATION:eLecture - online
END:VEVENT
BEGIN:VEVENT
UID:20W_627300_3627584@uibk.ac.at
ORGANIZER;CN="LFU:online Universität Innsbruck":MAILTO:Uni-Innsbruck-noreply@uibk.ac.at
SUMMARY:VU Einführung in das Testen und Bewerten im Fremdsprachenunterricht (3 Gruppen) (LV 627300-1 20W)
DESCRIPTION:Lehrveranstaltung 627300 20W, Gruppe 1\nTitel: VU Einführung in das Testen und Bewerten im Fremdsprachenunterricht (3 Gruppen)\nOrt: eLecture - online\n\nhttps://lfuonline.uibk.ac.at/public/lfuonline_lv.details?sem_id_in=20W&lvnr_id_in=627300\n
CLASS:PUBLIC
DTSTART:20210120T151500Z
DTEND:20210120T160000Z
DTSTAMP:20260419T213457Z
LOCATION:eLecture - online
END:VEVENT
BEGIN:VEVENT
UID:20W_627300_3627866@uibk.ac.at
ORGANIZER;CN="LFU:online Universität Innsbruck":MAILTO:Uni-Innsbruck-noreply@uibk.ac.at
SUMMARY:VU Einführung in das Testen und Bewerten im Fremdsprachenunterricht (3 Gruppen) (LV 627300-1 20W)
DESCRIPTION:Lehrveranstaltung 627300 20W, Gruppe 1\nTitel: VU Einführung in das Testen und Bewerten im Fremdsprachenunterricht (3 Gruppen)\nOrt: eLecture - online\n\nhttps://lfuonline.uibk.ac.at/public/lfuonline_lv.details?sem_id_in=20W&lvnr_id_in=627300\n
CLASS:PUBLIC
DTSTART:20210127T161500Z
DTEND:20210127T171500Z
DTSTAMP:20260419T213457Z
LOCATION:eLecture - online
COMMENT:Test
END:VEVENT
END:VCALENDAR