BEGIN:VCALENDAR
VERSION:2.0
PRODID:-//Universität Innsbruck//LFU:online//DE
METHOD:PUBLISH
BEGIN:VEVENT
UID:24S_702111_4504892@uibk.ac.at
ORGANIZER;CN="LFU:online Universität Innsbruck":MAILTO:Uni-Innsbruck-noreply@uibk.ac.at
SUMMARY:VO Analysis 1 (LV 702111-1 24S)
DESCRIPTION:Lehrveranstaltung 702111 24S, Gruppe 1\nTitel: VO Analysis 1\nOrt: HS E (Technik)\n\nhttps://lfuonline.uibk.ac.at/public/lfuonline_lv.details?sem_id_in=24S&lvnr_id_in=702111\n
CLASS:PUBLIC
DTSTART:20240306T143000Z
DTEND:20240306T160000Z
DTSTAMP:20260422T042304Z
LOCATION:HS E (Technik)
END:VEVENT
BEGIN:VEVENT
UID:24S_702111_4504893@uibk.ac.at
ORGANIZER;CN="LFU:online Universität Innsbruck":MAILTO:Uni-Innsbruck-noreply@uibk.ac.at
SUMMARY:VO Analysis 1 (LV 702111-1 24S)
DESCRIPTION:Lehrveranstaltung 702111 24S, Gruppe 1\nTitel: VO Analysis 1\nOrt: HS E (Technik)\n\nhttps://lfuonline.uibk.ac.at/public/lfuonline_lv.details?sem_id_in=24S&lvnr_id_in=702111\n
CLASS:PUBLIC
DTSTART:20240313T143000Z
DTEND:20240313T160000Z
DTSTAMP:20260422T042304Z
LOCATION:HS E (Technik)
END:VEVENT
BEGIN:VEVENT
UID:24S_702111_4504894@uibk.ac.at
ORGANIZER;CN="LFU:online Universität Innsbruck":MAILTO:Uni-Innsbruck-noreply@uibk.ac.at
SUMMARY:VO Analysis 1 (LV 702111-1 24S)
DESCRIPTION:Lehrveranstaltung 702111 24S, Gruppe 1\nTitel: VO Analysis 1\nOrt: HS E (Technik)\n\nhttps://lfuonline.uibk.ac.at/public/lfuonline_lv.details?sem_id_in=24S&lvnr_id_in=702111\n
CLASS:PUBLIC
DTSTART:20240320T143000Z
DTEND:20240320T160000Z
DTSTAMP:20260422T042304Z
LOCATION:HS E (Technik)
END:VEVENT
BEGIN:VEVENT
UID:24S_702111_4504895@uibk.ac.at
ORGANIZER;CN="LFU:online Universität Innsbruck":MAILTO:Uni-Innsbruck-noreply@uibk.ac.at
SUMMARY:VO Analysis 1 (LV 702111-1 24S)
DESCRIPTION:Lehrveranstaltung 702111 24S, Gruppe 1\nTitel: VO Analysis 1\nOrt: HS E (Technik)\n\nhttps://lfuonline.uibk.ac.at/public/lfuonline_lv.details?sem_id_in=24S&lvnr_id_in=702111\n
CLASS:PUBLIC
DTSTART:20240410T133000Z
DTEND:20240410T150000Z
DTSTAMP:20260422T042304Z
LOCATION:HS E (Technik)
END:VEVENT
BEGIN:VEVENT
UID:24S_702111_4504896@uibk.ac.at
ORGANIZER;CN="LFU:online Universität Innsbruck":MAILTO:Uni-Innsbruck-noreply@uibk.ac.at
SUMMARY:VO Analysis 1 (LV 702111-1 24S)
DESCRIPTION:Lehrveranstaltung 702111 24S, Gruppe 1\nTitel: VO Analysis 1\nOrt: HS E (Technik)\n\nhttps://lfuonline.uibk.ac.at/public/lfuonline_lv.details?sem_id_in=24S&lvnr_id_in=702111\n
CLASS:PUBLIC
DTSTART:20240417T133000Z
DTEND:20240417T150000Z
DTSTAMP:20260422T042304Z
LOCATION:HS E (Technik)
END:VEVENT
BEGIN:VEVENT
UID:24S_702111_4504897@uibk.ac.at
ORGANIZER;CN="LFU:online Universität Innsbruck":MAILTO:Uni-Innsbruck-noreply@uibk.ac.at
SUMMARY:VO Analysis 1 (LV 702111-1 24S)
DESCRIPTION:Lehrveranstaltung 702111 24S, Gruppe 1\nTitel: VO Analysis 1\nOrt: HS E (Technik)\n\nhttps://lfuonline.uibk.ac.at/public/lfuonline_lv.details?sem_id_in=24S&lvnr_id_in=702111\n
CLASS:PUBLIC
DTSTART:20240424T133000Z
DTEND:20240424T150000Z
DTSTAMP:20260422T042304Z
LOCATION:HS E (Technik)
END:VEVENT
BEGIN:VEVENT
UID:24S_702111_4504898@uibk.ac.at
ORGANIZER;CN="LFU:online Universität Innsbruck":MAILTO:Uni-Innsbruck-noreply@uibk.ac.at
SUMMARY:VO Analysis 1 (LV 702111-1 24S)
DESCRIPTION:Lehrveranstaltung 702111 24S, Gruppe 1\nTitel: VO Analysis 1\nOrt: HS E (Technik)\n\nhttps://lfuonline.uibk.ac.at/public/lfuonline_lv.details?sem_id_in=24S&lvnr_id_in=702111\n
CLASS:PUBLIC
DTSTART:20240508T133000Z
DTEND:20240508T150000Z
DTSTAMP:20260422T042304Z
LOCATION:HS E (Technik)
END:VEVENT
BEGIN:VEVENT
UID:24S_702111_4504899@uibk.ac.at
ORGANIZER;CN="LFU:online Universität Innsbruck":MAILTO:Uni-Innsbruck-noreply@uibk.ac.at
SUMMARY:VO Analysis 1 (LV 702111-1 24S)
DESCRIPTION:Lehrveranstaltung 702111 24S, Gruppe 1\nTitel: VO Analysis 1\nOrt: HS E (Technik)\n\nhttps://lfuonline.uibk.ac.at/public/lfuonline_lv.details?sem_id_in=24S&lvnr_id_in=702111\n
CLASS:PUBLIC
DTSTART:20240515T133000Z
DTEND:20240515T150000Z
DTSTAMP:20260422T042304Z
LOCATION:HS E (Technik)
END:VEVENT
BEGIN:VEVENT
UID:24S_702111_4504900@uibk.ac.at
ORGANIZER;CN="LFU:online Universität Innsbruck":MAILTO:Uni-Innsbruck-noreply@uibk.ac.at
SUMMARY:VO Analysis 1 (LV 702111-1 24S)
DESCRIPTION:Lehrveranstaltung 702111 24S, Gruppe 1\nTitel: VO Analysis 1\nOrt: HS E (Technik)\n\nhttps://lfuonline.uibk.ac.at/public/lfuonline_lv.details?sem_id_in=24S&lvnr_id_in=702111\n
CLASS:PUBLIC
DTSTART:20240522T133000Z
DTEND:20240522T150000Z
DTSTAMP:20260422T042304Z
LOCATION:HS E (Technik)
END:VEVENT
BEGIN:VEVENT
UID:24S_702111_4504901@uibk.ac.at
ORGANIZER;CN="LFU:online Universität Innsbruck":MAILTO:Uni-Innsbruck-noreply@uibk.ac.at
SUMMARY:VO Analysis 1 (LV 702111-1 24S)
DESCRIPTION:Lehrveranstaltung 702111 24S, Gruppe 1\nTitel: VO Analysis 1\nOrt: HS E (Technik)\n\nhttps://lfuonline.uibk.ac.at/public/lfuonline_lv.details?sem_id_in=24S&lvnr_id_in=702111\n
CLASS:PUBLIC
DTSTART:20240529T133000Z
DTEND:20240529T150000Z
DTSTAMP:20260422T042304Z
LOCATION:HS E (Technik)
END:VEVENT
BEGIN:VEVENT
UID:24S_702111_4504902@uibk.ac.at
ORGANIZER;CN="LFU:online Universität Innsbruck":MAILTO:Uni-Innsbruck-noreply@uibk.ac.at
SUMMARY:VO Analysis 1 (LV 702111-1 24S)
DESCRIPTION:Lehrveranstaltung 702111 24S, Gruppe 1\nTitel: VO Analysis 1\nOrt: HS E (Technik)\n\nhttps://lfuonline.uibk.ac.at/public/lfuonline_lv.details?sem_id_in=24S&lvnr_id_in=702111\n
CLASS:PUBLIC
DTSTART:20240605T133000Z
DTEND:20240605T150000Z
DTSTAMP:20260422T042304Z
LOCATION:HS E (Technik)
END:VEVENT
BEGIN:VEVENT
UID:24S_702111_4504903@uibk.ac.at
ORGANIZER;CN="LFU:online Universität Innsbruck":MAILTO:Uni-Innsbruck-noreply@uibk.ac.at
SUMMARY:VO Analysis 1 (LV 702111-1 24S)
DESCRIPTION:Lehrveranstaltung 702111 24S, Gruppe 1\nTitel: VO Analysis 1\nOrt: HS E (Technik)\n\nhttps://lfuonline.uibk.ac.at/public/lfuonline_lv.details?sem_id_in=24S&lvnr_id_in=702111\n
CLASS:PUBLIC
DTSTART:20240612T133000Z
DTEND:20240612T150000Z
DTSTAMP:20260422T042304Z
LOCATION:HS E (Technik)
END:VEVENT
BEGIN:VEVENT
UID:24S_702111_4504904@uibk.ac.at
ORGANIZER;CN="LFU:online Universität Innsbruck":MAILTO:Uni-Innsbruck-noreply@uibk.ac.at
SUMMARY:VO Analysis 1 (LV 702111-1 24S)
DESCRIPTION:Lehrveranstaltung 702111 24S, Gruppe 1\nTitel: VO Analysis 1\nOrt: HS E (Technik)\n\nhttps://lfuonline.uibk.ac.at/public/lfuonline_lv.details?sem_id_in=24S&lvnr_id_in=702111\n
CLASS:PUBLIC
DTSTART:20240619T133000Z
DTEND:20240619T150000Z
DTSTAMP:20260422T042304Z
LOCATION:HS E (Technik)
END:VEVENT
BEGIN:VEVENT
UID:24S_702111_4504905@uibk.ac.at
ORGANIZER;CN="LFU:online Universität Innsbruck":MAILTO:Uni-Innsbruck-noreply@uibk.ac.at
SUMMARY:VO Analysis 1 (LV 702111-1 24S)
DESCRIPTION:Lehrveranstaltung 702111 24S, Gruppe 1\nTitel: VO Analysis 1\nOrt: HS E (Technik)\n\nhttps://lfuonline.uibk.ac.at/public/lfuonline_lv.details?sem_id_in=24S&lvnr_id_in=702111\n
CLASS:PUBLIC
DTSTART:20240626T133000Z
DTEND:20240626T150000Z
DTSTAMP:20260422T042304Z
LOCATION:HS E (Technik)
END:VEVENT
BEGIN:VEVENT
UID:24S_702111_4573890@uibk.ac.at
ORGANIZER;CN="LFU:online Universität Innsbruck":MAILTO:Uni-Innsbruck-noreply@uibk.ac.at
SUMMARY:VO Analysis 1 (LV 702111-1 24S)
DESCRIPTION:Lehrveranstaltung 702111 24S, Gruppe 1\nTitel: VO Analysis 1\nOrt: HSB  3\n\nhttps://lfuonline.uibk.ac.at/public/lfuonline_lv.details?sem_id_in=24S&lvnr_id_in=702111\n
CLASS:PUBLIC
DTSTART:20240708T110000Z
DTEND:20240708T140000Z
DTSTAMP:20260422T042304Z
LOCATION:HSB  3
COMMENT:Prüfung
END:VEVENT
BEGIN:VEVENT
UID:24S_702111_4695176@uibk.ac.at
ORGANIZER;CN="LFU:online Universität Innsbruck":MAILTO:Uni-Innsbruck-noreply@uibk.ac.at
SUMMARY:VO Analysis 1 (LV 702111-1 24S)
DESCRIPTION:Lehrveranstaltung 702111 24S, Gruppe 1\nTitel: VO Analysis 1\nOrt: HS C (Technik)\n\nhttps://lfuonline.uibk.ac.at/public/lfuonline_lv.details?sem_id_in=24S&lvnr_id_in=702111\n
CLASS:PUBLIC
DTSTART:20240930T080000Z
DTEND:20240930T110000Z
DTSTAMP:20260422T042304Z
LOCATION:HS C (Technik)
COMMENT:Prüfung
END:VEVENT
BEGIN:VEVENT
UID:24S_702111_4573894@uibk.ac.at
ORGANIZER;CN="LFU:online Universität Innsbruck":MAILTO:Uni-Innsbruck-noreply@uibk.ac.at
SUMMARY:VO Analysis 1 (LV 702111-1 24S)
DESCRIPTION:Lehrveranstaltung 702111 24S, Gruppe 1\nTitel: VO Analysis 1\nOrt: HSB  3\n\nhttps://lfuonline.uibk.ac.at/public/lfuonline_lv.details?sem_id_in=24S&lvnr_id_in=702111\n
CLASS:PUBLIC
DTSTART:20241206T120000Z
DTEND:20241206T150000Z
DTSTAMP:20260422T042304Z
LOCATION:HSB  3
COMMENT:Prüfung
END:VEVENT
END:VCALENDAR