BEGIN:VCALENDAR
VERSION:2.0
PRODID:-//Universität Innsbruck//LFU:online//DE
METHOD:PUBLISH
BEGIN:VEVENT
UID:09S_702205_1115905@uibk.ac.at
ORGANIZER;CN="LFU:online Universität Innsbruck":MAILTO:Uni-Innsbruck-noreply@uibk.ac.at
SUMMARY:Diskrete Mathematik (LV 702205-1 09S)
DESCRIPTION:Lehrveranstaltung 702205 09S, Gruppe 1\nTitel: Diskrete Mathematik\nOrt: HS A (Technik)\n\nhttps://lfuonline.uibk.ac.at/public/lfuonline_lv.details?sem_id_in=09S&lvnr_id_in=702205\n
CLASS:PUBLIC
DTSTART:20090302T091500Z
DTEND:20090302T110000Z
DTSTAMP:20260419T123858Z
LOCATION:HS A (Technik)
END:VEVENT
BEGIN:VEVENT
UID:09S_702205_1115920@uibk.ac.at
ORGANIZER;CN="LFU:online Universität Innsbruck":MAILTO:Uni-Innsbruck-noreply@uibk.ac.at
SUMMARY:Diskrete Mathematik (LV 702205-1 09S)
DESCRIPTION:Lehrveranstaltung 702205 09S, Gruppe 1\nTitel: Diskrete Mathematik\nOrt: HS A (Technik)\n\nhttps://lfuonline.uibk.ac.at/public/lfuonline_lv.details?sem_id_in=09S&lvnr_id_in=702205\n
CLASS:PUBLIC
DTSTART:20090304T131500Z
DTEND:20090304T140000Z
DTSTAMP:20260419T123858Z
LOCATION:HS A (Technik)
END:VEVENT
BEGIN:VEVENT
UID:09S_702205_1115906@uibk.ac.at
ORGANIZER;CN="LFU:online Universität Innsbruck":MAILTO:Uni-Innsbruck-noreply@uibk.ac.at
SUMMARY:Diskrete Mathematik (LV 702205-1 09S)
DESCRIPTION:Lehrveranstaltung 702205 09S, Gruppe 1\nTitel: Diskrete Mathematik\nOrt: HS A (Technik)\n\nhttps://lfuonline.uibk.ac.at/public/lfuonline_lv.details?sem_id_in=09S&lvnr_id_in=702205\n
CLASS:PUBLIC
DTSTART:20090309T091500Z
DTEND:20090309T110000Z
DTSTAMP:20260419T123858Z
LOCATION:HS A (Technik)
END:VEVENT
BEGIN:VEVENT
UID:09S_702205_1115921@uibk.ac.at
ORGANIZER;CN="LFU:online Universität Innsbruck":MAILTO:Uni-Innsbruck-noreply@uibk.ac.at
SUMMARY:Diskrete Mathematik (LV 702205-1 09S)
DESCRIPTION:Lehrveranstaltung 702205 09S, Gruppe 1\nTitel: Diskrete Mathematik\nOrt: HS A (Technik)\n\nhttps://lfuonline.uibk.ac.at/public/lfuonline_lv.details?sem_id_in=09S&lvnr_id_in=702205\n
CLASS:PUBLIC
DTSTART:20090311T131500Z
DTEND:20090311T140000Z
DTSTAMP:20260419T123858Z
LOCATION:HS A (Technik)
END:VEVENT
BEGIN:VEVENT
UID:09S_702205_1115907@uibk.ac.at
ORGANIZER;CN="LFU:online Universität Innsbruck":MAILTO:Uni-Innsbruck-noreply@uibk.ac.at
SUMMARY:Diskrete Mathematik (LV 702205-1 09S)
DESCRIPTION:Lehrveranstaltung 702205 09S, Gruppe 1\nTitel: Diskrete Mathematik\nOrt: HS A (Technik)\n\nhttps://lfuonline.uibk.ac.at/public/lfuonline_lv.details?sem_id_in=09S&lvnr_id_in=702205\n
CLASS:PUBLIC
DTSTART:20090316T091500Z
DTEND:20090316T110000Z
DTSTAMP:20260419T123858Z
LOCATION:HS A (Technik)
END:VEVENT
BEGIN:VEVENT
UID:09S_702205_1115922@uibk.ac.at
ORGANIZER;CN="LFU:online Universität Innsbruck":MAILTO:Uni-Innsbruck-noreply@uibk.ac.at
SUMMARY:Diskrete Mathematik (LV 702205-1 09S)
DESCRIPTION:Lehrveranstaltung 702205 09S, Gruppe 1\nTitel: Diskrete Mathematik\nOrt: HS A (Technik)\n\nhttps://lfuonline.uibk.ac.at/public/lfuonline_lv.details?sem_id_in=09S&lvnr_id_in=702205\n
CLASS:PUBLIC
DTSTART:20090318T131500Z
DTEND:20090318T140000Z
DTSTAMP:20260419T123858Z
LOCATION:HS A (Technik)
END:VEVENT
BEGIN:VEVENT
UID:09S_702205_1115908@uibk.ac.at
ORGANIZER;CN="LFU:online Universität Innsbruck":MAILTO:Uni-Innsbruck-noreply@uibk.ac.at
SUMMARY:Diskrete Mathematik (LV 702205-1 09S)
DESCRIPTION:Lehrveranstaltung 702205 09S, Gruppe 1\nTitel: Diskrete Mathematik\nOrt: HS A (Technik)\n\nhttps://lfuonline.uibk.ac.at/public/lfuonline_lv.details?sem_id_in=09S&lvnr_id_in=702205\n
CLASS:PUBLIC
DTSTART:20090323T091500Z
DTEND:20090323T110000Z
DTSTAMP:20260419T123858Z
LOCATION:HS A (Technik)
END:VEVENT
BEGIN:VEVENT
UID:09S_702205_1115923@uibk.ac.at
ORGANIZER;CN="LFU:online Universität Innsbruck":MAILTO:Uni-Innsbruck-noreply@uibk.ac.at
SUMMARY:Diskrete Mathematik (LV 702205-1 09S)
DESCRIPTION:Lehrveranstaltung 702205 09S, Gruppe 1\nTitel: Diskrete Mathematik\nOrt: HS A (Technik)\n\nhttps://lfuonline.uibk.ac.at/public/lfuonline_lv.details?sem_id_in=09S&lvnr_id_in=702205\n
CLASS:PUBLIC
DTSTART:20090325T131500Z
DTEND:20090325T140000Z
DTSTAMP:20260419T123858Z
LOCATION:HS A (Technik)
END:VEVENT
BEGIN:VEVENT
UID:09S_702205_1115909@uibk.ac.at
ORGANIZER;CN="LFU:online Universität Innsbruck":MAILTO:Uni-Innsbruck-noreply@uibk.ac.at
SUMMARY:Diskrete Mathematik (LV 702205-1 09S)
DESCRIPTION:Lehrveranstaltung 702205 09S, Gruppe 1\nTitel: Diskrete Mathematik\nOrt: HS A (Technik)\n\nhttps://lfuonline.uibk.ac.at/public/lfuonline_lv.details?sem_id_in=09S&lvnr_id_in=702205\n
CLASS:PUBLIC
DTSTART:20090330T081500Z
DTEND:20090330T100000Z
DTSTAMP:20260419T123858Z
LOCATION:HS A (Technik)
END:VEVENT
BEGIN:VEVENT
UID:09S_702205_1115924@uibk.ac.at
ORGANIZER;CN="LFU:online Universität Innsbruck":MAILTO:Uni-Innsbruck-noreply@uibk.ac.at
SUMMARY:Diskrete Mathematik (LV 702205-1 09S)
DESCRIPTION:Lehrveranstaltung 702205 09S, Gruppe 1\nTitel: Diskrete Mathematik\nOrt: HS A (Technik)\n\nhttps://lfuonline.uibk.ac.at/public/lfuonline_lv.details?sem_id_in=09S&lvnr_id_in=702205\n
CLASS:PUBLIC
DTSTART:20090401T121500Z
DTEND:20090401T130000Z
DTSTAMP:20260419T123858Z
LOCATION:HS A (Technik)
END:VEVENT
BEGIN:VEVENT
UID:09S_702205_1115910@uibk.ac.at
ORGANIZER;CN="LFU:online Universität Innsbruck":MAILTO:Uni-Innsbruck-noreply@uibk.ac.at
SUMMARY:Diskrete Mathematik (LV 702205-1 09S)
DESCRIPTION:Lehrveranstaltung 702205 09S, Gruppe 1\nTitel: Diskrete Mathematik\nOrt: HS A (Technik)\n\nhttps://lfuonline.uibk.ac.at/public/lfuonline_lv.details?sem_id_in=09S&lvnr_id_in=702205\n
CLASS:PUBLIC
DTSTART:20090420T081500Z
DTEND:20090420T100000Z
DTSTAMP:20260419T123858Z
LOCATION:HS A (Technik)
END:VEVENT
BEGIN:VEVENT
UID:09S_702205_1115925@uibk.ac.at
ORGANIZER;CN="LFU:online Universität Innsbruck":MAILTO:Uni-Innsbruck-noreply@uibk.ac.at
SUMMARY:Diskrete Mathematik (LV 702205-1 09S)
DESCRIPTION:Lehrveranstaltung 702205 09S, Gruppe 1\nTitel: Diskrete Mathematik\nOrt: HS A (Technik)\n\nhttps://lfuonline.uibk.ac.at/public/lfuonline_lv.details?sem_id_in=09S&lvnr_id_in=702205\n
CLASS:PUBLIC
DTSTART:20090422T121500Z
DTEND:20090422T130000Z
DTSTAMP:20260419T123858Z
LOCATION:HS A (Technik)
END:VEVENT
BEGIN:VEVENT
UID:09S_702205_1115911@uibk.ac.at
ORGANIZER;CN="LFU:online Universität Innsbruck":MAILTO:Uni-Innsbruck-noreply@uibk.ac.at
SUMMARY:Diskrete Mathematik (LV 702205-1 09S)
DESCRIPTION:Lehrveranstaltung 702205 09S, Gruppe 1\nTitel: Diskrete Mathematik\nOrt: HS A (Technik)\n\nhttps://lfuonline.uibk.ac.at/public/lfuonline_lv.details?sem_id_in=09S&lvnr_id_in=702205\n
CLASS:PUBLIC
DTSTART:20090427T081500Z
DTEND:20090427T100000Z
DTSTAMP:20260419T123858Z
LOCATION:HS A (Technik)
END:VEVENT
BEGIN:VEVENT
UID:09S_702205_1115926@uibk.ac.at
ORGANIZER;CN="LFU:online Universität Innsbruck":MAILTO:Uni-Innsbruck-noreply@uibk.ac.at
SUMMARY:Diskrete Mathematik (LV 702205-1 09S)
DESCRIPTION:Lehrveranstaltung 702205 09S, Gruppe 1\nTitel: Diskrete Mathematik\nOrt: HS A (Technik)\n\nhttps://lfuonline.uibk.ac.at/public/lfuonline_lv.details?sem_id_in=09S&lvnr_id_in=702205\n
CLASS:PUBLIC
DTSTART:20090429T121500Z
DTEND:20090429T130000Z
DTSTAMP:20260419T123858Z
LOCATION:HS A (Technik)
END:VEVENT
BEGIN:VEVENT
UID:09S_702205_1115912@uibk.ac.at
ORGANIZER;CN="LFU:online Universität Innsbruck":MAILTO:Uni-Innsbruck-noreply@uibk.ac.at
SUMMARY:Diskrete Mathematik (LV 702205-1 09S)
DESCRIPTION:Lehrveranstaltung 702205 09S, Gruppe 1\nTitel: Diskrete Mathematik\nOrt: HS A (Technik)\n\nhttps://lfuonline.uibk.ac.at/public/lfuonline_lv.details?sem_id_in=09S&lvnr_id_in=702205\n
CLASS:PUBLIC
DTSTART:20090504T081500Z
DTEND:20090504T100000Z
DTSTAMP:20260419T123858Z
LOCATION:HS A (Technik)
END:VEVENT
BEGIN:VEVENT
UID:09S_702205_1115927@uibk.ac.at
ORGANIZER;CN="LFU:online Universität Innsbruck":MAILTO:Uni-Innsbruck-noreply@uibk.ac.at
SUMMARY:Diskrete Mathematik (LV 702205-1 09S)
DESCRIPTION:Lehrveranstaltung 702205 09S, Gruppe 1\nTitel: Diskrete Mathematik\nOrt: HS A (Technik)\n\nhttps://lfuonline.uibk.ac.at/public/lfuonline_lv.details?sem_id_in=09S&lvnr_id_in=702205\n
CLASS:PUBLIC
DTSTART:20090506T121500Z
DTEND:20090506T130000Z
DTSTAMP:20260419T123858Z
LOCATION:HS A (Technik)
END:VEVENT
BEGIN:VEVENT
UID:09S_702205_1115913@uibk.ac.at
ORGANIZER;CN="LFU:online Universität Innsbruck":MAILTO:Uni-Innsbruck-noreply@uibk.ac.at
SUMMARY:Diskrete Mathematik (LV 702205-1 09S)
DESCRIPTION:Lehrveranstaltung 702205 09S, Gruppe 1\nTitel: Diskrete Mathematik\nOrt: HS A (Technik)\n\nhttps://lfuonline.uibk.ac.at/public/lfuonline_lv.details?sem_id_in=09S&lvnr_id_in=702205\n
CLASS:PUBLIC
DTSTART:20090511T081500Z
DTEND:20090511T100000Z
DTSTAMP:20260419T123858Z
LOCATION:HS A (Technik)
END:VEVENT
BEGIN:VEVENT
UID:09S_702205_1115928@uibk.ac.at
ORGANIZER;CN="LFU:online Universität Innsbruck":MAILTO:Uni-Innsbruck-noreply@uibk.ac.at
SUMMARY:Diskrete Mathematik (LV 702205-1 09S)
DESCRIPTION:Lehrveranstaltung 702205 09S, Gruppe 1\nTitel: Diskrete Mathematik\nOrt: HS A (Technik)\n\nhttps://lfuonline.uibk.ac.at/public/lfuonline_lv.details?sem_id_in=09S&lvnr_id_in=702205\n
CLASS:PUBLIC
DTSTART:20090513T121500Z
DTEND:20090513T130000Z
DTSTAMP:20260419T123858Z
LOCATION:HS A (Technik)
END:VEVENT
BEGIN:VEVENT
UID:09S_702205_1115914@uibk.ac.at
ORGANIZER;CN="LFU:online Universität Innsbruck":MAILTO:Uni-Innsbruck-noreply@uibk.ac.at
SUMMARY:Diskrete Mathematik (LV 702205-1 09S)
DESCRIPTION:Lehrveranstaltung 702205 09S, Gruppe 1\nTitel: Diskrete Mathematik\nOrt: HS A (Technik)\n\nhttps://lfuonline.uibk.ac.at/public/lfuonline_lv.details?sem_id_in=09S&lvnr_id_in=702205\n
CLASS:PUBLIC
DTSTART:20090518T081500Z
DTEND:20090518T100000Z
DTSTAMP:20260419T123858Z
LOCATION:HS A (Technik)
END:VEVENT
BEGIN:VEVENT
UID:09S_702205_1115929@uibk.ac.at
ORGANIZER;CN="LFU:online Universität Innsbruck":MAILTO:Uni-Innsbruck-noreply@uibk.ac.at
SUMMARY:Diskrete Mathematik (LV 702205-1 09S)
DESCRIPTION:Lehrveranstaltung 702205 09S, Gruppe 1\nTitel: Diskrete Mathematik\nOrt: HS A (Technik)\n\nhttps://lfuonline.uibk.ac.at/public/lfuonline_lv.details?sem_id_in=09S&lvnr_id_in=702205\n
CLASS:PUBLIC
DTSTART:20090520T121500Z
DTEND:20090520T130000Z
DTSTAMP:20260419T123858Z
LOCATION:HS A (Technik)
END:VEVENT
BEGIN:VEVENT
UID:09S_702205_1115915@uibk.ac.at
ORGANIZER;CN="LFU:online Universität Innsbruck":MAILTO:Uni-Innsbruck-noreply@uibk.ac.at
SUMMARY:Diskrete Mathematik (LV 702205-1 09S)
DESCRIPTION:Lehrveranstaltung 702205 09S, Gruppe 1\nTitel: Diskrete Mathematik\nOrt: HS A (Technik)\n\nhttps://lfuonline.uibk.ac.at/public/lfuonline_lv.details?sem_id_in=09S&lvnr_id_in=702205\n
CLASS:PUBLIC
DTSTART:20090525T081500Z
DTEND:20090525T100000Z
DTSTAMP:20260419T123858Z
LOCATION:HS A (Technik)
END:VEVENT
BEGIN:VEVENT
UID:09S_702205_1115930@uibk.ac.at
ORGANIZER;CN="LFU:online Universität Innsbruck":MAILTO:Uni-Innsbruck-noreply@uibk.ac.at
SUMMARY:Diskrete Mathematik (LV 702205-1 09S)
DESCRIPTION:Lehrveranstaltung 702205 09S, Gruppe 1\nTitel: Diskrete Mathematik\nOrt: HS A (Technik)\n\nhttps://lfuonline.uibk.ac.at/public/lfuonline_lv.details?sem_id_in=09S&lvnr_id_in=702205\n
CLASS:PUBLIC
DTSTART:20090527T121500Z
DTEND:20090527T130000Z
DTSTAMP:20260419T123858Z
LOCATION:HS A (Technik)
END:VEVENT
BEGIN:VEVENT
UID:09S_702205_1115916@uibk.ac.at
ORGANIZER;CN="LFU:online Universität Innsbruck":MAILTO:Uni-Innsbruck-noreply@uibk.ac.at
SUMMARY:Diskrete Mathematik (LV 702205-1 09S)
DESCRIPTION:Lehrveranstaltung 702205 09S, Gruppe 1\nTitel: Diskrete Mathematik\nOrt: HS A (Technik)\n\nhttps://lfuonline.uibk.ac.at/public/lfuonline_lv.details?sem_id_in=09S&lvnr_id_in=702205\n
CLASS:PUBLIC
DTSTART:20090608T073000Z
DTEND:20090608T100000Z
DTSTAMP:20260419T123858Z
LOCATION:HS A (Technik)
END:VEVENT
BEGIN:VEVENT
UID:09S_702205_1115932@uibk.ac.at
ORGANIZER;CN="LFU:online Universität Innsbruck":MAILTO:Uni-Innsbruck-noreply@uibk.ac.at
SUMMARY:Diskrete Mathematik (LV 702205-1 09S)
DESCRIPTION:Lehrveranstaltung 702205 09S, Gruppe 1\nTitel: Diskrete Mathematik\nOrt: HS A (Technik)\n\nhttps://lfuonline.uibk.ac.at/public/lfuonline_lv.details?sem_id_in=09S&lvnr_id_in=702205\n
CLASS:PUBLIC
DTSTART:20090610T121500Z
DTEND:20090610T130000Z
DTSTAMP:20260419T123858Z
LOCATION:HS A (Technik)
END:VEVENT
BEGIN:VEVENT
UID:09S_702205_1115917@uibk.ac.at
ORGANIZER;CN="LFU:online Universität Innsbruck":MAILTO:Uni-Innsbruck-noreply@uibk.ac.at
SUMMARY:Diskrete Mathematik (LV 702205-1 09S)
DESCRIPTION:Lehrveranstaltung 702205 09S, Gruppe 1\nTitel: Diskrete Mathematik\nOrt: HS A (Technik)\n\nhttps://lfuonline.uibk.ac.at/public/lfuonline_lv.details?sem_id_in=09S&lvnr_id_in=702205\n
CLASS:PUBLIC
DTSTART:20090615T081500Z
DTEND:20090615T100000Z
DTSTAMP:20260419T123858Z
LOCATION:HS A (Technik)
END:VEVENT
BEGIN:VEVENT
UID:09S_702205_1115933@uibk.ac.at
ORGANIZER;CN="LFU:online Universität Innsbruck":MAILTO:Uni-Innsbruck-noreply@uibk.ac.at
SUMMARY:Diskrete Mathematik (LV 702205-1 09S)
DESCRIPTION:Lehrveranstaltung 702205 09S, Gruppe 1\nTitel: Diskrete Mathematik\nOrt: HS A (Technik)\n\nhttps://lfuonline.uibk.ac.at/public/lfuonline_lv.details?sem_id_in=09S&lvnr_id_in=702205\n
CLASS:PUBLIC
DTSTART:20090617T121500Z
DTEND:20090617T130000Z
DTSTAMP:20260419T123858Z
LOCATION:HS A (Technik)
END:VEVENT
BEGIN:VEVENT
UID:09S_702205_1115918@uibk.ac.at
ORGANIZER;CN="LFU:online Universität Innsbruck":MAILTO:Uni-Innsbruck-noreply@uibk.ac.at
SUMMARY:Diskrete Mathematik (LV 702205-1 09S)
DESCRIPTION:Lehrveranstaltung 702205 09S, Gruppe 1\nTitel: Diskrete Mathematik\nOrt: HS A (Technik)\n\nhttps://lfuonline.uibk.ac.at/public/lfuonline_lv.details?sem_id_in=09S&lvnr_id_in=702205\n
CLASS:PUBLIC
DTSTART:20090622T073000Z
DTEND:20090622T100000Z
DTSTAMP:20260419T123858Z
LOCATION:HS A (Technik)
END:VEVENT
BEGIN:VEVENT
UID:09S_702205_1115934@uibk.ac.at
ORGANIZER;CN="LFU:online Universität Innsbruck":MAILTO:Uni-Innsbruck-noreply@uibk.ac.at
SUMMARY:Diskrete Mathematik (LV 702205-1 09S)
DESCRIPTION:Lehrveranstaltung 702205 09S, Gruppe 1\nTitel: Diskrete Mathematik\nOrt: HS A (Technik)\n\nhttps://lfuonline.uibk.ac.at/public/lfuonline_lv.details?sem_id_in=09S&lvnr_id_in=702205\n
CLASS:PUBLIC
DTSTART:20090624T121500Z
DTEND:20090624T130000Z
DTSTAMP:20260419T123858Z
LOCATION:HS A (Technik)
END:VEVENT
BEGIN:VEVENT
UID:09S_702205_1115919@uibk.ac.at
ORGANIZER;CN="LFU:online Universität Innsbruck":MAILTO:Uni-Innsbruck-noreply@uibk.ac.at
SUMMARY:Diskrete Mathematik (LV 702205-1 09S)
DESCRIPTION:Lehrveranstaltung 702205 09S, Gruppe 1\nTitel: Diskrete Mathematik\nOrt: HS A (Technik)\n\nhttps://lfuonline.uibk.ac.at/public/lfuonline_lv.details?sem_id_in=09S&lvnr_id_in=702205\n
CLASS:PUBLIC
DTSTART:20090629T081500Z
DTEND:20090629T100000Z
DTSTAMP:20260419T123858Z
LOCATION:HS A (Technik)
END:VEVENT
BEGIN:VEVENT
UID:09S_702205_1298613@uibk.ac.at
ORGANIZER;CN="LFU:online Universität Innsbruck":MAILTO:Uni-Innsbruck-noreply@uibk.ac.at
SUMMARY:Diskrete Mathematik (LV 702205-1 09S)
DESCRIPTION:Lehrveranstaltung 702205 09S, Gruppe 1\nTitel: Diskrete Mathematik\nOrt: HS C (Technik)\n\nhttps://lfuonline.uibk.ac.at/public/lfuonline_lv.details?sem_id_in=09S&lvnr_id_in=702205\n
CLASS:PUBLIC
DTSTART:20091009T130000Z
DTEND:20091009T150000Z
DTSTAMP:20260419T123858Z
LOCATION:HS C (Technik)
COMMENT:3ter Termin
END:VEVENT
END:VCALENDAR