BEGIN:VCALENDAR
VERSION:2.0
PRODID:-//Universität Innsbruck//LFU:online//DE
METHOD:PUBLISH
BEGIN:VEVENT
UID:25S_702211_4743162@uibk.ac.at
ORGANIZER;CN="LFU:online Universität Innsbruck":MAILTO:Uni-Innsbruck-noreply@uibk.ac.at
SUMMARY:VO Analysis 2 (LV 702211-1 25S)
DESCRIPTION:Lehrveranstaltung 702211 25S, Gruppe 1\nTitel: VO Analysis 2\nOrt: HS A (Technik)\n\nhttps://lfuonline.uibk.ac.at/public/lfuonline_lv.details?sem_id_in=25S&lvnr_id_in=702211\n
CLASS:PUBLIC
DTSTART:20250304T091500Z
DTEND:20250304T104500Z
DTSTAMP:20260420T191524Z
LOCATION:HS A (Technik)
END:VEVENT
BEGIN:VEVENT
UID:25S_702211_4743200@uibk.ac.at
ORGANIZER;CN="LFU:online Universität Innsbruck":MAILTO:Uni-Innsbruck-noreply@uibk.ac.at
SUMMARY:VO Analysis 2 (LV 702211-1 25S)
DESCRIPTION:Lehrveranstaltung 702211 25S, Gruppe 1\nTitel: VO Analysis 2\nOrt: HS A (Technik)\n\nhttps://lfuonline.uibk.ac.at/public/lfuonline_lv.details?sem_id_in=25S&lvnr_id_in=702211\n
CLASS:PUBLIC
DTSTART:20250304T161500Z
DTEND:20250304T174500Z
DTSTAMP:20260420T191524Z
LOCATION:HS A (Technik)
COMMENT:Tutorium
END:VEVENT
BEGIN:VEVENT
UID:25S_702211_4743181@uibk.ac.at
ORGANIZER;CN="LFU:online Universität Innsbruck":MAILTO:Uni-Innsbruck-noreply@uibk.ac.at
SUMMARY:VO Analysis 2 (LV 702211-1 25S)
DESCRIPTION:Lehrveranstaltung 702211 25S, Gruppe 1\nTitel: VO Analysis 2\nOrt: HS A (Technik)\n\nhttps://lfuonline.uibk.ac.at/public/lfuonline_lv.details?sem_id_in=25S&lvnr_id_in=702211\n
CLASS:PUBLIC
DTSTART:20250305T091500Z
DTEND:20250305T104500Z
DTSTAMP:20260420T191524Z
LOCATION:HS A (Technik)
END:VEVENT
BEGIN:VEVENT
UID:25S_702211_4743163@uibk.ac.at
ORGANIZER;CN="LFU:online Universität Innsbruck":MAILTO:Uni-Innsbruck-noreply@uibk.ac.at
SUMMARY:VO Analysis 2 (LV 702211-1 25S)
DESCRIPTION:Lehrveranstaltung 702211 25S, Gruppe 1\nTitel: VO Analysis 2\nOrt: HS A (Technik)\n\nhttps://lfuonline.uibk.ac.at/public/lfuonline_lv.details?sem_id_in=25S&lvnr_id_in=702211\n
CLASS:PUBLIC
DTSTART:20250311T091500Z
DTEND:20250311T104500Z
DTSTAMP:20260420T191524Z
LOCATION:HS A (Technik)
END:VEVENT
BEGIN:VEVENT
UID:25S_702211_4743201@uibk.ac.at
ORGANIZER;CN="LFU:online Universität Innsbruck":MAILTO:Uni-Innsbruck-noreply@uibk.ac.at
SUMMARY:VO Analysis 2 (LV 702211-1 25S)
DESCRIPTION:Lehrveranstaltung 702211 25S, Gruppe 1\nTitel: VO Analysis 2\nOrt: HS A (Technik)\n\nhttps://lfuonline.uibk.ac.at/public/lfuonline_lv.details?sem_id_in=25S&lvnr_id_in=702211\n
CLASS:PUBLIC
DTSTART:20250311T161500Z
DTEND:20250311T174500Z
DTSTAMP:20260420T191524Z
LOCATION:HS A (Technik)
COMMENT:Tutorium
END:VEVENT
BEGIN:VEVENT
UID:25S_702211_4743182@uibk.ac.at
ORGANIZER;CN="LFU:online Universität Innsbruck":MAILTO:Uni-Innsbruck-noreply@uibk.ac.at
SUMMARY:VO Analysis 2 (LV 702211-1 25S)
DESCRIPTION:Lehrveranstaltung 702211 25S, Gruppe 1\nTitel: VO Analysis 2\nOrt: HS A (Technik)\n\nhttps://lfuonline.uibk.ac.at/public/lfuonline_lv.details?sem_id_in=25S&lvnr_id_in=702211\n
CLASS:PUBLIC
DTSTART:20250312T091500Z
DTEND:20250312T104500Z
DTSTAMP:20260420T191524Z
LOCATION:HS A (Technik)
END:VEVENT
BEGIN:VEVENT
UID:25S_702211_4743164@uibk.ac.at
ORGANIZER;CN="LFU:online Universität Innsbruck":MAILTO:Uni-Innsbruck-noreply@uibk.ac.at
SUMMARY:VO Analysis 2 (LV 702211-1 25S)
DESCRIPTION:Lehrveranstaltung 702211 25S, Gruppe 1\nTitel: VO Analysis 2\nOrt: HS A (Technik)\n\nhttps://lfuonline.uibk.ac.at/public/lfuonline_lv.details?sem_id_in=25S&lvnr_id_in=702211\n
CLASS:PUBLIC
DTSTART:20250318T091500Z
DTEND:20250318T104500Z
DTSTAMP:20260420T191524Z
LOCATION:HS A (Technik)
END:VEVENT
BEGIN:VEVENT
UID:25S_702211_4743202@uibk.ac.at
ORGANIZER;CN="LFU:online Universität Innsbruck":MAILTO:Uni-Innsbruck-noreply@uibk.ac.at
SUMMARY:VO Analysis 2 (LV 702211-1 25S)
DESCRIPTION:Lehrveranstaltung 702211 25S, Gruppe 1\nTitel: VO Analysis 2\nOrt: HS A (Technik)\n\nhttps://lfuonline.uibk.ac.at/public/lfuonline_lv.details?sem_id_in=25S&lvnr_id_in=702211\n
CLASS:PUBLIC
DTSTART:20250318T161500Z
DTEND:20250318T174500Z
DTSTAMP:20260420T191524Z
LOCATION:HS A (Technik)
COMMENT:Tutorium
END:VEVENT
BEGIN:VEVENT
UID:25S_702211_4743183@uibk.ac.at
ORGANIZER;CN="LFU:online Universität Innsbruck":MAILTO:Uni-Innsbruck-noreply@uibk.ac.at
SUMMARY:VO Analysis 2 (LV 702211-1 25S)
DESCRIPTION:Lehrveranstaltung 702211 25S, Gruppe 1\nTitel: VO Analysis 2\nOrt: HS A (Technik)\n\nhttps://lfuonline.uibk.ac.at/public/lfuonline_lv.details?sem_id_in=25S&lvnr_id_in=702211\n
CLASS:PUBLIC
DTSTART:20250319T091500Z
DTEND:20250319T104500Z
DTSTAMP:20260420T191524Z
LOCATION:HS A (Technik)
END:VEVENT
BEGIN:VEVENT
UID:25S_702211_4743165@uibk.ac.at
ORGANIZER;CN="LFU:online Universität Innsbruck":MAILTO:Uni-Innsbruck-noreply@uibk.ac.at
SUMMARY:VO Analysis 2 (LV 702211-1 25S)
DESCRIPTION:Lehrveranstaltung 702211 25S, Gruppe 1\nTitel: VO Analysis 2\nOrt: HS A (Technik)\n\nhttps://lfuonline.uibk.ac.at/public/lfuonline_lv.details?sem_id_in=25S&lvnr_id_in=702211\n
CLASS:PUBLIC
DTSTART:20250325T091500Z
DTEND:20250325T104500Z
DTSTAMP:20260420T191524Z
LOCATION:HS A (Technik)
END:VEVENT
BEGIN:VEVENT
UID:25S_702211_4743203@uibk.ac.at
ORGANIZER;CN="LFU:online Universität Innsbruck":MAILTO:Uni-Innsbruck-noreply@uibk.ac.at
SUMMARY:VO Analysis 2 (LV 702211-1 25S)
DESCRIPTION:Lehrveranstaltung 702211 25S, Gruppe 1\nTitel: VO Analysis 2\nOrt: HS A (Technik)\n\nhttps://lfuonline.uibk.ac.at/public/lfuonline_lv.details?sem_id_in=25S&lvnr_id_in=702211\n
CLASS:PUBLIC
DTSTART:20250325T161500Z
DTEND:20250325T174500Z
DTSTAMP:20260420T191524Z
LOCATION:HS A (Technik)
COMMENT:Tutorium
END:VEVENT
BEGIN:VEVENT
UID:25S_702211_4743184@uibk.ac.at
ORGANIZER;CN="LFU:online Universität Innsbruck":MAILTO:Uni-Innsbruck-noreply@uibk.ac.at
SUMMARY:VO Analysis 2 (LV 702211-1 25S)
DESCRIPTION:Lehrveranstaltung 702211 25S, Gruppe 1\nTitel: VO Analysis 2\nOrt: HS A (Technik)\n\nhttps://lfuonline.uibk.ac.at/public/lfuonline_lv.details?sem_id_in=25S&lvnr_id_in=702211\n
CLASS:PUBLIC
DTSTART:20250326T091500Z
DTEND:20250326T104500Z
DTSTAMP:20260420T191524Z
LOCATION:HS A (Technik)
END:VEVENT
BEGIN:VEVENT
UID:25S_702211_4743166@uibk.ac.at
ORGANIZER;CN="LFU:online Universität Innsbruck":MAILTO:Uni-Innsbruck-noreply@uibk.ac.at
SUMMARY:VO Analysis 2 (LV 702211-1 25S)
DESCRIPTION:Lehrveranstaltung 702211 25S, Gruppe 1\nTitel: VO Analysis 2\nOrt: HS A (Technik)\n\nhttps://lfuonline.uibk.ac.at/public/lfuonline_lv.details?sem_id_in=25S&lvnr_id_in=702211\n
CLASS:PUBLIC
DTSTART:20250401T081500Z
DTEND:20250401T094500Z
DTSTAMP:20260420T191524Z
LOCATION:HS A (Technik)
END:VEVENT
BEGIN:VEVENT
UID:25S_702211_4743204@uibk.ac.at
ORGANIZER;CN="LFU:online Universität Innsbruck":MAILTO:Uni-Innsbruck-noreply@uibk.ac.at
SUMMARY:VO Analysis 2 (LV 702211-1 25S)
DESCRIPTION:Lehrveranstaltung 702211 25S, Gruppe 1\nTitel: VO Analysis 2\nOrt: HS A (Technik)\n\nhttps://lfuonline.uibk.ac.at/public/lfuonline_lv.details?sem_id_in=25S&lvnr_id_in=702211\n
CLASS:PUBLIC
DTSTART:20250401T151500Z
DTEND:20250401T164500Z
DTSTAMP:20260420T191524Z
LOCATION:HS A (Technik)
COMMENT:Tutorium
END:VEVENT
BEGIN:VEVENT
UID:25S_702211_4743185@uibk.ac.at
ORGANIZER;CN="LFU:online Universität Innsbruck":MAILTO:Uni-Innsbruck-noreply@uibk.ac.at
SUMMARY:VO Analysis 2 (LV 702211-1 25S)
DESCRIPTION:Lehrveranstaltung 702211 25S, Gruppe 1\nTitel: VO Analysis 2\nOrt: HS A (Technik)\n\nhttps://lfuonline.uibk.ac.at/public/lfuonline_lv.details?sem_id_in=25S&lvnr_id_in=702211\n
CLASS:PUBLIC
DTSTART:20250402T081500Z
DTEND:20250402T094500Z
DTSTAMP:20260420T191524Z
LOCATION:HS A (Technik)
END:VEVENT
BEGIN:VEVENT
UID:25S_702211_4743167@uibk.ac.at
ORGANIZER;CN="LFU:online Universität Innsbruck":MAILTO:Uni-Innsbruck-noreply@uibk.ac.at
SUMMARY:VO Analysis 2 (LV 702211-1 25S)
DESCRIPTION:Lehrveranstaltung 702211 25S, Gruppe 1\nTitel: VO Analysis 2\nOrt: HS A (Technik)\n\nhttps://lfuonline.uibk.ac.at/public/lfuonline_lv.details?sem_id_in=25S&lvnr_id_in=702211\n
CLASS:PUBLIC
DTSTART:20250408T081500Z
DTEND:20250408T094500Z
DTSTAMP:20260420T191524Z
LOCATION:HS A (Technik)
END:VEVENT
BEGIN:VEVENT
UID:25S_702211_4743205@uibk.ac.at
ORGANIZER;CN="LFU:online Universität Innsbruck":MAILTO:Uni-Innsbruck-noreply@uibk.ac.at
SUMMARY:VO Analysis 2 (LV 702211-1 25S)
DESCRIPTION:Lehrveranstaltung 702211 25S, Gruppe 1\nTitel: VO Analysis 2\nOrt: HS A (Technik)\n\nhttps://lfuonline.uibk.ac.at/public/lfuonline_lv.details?sem_id_in=25S&lvnr_id_in=702211\n
CLASS:PUBLIC
DTSTART:20250408T151500Z
DTEND:20250408T164500Z
DTSTAMP:20260420T191524Z
LOCATION:HS A (Technik)
COMMENT:Tutorium
END:VEVENT
BEGIN:VEVENT
UID:25S_702211_4743186@uibk.ac.at
ORGANIZER;CN="LFU:online Universität Innsbruck":MAILTO:Uni-Innsbruck-noreply@uibk.ac.at
SUMMARY:VO Analysis 2 (LV 702211-1 25S)
DESCRIPTION:Lehrveranstaltung 702211 25S, Gruppe 1\nTitel: VO Analysis 2\nOrt: HS A (Technik)\n\nhttps://lfuonline.uibk.ac.at/public/lfuonline_lv.details?sem_id_in=25S&lvnr_id_in=702211\n
CLASS:PUBLIC
DTSTART:20250409T081500Z
DTEND:20250409T094500Z
DTSTAMP:20260420T191524Z
LOCATION:HS A (Technik)
END:VEVENT
BEGIN:VEVENT
UID:25S_702211_4743168@uibk.ac.at
ORGANIZER;CN="LFU:online Universität Innsbruck":MAILTO:Uni-Innsbruck-noreply@uibk.ac.at
SUMMARY:VO Analysis 2 (LV 702211-1 25S)
DESCRIPTION:Lehrveranstaltung 702211 25S, Gruppe 1\nTitel: VO Analysis 2\nOrt: HS A (Technik)\n\nhttps://lfuonline.uibk.ac.at/public/lfuonline_lv.details?sem_id_in=25S&lvnr_id_in=702211\n
CLASS:PUBLIC
DTSTART:20250429T081500Z
DTEND:20250429T094500Z
DTSTAMP:20260420T191524Z
LOCATION:HS A (Technik)
END:VEVENT
BEGIN:VEVENT
UID:25S_702211_4743206@uibk.ac.at
ORGANIZER;CN="LFU:online Universität Innsbruck":MAILTO:Uni-Innsbruck-noreply@uibk.ac.at
SUMMARY:VO Analysis 2 (LV 702211-1 25S)
DESCRIPTION:Lehrveranstaltung 702211 25S, Gruppe 1\nTitel: VO Analysis 2\nOrt: HS A (Technik)\n\nhttps://lfuonline.uibk.ac.at/public/lfuonline_lv.details?sem_id_in=25S&lvnr_id_in=702211\n
CLASS:PUBLIC
DTSTART:20250429T151500Z
DTEND:20250429T164500Z
DTSTAMP:20260420T191524Z
LOCATION:HS A (Technik)
COMMENT:Tutorium
END:VEVENT
BEGIN:VEVENT
UID:25S_702211_4743187@uibk.ac.at
ORGANIZER;CN="LFU:online Universität Innsbruck":MAILTO:Uni-Innsbruck-noreply@uibk.ac.at
SUMMARY:VO Analysis 2 (LV 702211-1 25S)
DESCRIPTION:Lehrveranstaltung 702211 25S, Gruppe 1\nTitel: VO Analysis 2\nOrt: HS A (Technik)\n\nhttps://lfuonline.uibk.ac.at/public/lfuonline_lv.details?sem_id_in=25S&lvnr_id_in=702211\n
CLASS:PUBLIC
DTSTART:20250430T081500Z
DTEND:20250430T094500Z
DTSTAMP:20260420T191524Z
LOCATION:HS A (Technik)
END:VEVENT
BEGIN:VEVENT
UID:25S_702211_4820150@uibk.ac.at
ORGANIZER;CN="LFU:online Universität Innsbruck":MAILTO:Uni-Innsbruck-noreply@uibk.ac.at
SUMMARY:VO Analysis 2 (LV 702211-1 25S)
DESCRIPTION:Lehrveranstaltung 702211 25S, Gruppe 1\nTitel: VO Analysis 2\nOrt: HS A (Technik)\n\nhttps://lfuonline.uibk.ac.at/public/lfuonline_lv.details?sem_id_in=25S&lvnr_id_in=702211\n
CLASS:PUBLIC
DTSTART:20250430T110000Z
DTEND:20250430T143000Z
DTSTAMP:20260420T191524Z
LOCATION:HS A (Technik)
COMMENT:Ersatztermin
END:VEVENT
BEGIN:VEVENT
UID:25S_702211_4743169@uibk.ac.at
ORGANIZER;CN="LFU:online Universität Innsbruck":MAILTO:Uni-Innsbruck-noreply@uibk.ac.at
SUMMARY:VO Analysis 2 (LV 702211-1 25S)
DESCRIPTION:Lehrveranstaltung 702211 25S, Gruppe 1\nTitel: VO Analysis 2\nOrt: HS A (Technik)\n\nhttps://lfuonline.uibk.ac.at/public/lfuonline_lv.details?sem_id_in=25S&lvnr_id_in=702211\n
CLASS:PUBLIC
DTSTART:20250506T081500Z
DTEND:20250506T094500Z
DTSTAMP:20260420T191524Z
LOCATION:HS A (Technik)
END:VEVENT
BEGIN:VEVENT
UID:25S_702211_4743207@uibk.ac.at
ORGANIZER;CN="LFU:online Universität Innsbruck":MAILTO:Uni-Innsbruck-noreply@uibk.ac.at
SUMMARY:VO Analysis 2 (LV 702211-1 25S)
DESCRIPTION:Lehrveranstaltung 702211 25S, Gruppe 1\nTitel: VO Analysis 2\nOrt: HS A (Technik)\n\nhttps://lfuonline.uibk.ac.at/public/lfuonline_lv.details?sem_id_in=25S&lvnr_id_in=702211\n
CLASS:PUBLIC
DTSTART:20250506T151500Z
DTEND:20250506T164500Z
DTSTAMP:20260420T191524Z
LOCATION:HS A (Technik)
COMMENT:Tutorium
END:VEVENT
BEGIN:VEVENT
UID:25S_702211_4743188@uibk.ac.at
ORGANIZER;CN="LFU:online Universität Innsbruck":MAILTO:Uni-Innsbruck-noreply@uibk.ac.at
SUMMARY:VO Analysis 2 (LV 702211-1 25S)
DESCRIPTION:Lehrveranstaltung 702211 25S, Gruppe 1\nTitel: VO Analysis 2\nOrt: HS A (Technik)\n\nhttps://lfuonline.uibk.ac.at/public/lfuonline_lv.details?sem_id_in=25S&lvnr_id_in=702211\n
CLASS:PUBLIC
DTSTART:20250507T081500Z
DTEND:20250507T094500Z
DTSTAMP:20260420T191524Z
LOCATION:HS A (Technik)
END:VEVENT
BEGIN:VEVENT
UID:25S_702211_4743170@uibk.ac.at
ORGANIZER;CN="LFU:online Universität Innsbruck":MAILTO:Uni-Innsbruck-noreply@uibk.ac.at
SUMMARY:ABGESAGT: VO Analysis 2 (LV 702211-1 25S)
DESCRIPTION:Lehrveranstaltung 702211 25S, Gruppe 1\nTitel: VO Analysis 2\nOrt: HS A (Technik)\n\nhttps://lfuonline.uibk.ac.at/public/lfuonline_lv.details?sem_id_in=25S&lvnr_id_in=702211\n
CLASS:PUBLIC
DTSTART:20250513T081500Z
DTEND:20250513T094500Z
DTSTAMP:20260420T191524Z
LOCATION:HS A (Technik)
END:VEVENT
BEGIN:VEVENT
UID:25S_702211_4743208@uibk.ac.at
ORGANIZER;CN="LFU:online Universität Innsbruck":MAILTO:Uni-Innsbruck-noreply@uibk.ac.at
SUMMARY:VO Analysis 2 (LV 702211-1 25S)
DESCRIPTION:Lehrveranstaltung 702211 25S, Gruppe 1\nTitel: VO Analysis 2\nOrt: HS A (Technik)\n\nhttps://lfuonline.uibk.ac.at/public/lfuonline_lv.details?sem_id_in=25S&lvnr_id_in=702211\n
CLASS:PUBLIC
DTSTART:20250513T151500Z
DTEND:20250513T164500Z
DTSTAMP:20260420T191524Z
LOCATION:HS A (Technik)
COMMENT:Tutorium
END:VEVENT
BEGIN:VEVENT
UID:25S_702211_4743189@uibk.ac.at
ORGANIZER;CN="LFU:online Universität Innsbruck":MAILTO:Uni-Innsbruck-noreply@uibk.ac.at
SUMMARY:ABGESAGT: VO Analysis 2 (LV 702211-1 25S)
DESCRIPTION:Lehrveranstaltung 702211 25S, Gruppe 1\nTitel: VO Analysis 2\nOrt: HS A (Technik)\n\nhttps://lfuonline.uibk.ac.at/public/lfuonline_lv.details?sem_id_in=25S&lvnr_id_in=702211\n
CLASS:PUBLIC
DTSTART:20250514T081500Z
DTEND:20250514T094500Z
DTSTAMP:20260420T191524Z
LOCATION:HS A (Technik)
END:VEVENT
BEGIN:VEVENT
UID:25S_702211_4743171@uibk.ac.at
ORGANIZER;CN="LFU:online Universität Innsbruck":MAILTO:Uni-Innsbruck-noreply@uibk.ac.at
SUMMARY:VO Analysis 2 (LV 702211-1 25S)
DESCRIPTION:Lehrveranstaltung 702211 25S, Gruppe 1\nTitel: VO Analysis 2\nOrt: HS A (Technik)\n\nhttps://lfuonline.uibk.ac.at/public/lfuonline_lv.details?sem_id_in=25S&lvnr_id_in=702211\n
CLASS:PUBLIC
DTSTART:20250520T081500Z
DTEND:20250520T094500Z
DTSTAMP:20260420T191524Z
LOCATION:HS A (Technik)
END:VEVENT
BEGIN:VEVENT
UID:25S_702211_4743209@uibk.ac.at
ORGANIZER;CN="LFU:online Universität Innsbruck":MAILTO:Uni-Innsbruck-noreply@uibk.ac.at
SUMMARY:VO Analysis 2 (LV 702211-1 25S)
DESCRIPTION:Lehrveranstaltung 702211 25S, Gruppe 1\nTitel: VO Analysis 2\nOrt: HS A (Technik)\n\nhttps://lfuonline.uibk.ac.at/public/lfuonline_lv.details?sem_id_in=25S&lvnr_id_in=702211\n
CLASS:PUBLIC
DTSTART:20250520T151500Z
DTEND:20250520T164500Z
DTSTAMP:20260420T191524Z
LOCATION:HS A (Technik)
COMMENT:Tutorium
END:VEVENT
BEGIN:VEVENT
UID:25S_702211_4743190@uibk.ac.at
ORGANIZER;CN="LFU:online Universität Innsbruck":MAILTO:Uni-Innsbruck-noreply@uibk.ac.at
SUMMARY:VO Analysis 2 (LV 702211-1 25S)
DESCRIPTION:Lehrveranstaltung 702211 25S, Gruppe 1\nTitel: VO Analysis 2\nOrt: HS A (Technik)\n\nhttps://lfuonline.uibk.ac.at/public/lfuonline_lv.details?sem_id_in=25S&lvnr_id_in=702211\n
CLASS:PUBLIC
DTSTART:20250521T081500Z
DTEND:20250521T094500Z
DTSTAMP:20260420T191524Z
LOCATION:HS A (Technik)
END:VEVENT
BEGIN:VEVENT
UID:25S_702211_4743172@uibk.ac.at
ORGANIZER;CN="LFU:online Universität Innsbruck":MAILTO:Uni-Innsbruck-noreply@uibk.ac.at
SUMMARY:VO Analysis 2 (LV 702211-1 25S)
DESCRIPTION:Lehrveranstaltung 702211 25S, Gruppe 1\nTitel: VO Analysis 2\nOrt: HS A (Technik)\n\nhttps://lfuonline.uibk.ac.at/public/lfuonline_lv.details?sem_id_in=25S&lvnr_id_in=702211\n
CLASS:PUBLIC
DTSTART:20250527T081500Z
DTEND:20250527T094500Z
DTSTAMP:20260420T191524Z
LOCATION:HS A (Technik)
END:VEVENT
BEGIN:VEVENT
UID:25S_702211_4743210@uibk.ac.at
ORGANIZER;CN="LFU:online Universität Innsbruck":MAILTO:Uni-Innsbruck-noreply@uibk.ac.at
SUMMARY:VO Analysis 2 (LV 702211-1 25S)
DESCRIPTION:Lehrveranstaltung 702211 25S, Gruppe 1\nTitel: VO Analysis 2\nOrt: HS A (Technik)\n\nhttps://lfuonline.uibk.ac.at/public/lfuonline_lv.details?sem_id_in=25S&lvnr_id_in=702211\n
CLASS:PUBLIC
DTSTART:20250527T151500Z
DTEND:20250527T164500Z
DTSTAMP:20260420T191524Z
LOCATION:HS A (Technik)
COMMENT:Tutorium
END:VEVENT
BEGIN:VEVENT
UID:25S_702211_4743191@uibk.ac.at
ORGANIZER;CN="LFU:online Universität Innsbruck":MAILTO:Uni-Innsbruck-noreply@uibk.ac.at
SUMMARY:VO Analysis 2 (LV 702211-1 25S)
DESCRIPTION:Lehrveranstaltung 702211 25S, Gruppe 1\nTitel: VO Analysis 2\nOrt: HS A (Technik)\n\nhttps://lfuonline.uibk.ac.at/public/lfuonline_lv.details?sem_id_in=25S&lvnr_id_in=702211\n
CLASS:PUBLIC
DTSTART:20250528T081500Z
DTEND:20250528T094500Z
DTSTAMP:20260420T191524Z
LOCATION:HS A (Technik)
END:VEVENT
BEGIN:VEVENT
UID:25S_702211_4743173@uibk.ac.at
ORGANIZER;CN="LFU:online Universität Innsbruck":MAILTO:Uni-Innsbruck-noreply@uibk.ac.at
SUMMARY:VO Analysis 2 (LV 702211-1 25S)
DESCRIPTION:Lehrveranstaltung 702211 25S, Gruppe 1\nTitel: VO Analysis 2\nOrt: HS A (Technik)\n\nhttps://lfuonline.uibk.ac.at/public/lfuonline_lv.details?sem_id_in=25S&lvnr_id_in=702211\n
CLASS:PUBLIC
DTSTART:20250603T081500Z
DTEND:20250603T094500Z
DTSTAMP:20260420T191524Z
LOCATION:HS A (Technik)
END:VEVENT
BEGIN:VEVENT
UID:25S_702211_4743211@uibk.ac.at
ORGANIZER;CN="LFU:online Universität Innsbruck":MAILTO:Uni-Innsbruck-noreply@uibk.ac.at
SUMMARY:VO Analysis 2 (LV 702211-1 25S)
DESCRIPTION:Lehrveranstaltung 702211 25S, Gruppe 1\nTitel: VO Analysis 2\nOrt: HSB  1\n\nhttps://lfuonline.uibk.ac.at/public/lfuonline_lv.details?sem_id_in=25S&lvnr_id_in=702211\n
CLASS:PUBLIC
DTSTART:20250603T151500Z
DTEND:20250603T164500Z
DTSTAMP:20260420T191524Z
LOCATION:HSB  1
COMMENT:Tutorium
END:VEVENT
BEGIN:VEVENT
UID:25S_702211_4743192@uibk.ac.at
ORGANIZER;CN="LFU:online Universität Innsbruck":MAILTO:Uni-Innsbruck-noreply@uibk.ac.at
SUMMARY:VO Analysis 2 (LV 702211-1 25S)
DESCRIPTION:Lehrveranstaltung 702211 25S, Gruppe 1\nTitel: VO Analysis 2\nOrt: HS A (Technik)\n\nhttps://lfuonline.uibk.ac.at/public/lfuonline_lv.details?sem_id_in=25S&lvnr_id_in=702211\n
CLASS:PUBLIC
DTSTART:20250604T081500Z
DTEND:20250604T094500Z
DTSTAMP:20260420T191524Z
LOCATION:HS A (Technik)
END:VEVENT
BEGIN:VEVENT
UID:25S_702211_4743174@uibk.ac.at
ORGANIZER;CN="LFU:online Universität Innsbruck":MAILTO:Uni-Innsbruck-noreply@uibk.ac.at
SUMMARY:VO Analysis 2 (LV 702211-1 25S)
DESCRIPTION:Lehrveranstaltung 702211 25S, Gruppe 1\nTitel: VO Analysis 2\nOrt: HS A (Technik)\n\nhttps://lfuonline.uibk.ac.at/public/lfuonline_lv.details?sem_id_in=25S&lvnr_id_in=702211\n
CLASS:PUBLIC
DTSTART:20250610T081500Z
DTEND:20250610T094500Z
DTSTAMP:20260420T191524Z
LOCATION:HS A (Technik)
END:VEVENT
BEGIN:VEVENT
UID:25S_702211_4743212@uibk.ac.at
ORGANIZER;CN="LFU:online Universität Innsbruck":MAILTO:Uni-Innsbruck-noreply@uibk.ac.at
SUMMARY:VO Analysis 2 (LV 702211-1 25S)
DESCRIPTION:Lehrveranstaltung 702211 25S, Gruppe 1\nTitel: VO Analysis 2\nOrt: HS A (Technik)\n\nhttps://lfuonline.uibk.ac.at/public/lfuonline_lv.details?sem_id_in=25S&lvnr_id_in=702211\n
CLASS:PUBLIC
DTSTART:20250610T151500Z
DTEND:20250610T164500Z
DTSTAMP:20260420T191524Z
LOCATION:HS A (Technik)
COMMENT:Tutorium
END:VEVENT
BEGIN:VEVENT
UID:25S_702211_4743193@uibk.ac.at
ORGANIZER;CN="LFU:online Universität Innsbruck":MAILTO:Uni-Innsbruck-noreply@uibk.ac.at
SUMMARY:VO Analysis 2 (LV 702211-1 25S)
DESCRIPTION:Lehrveranstaltung 702211 25S, Gruppe 1\nTitel: VO Analysis 2\nOrt: HS A (Technik)\n\nhttps://lfuonline.uibk.ac.at/public/lfuonline_lv.details?sem_id_in=25S&lvnr_id_in=702211\n
CLASS:PUBLIC
DTSTART:20250611T081500Z
DTEND:20250611T094500Z
DTSTAMP:20260420T191524Z
LOCATION:HS A (Technik)
END:VEVENT
BEGIN:VEVENT
UID:25S_702211_4743175@uibk.ac.at
ORGANIZER;CN="LFU:online Universität Innsbruck":MAILTO:Uni-Innsbruck-noreply@uibk.ac.at
SUMMARY:VO Analysis 2 (LV 702211-1 25S)
DESCRIPTION:Lehrveranstaltung 702211 25S, Gruppe 1\nTitel: VO Analysis 2\nOrt: HS A (Technik)\n\nhttps://lfuonline.uibk.ac.at/public/lfuonline_lv.details?sem_id_in=25S&lvnr_id_in=702211\n
CLASS:PUBLIC
DTSTART:20250617T081500Z
DTEND:20250617T094500Z
DTSTAMP:20260420T191524Z
LOCATION:HS A (Technik)
END:VEVENT
BEGIN:VEVENT
UID:25S_702211_4743213@uibk.ac.at
ORGANIZER;CN="LFU:online Universität Innsbruck":MAILTO:Uni-Innsbruck-noreply@uibk.ac.at
SUMMARY:VO Analysis 2 (LV 702211-1 25S)
DESCRIPTION:Lehrveranstaltung 702211 25S, Gruppe 1\nTitel: VO Analysis 2\nOrt: HS A (Technik)\n\nhttps://lfuonline.uibk.ac.at/public/lfuonline_lv.details?sem_id_in=25S&lvnr_id_in=702211\n
CLASS:PUBLIC
DTSTART:20250617T151500Z
DTEND:20250617T164500Z
DTSTAMP:20260420T191524Z
LOCATION:HS A (Technik)
COMMENT:Tutorium
END:VEVENT
BEGIN:VEVENT
UID:25S_702211_4743194@uibk.ac.at
ORGANIZER;CN="LFU:online Universität Innsbruck":MAILTO:Uni-Innsbruck-noreply@uibk.ac.at
SUMMARY:VO Analysis 2 (LV 702211-1 25S)
DESCRIPTION:Lehrveranstaltung 702211 25S, Gruppe 1\nTitel: VO Analysis 2\nOrt: HS A (Technik)\n\nhttps://lfuonline.uibk.ac.at/public/lfuonline_lv.details?sem_id_in=25S&lvnr_id_in=702211\n
CLASS:PUBLIC
DTSTART:20250618T081500Z
DTEND:20250618T094500Z
DTSTAMP:20260420T191524Z
LOCATION:HS A (Technik)
END:VEVENT
BEGIN:VEVENT
UID:25S_702211_4743176@uibk.ac.at
ORGANIZER;CN="LFU:online Universität Innsbruck":MAILTO:Uni-Innsbruck-noreply@uibk.ac.at
SUMMARY:ABGESAGT: VO Analysis 2 (LV 702211-1 25S)
DESCRIPTION:Lehrveranstaltung 702211 25S, Gruppe 1\nTitel: VO Analysis 2\nOrt: HS A (Technik)\n\nhttps://lfuonline.uibk.ac.at/public/lfuonline_lv.details?sem_id_in=25S&lvnr_id_in=702211\n
CLASS:PUBLIC
DTSTART:20250624T081500Z
DTEND:20250624T094500Z
DTSTAMP:20260420T191524Z
LOCATION:HS A (Technik)
END:VEVENT
BEGIN:VEVENT
UID:25S_702211_4743214@uibk.ac.at
ORGANIZER;CN="LFU:online Universität Innsbruck":MAILTO:Uni-Innsbruck-noreply@uibk.ac.at
SUMMARY:VO Analysis 2 (LV 702211-1 25S)
DESCRIPTION:Lehrveranstaltung 702211 25S, Gruppe 1\nTitel: VO Analysis 2\nOrt: HS A (Technik)\n\nhttps://lfuonline.uibk.ac.at/public/lfuonline_lv.details?sem_id_in=25S&lvnr_id_in=702211\n
CLASS:PUBLIC
DTSTART:20250624T151500Z
DTEND:20250624T164500Z
DTSTAMP:20260420T191524Z
LOCATION:HS A (Technik)
COMMENT:Tutorium
END:VEVENT
BEGIN:VEVENT
UID:25S_702211_4743195@uibk.ac.at
ORGANIZER;CN="LFU:online Universität Innsbruck":MAILTO:Uni-Innsbruck-noreply@uibk.ac.at
SUMMARY:ABGESAGT: VO Analysis 2 (LV 702211-1 25S)
DESCRIPTION:Lehrveranstaltung 702211 25S, Gruppe 1\nTitel: VO Analysis 2\nOrt: HS A (Technik)\n\nhttps://lfuonline.uibk.ac.at/public/lfuonline_lv.details?sem_id_in=25S&lvnr_id_in=702211\n
CLASS:PUBLIC
DTSTART:20250625T081500Z
DTEND:20250625T094500Z
DTSTAMP:20260420T191524Z
LOCATION:HS A (Technik)
END:VEVENT
BEGIN:VEVENT
UID:25S_702211_4788825@uibk.ac.at
ORGANIZER;CN="LFU:online Universität Innsbruck":MAILTO:Uni-Innsbruck-noreply@uibk.ac.at
SUMMARY:VO Analysis 2 (LV 702211-1 25S)
DESCRIPTION:Lehrveranstaltung 702211 25S, Gruppe 1\nTitel: VO Analysis 2\nOrt: HSB  3\n\nhttps://lfuonline.uibk.ac.at/public/lfuonline_lv.details?sem_id_in=25S&lvnr_id_in=702211\n
CLASS:PUBLIC
DTSTART:20250627T133000Z
DTEND:20250627T163000Z
DTSTAMP:20260420T191524Z
LOCATION:HSB  3
COMMENT:Klausur
END:VEVENT
BEGIN:VEVENT
UID:25S_702211_4788824@uibk.ac.at
ORGANIZER;CN="LFU:online Universität Innsbruck":MAILTO:Uni-Innsbruck-noreply@uibk.ac.at
SUMMARY:VO Analysis 2 (LV 702211-1 25S)
DESCRIPTION:Lehrveranstaltung 702211 25S, Gruppe 1\nTitel: VO Analysis 2\nOrt: HS B (Technik)\n\nhttps://lfuonline.uibk.ac.at/public/lfuonline_lv.details?sem_id_in=25S&lvnr_id_in=702211\n
CLASS:PUBLIC
DTSTART:20250627T133000Z
DTEND:20250627T163000Z
DTSTAMP:20260420T191524Z
LOCATION:HS B (Technik)
COMMENT:Klausur
END:VEVENT
BEGIN:VEVENT
UID:25S_702211_4788823@uibk.ac.at
ORGANIZER;CN="LFU:online Universität Innsbruck":MAILTO:Uni-Innsbruck-noreply@uibk.ac.at
SUMMARY:VO Analysis 2 (LV 702211-1 25S)
DESCRIPTION:Lehrveranstaltung 702211 25S, Gruppe 1\nTitel: VO Analysis 2\nOrt: HS A (Technik)\n\nhttps://lfuonline.uibk.ac.at/public/lfuonline_lv.details?sem_id_in=25S&lvnr_id_in=702211\n
CLASS:PUBLIC
DTSTART:20250627T133000Z
DTEND:20250627T163000Z
DTSTAMP:20260420T191524Z
LOCATION:HS A (Technik)
COMMENT:Klausur
END:VEVENT
BEGIN:VEVENT
UID:25S_702211_4788828@uibk.ac.at
ORGANIZER;CN="LFU:online Universität Innsbruck":MAILTO:Uni-Innsbruck-noreply@uibk.ac.at
SUMMARY:VO Analysis 2 (LV 702211-1 25S)
DESCRIPTION:Lehrveranstaltung 702211 25S, Gruppe 1\nTitel: VO Analysis 2\nOrt: HSB  3\n\nhttps://lfuonline.uibk.ac.at/public/lfuonline_lv.details?sem_id_in=25S&lvnr_id_in=702211\n
CLASS:PUBLIC
DTSTART:20251010T133000Z
DTEND:20251010T163000Z
DTSTAMP:20260420T191524Z
LOCATION:HSB  3
COMMENT:Klausur
END:VEVENT
BEGIN:VEVENT
UID:25S_702211_4788827@uibk.ac.at
ORGANIZER;CN="LFU:online Universität Innsbruck":MAILTO:Uni-Innsbruck-noreply@uibk.ac.at
SUMMARY:VO Analysis 2 (LV 702211-1 25S)
DESCRIPTION:Lehrveranstaltung 702211 25S, Gruppe 1\nTitel: VO Analysis 2\nOrt: HS B (Technik)\n\nhttps://lfuonline.uibk.ac.at/public/lfuonline_lv.details?sem_id_in=25S&lvnr_id_in=702211\n
CLASS:PUBLIC
DTSTART:20251010T133000Z
DTEND:20251010T163000Z
DTSTAMP:20260420T191524Z
LOCATION:HS B (Technik)
COMMENT:Klausur
END:VEVENT
BEGIN:VEVENT
UID:25S_702211_4788826@uibk.ac.at
ORGANIZER;CN="LFU:online Universität Innsbruck":MAILTO:Uni-Innsbruck-noreply@uibk.ac.at
SUMMARY:VO Analysis 2 (LV 702211-1 25S)
DESCRIPTION:Lehrveranstaltung 702211 25S, Gruppe 1\nTitel: VO Analysis 2\nOrt: HS A (Technik)\n\nhttps://lfuonline.uibk.ac.at/public/lfuonline_lv.details?sem_id_in=25S&lvnr_id_in=702211\n
CLASS:PUBLIC
DTSTART:20251010T133000Z
DTEND:20251010T163000Z
DTSTAMP:20260420T191524Z
LOCATION:HS A (Technik)
COMMENT:Klausur
END:VEVENT
BEGIN:VEVENT
UID:25S_702211_4964824@uibk.ac.at
ORGANIZER;CN="LFU:online Universität Innsbruck":MAILTO:Uni-Innsbruck-noreply@uibk.ac.at
SUMMARY:VO Analysis 2 (LV 702211-1 25S)
DESCRIPTION:Lehrveranstaltung 702211 25S, Gruppe 1\nTitel: VO Analysis 2\nOrt: HSB  3\n\nhttps://lfuonline.uibk.ac.at/public/lfuonline_lv.details?sem_id_in=25S&lvnr_id_in=702211\n
CLASS:PUBLIC
DTSTART:20251121T143000Z
DTEND:20251121T173000Z
DTSTAMP:20260420T191524Z
LOCATION:HSB  3
COMMENT:Prüfung
END:VEVENT
END:VCALENDAR