BEGIN:VCALENDAR
VERSION:2.0
PRODID:-//Universität Innsbruck//LFU:online//DE
METHOD:PUBLISH
BEGIN:VEVENT
UID:19S_702212_3277652@uibk.ac.at
ORGANIZER;CN="LFU:online Universität Innsbruck":MAILTO:Uni-Innsbruck-noreply@uibk.ac.at
SUMMARY:PS Analysis 2 (LV 702212-1 19S)
DESCRIPTION:Lehrveranstaltung 702212 19S, Gruppe 1\nTitel: PS Analysis 2\nOrt: HS E (Technik)\n\nhttps://lfuonline.uibk.ac.at/public/lfuonline_lv.details?sem_id_in=19S&lvnr_id_in=702212\n
CLASS:PUBLIC
DTSTART:20190307T091500Z
DTEND:20190307T110000Z
DTSTAMP:20260422T042320Z
LOCATION:HS E (Technik)
END:VEVENT
BEGIN:VEVENT
UID:19S_702212_3277653@uibk.ac.at
ORGANIZER;CN="LFU:online Universität Innsbruck":MAILTO:Uni-Innsbruck-noreply@uibk.ac.at
SUMMARY:PS Analysis 2 (LV 702212-1 19S)
DESCRIPTION:Lehrveranstaltung 702212 19S, Gruppe 1\nTitel: PS Analysis 2\nOrt: HS E (Technik)\n\nhttps://lfuonline.uibk.ac.at/public/lfuonline_lv.details?sem_id_in=19S&lvnr_id_in=702212\n
CLASS:PUBLIC
DTSTART:20190314T091500Z
DTEND:20190314T110000Z
DTSTAMP:20260422T042320Z
LOCATION:HS E (Technik)
END:VEVENT
BEGIN:VEVENT
UID:19S_702212_3277654@uibk.ac.at
ORGANIZER;CN="LFU:online Universität Innsbruck":MAILTO:Uni-Innsbruck-noreply@uibk.ac.at
SUMMARY:PS Analysis 2 (LV 702212-1 19S)
DESCRIPTION:Lehrveranstaltung 702212 19S, Gruppe 1\nTitel: PS Analysis 2\nOrt: HS E (Technik)\n\nhttps://lfuonline.uibk.ac.at/public/lfuonline_lv.details?sem_id_in=19S&lvnr_id_in=702212\n
CLASS:PUBLIC
DTSTART:20190321T091500Z
DTEND:20190321T110000Z
DTSTAMP:20260422T042320Z
LOCATION:HS E (Technik)
END:VEVENT
BEGIN:VEVENT
UID:19S_702212_3277655@uibk.ac.at
ORGANIZER;CN="LFU:online Universität Innsbruck":MAILTO:Uni-Innsbruck-noreply@uibk.ac.at
SUMMARY:PS Analysis 2 (LV 702212-1 19S)
DESCRIPTION:Lehrveranstaltung 702212 19S, Gruppe 1\nTitel: PS Analysis 2\nOrt: HS E (Technik)\n\nhttps://lfuonline.uibk.ac.at/public/lfuonline_lv.details?sem_id_in=19S&lvnr_id_in=702212\n
CLASS:PUBLIC
DTSTART:20190328T091500Z
DTEND:20190328T110000Z
DTSTAMP:20260422T042320Z
LOCATION:HS E (Technik)
END:VEVENT
BEGIN:VEVENT
UID:19S_702212_3277656@uibk.ac.at
ORGANIZER;CN="LFU:online Universität Innsbruck":MAILTO:Uni-Innsbruck-noreply@uibk.ac.at
SUMMARY:PS Analysis 2 (LV 702212-1 19S)
DESCRIPTION:Lehrveranstaltung 702212 19S, Gruppe 1\nTitel: PS Analysis 2\nOrt: HS E (Technik)\n\nhttps://lfuonline.uibk.ac.at/public/lfuonline_lv.details?sem_id_in=19S&lvnr_id_in=702212\n
CLASS:PUBLIC
DTSTART:20190404T081500Z
DTEND:20190404T100000Z
DTSTAMP:20260422T042320Z
LOCATION:HS E (Technik)
END:VEVENT
BEGIN:VEVENT
UID:19S_702212_3277657@uibk.ac.at
ORGANIZER;CN="LFU:online Universität Innsbruck":MAILTO:Uni-Innsbruck-noreply@uibk.ac.at
SUMMARY:PS Analysis 2 (LV 702212-1 19S)
DESCRIPTION:Lehrveranstaltung 702212 19S, Gruppe 1\nTitel: PS Analysis 2\nOrt: HS E (Technik)\n\nhttps://lfuonline.uibk.ac.at/public/lfuonline_lv.details?sem_id_in=19S&lvnr_id_in=702212\n
CLASS:PUBLIC
DTSTART:20190411T081500Z
DTEND:20190411T100000Z
DTSTAMP:20260422T042320Z
LOCATION:HS E (Technik)
END:VEVENT
BEGIN:VEVENT
UID:19S_702212_3277658@uibk.ac.at
ORGANIZER;CN="LFU:online Universität Innsbruck":MAILTO:Uni-Innsbruck-noreply@uibk.ac.at
SUMMARY:PS Analysis 2 (LV 702212-1 19S)
DESCRIPTION:Lehrveranstaltung 702212 19S, Gruppe 1\nTitel: PS Analysis 2\nOrt: HS E (Technik)\n\nhttps://lfuonline.uibk.ac.at/public/lfuonline_lv.details?sem_id_in=19S&lvnr_id_in=702212\n
CLASS:PUBLIC
DTSTART:20190502T081500Z
DTEND:20190502T100000Z
DTSTAMP:20260422T042320Z
LOCATION:HS E (Technik)
END:VEVENT
BEGIN:VEVENT
UID:19S_702212_3277659@uibk.ac.at
ORGANIZER;CN="LFU:online Universität Innsbruck":MAILTO:Uni-Innsbruck-noreply@uibk.ac.at
SUMMARY:PS Analysis 2 (LV 702212-1 19S)
DESCRIPTION:Lehrveranstaltung 702212 19S, Gruppe 1\nTitel: PS Analysis 2\nOrt: HS E (Technik)\n\nhttps://lfuonline.uibk.ac.at/public/lfuonline_lv.details?sem_id_in=19S&lvnr_id_in=702212\n
CLASS:PUBLIC
DTSTART:20190509T081500Z
DTEND:20190509T100000Z
DTSTAMP:20260422T042320Z
LOCATION:HS E (Technik)
END:VEVENT
BEGIN:VEVENT
UID:19S_702212_3277660@uibk.ac.at
ORGANIZER;CN="LFU:online Universität Innsbruck":MAILTO:Uni-Innsbruck-noreply@uibk.ac.at
SUMMARY:PS Analysis 2 (LV 702212-1 19S)
DESCRIPTION:Lehrveranstaltung 702212 19S, Gruppe 1\nTitel: PS Analysis 2\nOrt: HS E (Technik)\n\nhttps://lfuonline.uibk.ac.at/public/lfuonline_lv.details?sem_id_in=19S&lvnr_id_in=702212\n
CLASS:PUBLIC
DTSTART:20190516T081500Z
DTEND:20190516T100000Z
DTSTAMP:20260422T042320Z
LOCATION:HS E (Technik)
END:VEVENT
BEGIN:VEVENT
UID:19S_702212_3277661@uibk.ac.at
ORGANIZER;CN="LFU:online Universität Innsbruck":MAILTO:Uni-Innsbruck-noreply@uibk.ac.at
SUMMARY:PS Analysis 2 (LV 702212-1 19S)
DESCRIPTION:Lehrveranstaltung 702212 19S, Gruppe 1\nTitel: PS Analysis 2\nOrt: HS E (Technik)\n\nhttps://lfuonline.uibk.ac.at/public/lfuonline_lv.details?sem_id_in=19S&lvnr_id_in=702212\n
CLASS:PUBLIC
DTSTART:20190523T081500Z
DTEND:20190523T100000Z
DTSTAMP:20260422T042320Z
LOCATION:HS E (Technik)
END:VEVENT
BEGIN:VEVENT
UID:19S_702212_3277662@uibk.ac.at
ORGANIZER;CN="LFU:online Universität Innsbruck":MAILTO:Uni-Innsbruck-noreply@uibk.ac.at
SUMMARY:PS Analysis 2 (LV 702212-1 19S)
DESCRIPTION:Lehrveranstaltung 702212 19S, Gruppe 1\nTitel: PS Analysis 2\nOrt: HS E (Technik)\n\nhttps://lfuonline.uibk.ac.at/public/lfuonline_lv.details?sem_id_in=19S&lvnr_id_in=702212\n
CLASS:PUBLIC
DTSTART:20190606T081500Z
DTEND:20190606T100000Z
DTSTAMP:20260422T042320Z
LOCATION:HS E (Technik)
END:VEVENT
BEGIN:VEVENT
UID:19S_702212_3277663@uibk.ac.at
ORGANIZER;CN="LFU:online Universität Innsbruck":MAILTO:Uni-Innsbruck-noreply@uibk.ac.at
SUMMARY:PS Analysis 2 (LV 702212-1 19S)
DESCRIPTION:Lehrveranstaltung 702212 19S, Gruppe 1\nTitel: PS Analysis 2\nOrt: HS E (Technik)\n\nhttps://lfuonline.uibk.ac.at/public/lfuonline_lv.details?sem_id_in=19S&lvnr_id_in=702212\n
CLASS:PUBLIC
DTSTART:20190613T081500Z
DTEND:20190613T100000Z
DTSTAMP:20260422T042320Z
LOCATION:HS E (Technik)
END:VEVENT
BEGIN:VEVENT
UID:19S_702212_3277664@uibk.ac.at
ORGANIZER;CN="LFU:online Universität Innsbruck":MAILTO:Uni-Innsbruck-noreply@uibk.ac.at
SUMMARY:PS Analysis 2 (LV 702212-1 19S)
DESCRIPTION:Lehrveranstaltung 702212 19S, Gruppe 1\nTitel: PS Analysis 2\nOrt: HS E (Technik)\n\nhttps://lfuonline.uibk.ac.at/public/lfuonline_lv.details?sem_id_in=19S&lvnr_id_in=702212\n
CLASS:PUBLIC
DTSTART:20190627T081500Z
DTEND:20190627T100000Z
DTSTAMP:20260422T042320Z
LOCATION:HS E (Technik)
END:VEVENT
BEGIN:VEVENT
UID:19S_702212_3450706@uibk.ac.at
ORGANIZER;CN="LFU:online Universität Innsbruck":MAILTO:Uni-Innsbruck-noreply@uibk.ac.at
SUMMARY:PS Analysis 2 (LV 702212-1 19S)
DESCRIPTION:Lehrveranstaltung 702212 19S, Gruppe 1\nTitel: PS Analysis 2\nOrt: HSB  3\n\nhttps://lfuonline.uibk.ac.at/public/lfuonline_lv.details?sem_id_in=19S&lvnr_id_in=702212\n
CLASS:PUBLIC
DTSTART:20190924T130000Z
DTEND:20190924T160000Z
DTSTAMP:20260422T042320Z
LOCATION:HSB  3
COMMENT:Nachklausur
END:VEVENT
END:VCALENDAR