BEGIN:VCALENDAR
VERSION:2.0
PRODID:-//Universität Innsbruck//LFU:online//DE
METHOD:PUBLISH
BEGIN:VEVENT
UID:26S_702411_5010703@uibk.ac.at
ORGANIZER;CN="LFU:online Universität Innsbruck":MAILTO:Uni-Innsbruck-noreply@uibk.ac.at
SUMMARY:VO Analysis 4 (LV 702411-1 26S)
DESCRIPTION:Lehrveranstaltung 702411 26S, Gruppe 1\nTitel: VO Analysis 4\nOrt: HS G (Technik)\n\nhttps://lfuonline.uibk.ac.at/public/lfuonline_lv.details?sem_id_in=26S&lvnr_id_in=702411\n
CLASS:PUBLIC
DTSTART:20260303T091500Z
DTEND:20260303T104500Z
DTSTAMP:20260422T042320Z
LOCATION:HS G (Technik)
END:VEVENT
BEGIN:VEVENT
UID:26S_702411_5010721@uibk.ac.at
ORGANIZER;CN="LFU:online Universität Innsbruck":MAILTO:Uni-Innsbruck-noreply@uibk.ac.at
SUMMARY:VO Analysis 4 (LV 702411-1 26S)
DESCRIPTION:Lehrveranstaltung 702411 26S, Gruppe 1\nTitel: VO Analysis 4\nOrt: HS F (Technik)\n\nhttps://lfuonline.uibk.ac.at/public/lfuonline_lv.details?sem_id_in=26S&lvnr_id_in=702411\n
CLASS:PUBLIC
DTSTART:20260304T091500Z
DTEND:20260304T104500Z
DTSTAMP:20260422T042320Z
LOCATION:HS F (Technik)
END:VEVENT
BEGIN:VEVENT
UID:26S_702411_5010704@uibk.ac.at
ORGANIZER;CN="LFU:online Universität Innsbruck":MAILTO:Uni-Innsbruck-noreply@uibk.ac.at
SUMMARY:VO Analysis 4 (LV 702411-1 26S)
DESCRIPTION:Lehrveranstaltung 702411 26S, Gruppe 1\nTitel: VO Analysis 4\nOrt: HS G (Technik)\n\nhttps://lfuonline.uibk.ac.at/public/lfuonline_lv.details?sem_id_in=26S&lvnr_id_in=702411\n
CLASS:PUBLIC
DTSTART:20260310T091500Z
DTEND:20260310T104500Z
DTSTAMP:20260422T042320Z
LOCATION:HS G (Technik)
END:VEVENT
BEGIN:VEVENT
UID:26S_702411_5010722@uibk.ac.at
ORGANIZER;CN="LFU:online Universität Innsbruck":MAILTO:Uni-Innsbruck-noreply@uibk.ac.at
SUMMARY:VO Analysis 4 (LV 702411-1 26S)
DESCRIPTION:Lehrveranstaltung 702411 26S, Gruppe 1\nTitel: VO Analysis 4\nOrt: HS F (Technik)\n\nhttps://lfuonline.uibk.ac.at/public/lfuonline_lv.details?sem_id_in=26S&lvnr_id_in=702411\n
CLASS:PUBLIC
DTSTART:20260311T091500Z
DTEND:20260311T104500Z
DTSTAMP:20260422T042320Z
LOCATION:HS F (Technik)
END:VEVENT
BEGIN:VEVENT
UID:26S_702411_5010705@uibk.ac.at
ORGANIZER;CN="LFU:online Universität Innsbruck":MAILTO:Uni-Innsbruck-noreply@uibk.ac.at
SUMMARY:VO Analysis 4 (LV 702411-1 26S)
DESCRIPTION:Lehrveranstaltung 702411 26S, Gruppe 1\nTitel: VO Analysis 4\nOrt: HS G (Technik)\n\nhttps://lfuonline.uibk.ac.at/public/lfuonline_lv.details?sem_id_in=26S&lvnr_id_in=702411\n
CLASS:PUBLIC
DTSTART:20260317T091500Z
DTEND:20260317T104500Z
DTSTAMP:20260422T042320Z
LOCATION:HS G (Technik)
END:VEVENT
BEGIN:VEVENT
UID:26S_702411_5010723@uibk.ac.at
ORGANIZER;CN="LFU:online Universität Innsbruck":MAILTO:Uni-Innsbruck-noreply@uibk.ac.at
SUMMARY:VO Analysis 4 (LV 702411-1 26S)
DESCRIPTION:Lehrveranstaltung 702411 26S, Gruppe 1\nTitel: VO Analysis 4\nOrt: HS F (Technik)\n\nhttps://lfuonline.uibk.ac.at/public/lfuonline_lv.details?sem_id_in=26S&lvnr_id_in=702411\n
CLASS:PUBLIC
DTSTART:20260318T091500Z
DTEND:20260318T104500Z
DTSTAMP:20260422T042320Z
LOCATION:HS F (Technik)
END:VEVENT
BEGIN:VEVENT
UID:26S_702411_5010706@uibk.ac.at
ORGANIZER;CN="LFU:online Universität Innsbruck":MAILTO:Uni-Innsbruck-noreply@uibk.ac.at
SUMMARY:VO Analysis 4 (LV 702411-1 26S)
DESCRIPTION:Lehrveranstaltung 702411 26S, Gruppe 1\nTitel: VO Analysis 4\nOrt: HS G (Technik)\n\nhttps://lfuonline.uibk.ac.at/public/lfuonline_lv.details?sem_id_in=26S&lvnr_id_in=702411\n
CLASS:PUBLIC
DTSTART:20260324T091500Z
DTEND:20260324T104500Z
DTSTAMP:20260422T042320Z
LOCATION:HS G (Technik)
END:VEVENT
BEGIN:VEVENT
UID:26S_702411_5010724@uibk.ac.at
ORGANIZER;CN="LFU:online Universität Innsbruck":MAILTO:Uni-Innsbruck-noreply@uibk.ac.at
SUMMARY:VO Analysis 4 (LV 702411-1 26S)
DESCRIPTION:Lehrveranstaltung 702411 26S, Gruppe 1\nTitel: VO Analysis 4\nOrt: HS F (Technik)\n\nhttps://lfuonline.uibk.ac.at/public/lfuonline_lv.details?sem_id_in=26S&lvnr_id_in=702411\n
CLASS:PUBLIC
DTSTART:20260325T091500Z
DTEND:20260325T104500Z
DTSTAMP:20260422T042320Z
LOCATION:HS F (Technik)
END:VEVENT
BEGIN:VEVENT
UID:26S_702411_5010707@uibk.ac.at
ORGANIZER;CN="LFU:online Universität Innsbruck":MAILTO:Uni-Innsbruck-noreply@uibk.ac.at
SUMMARY:VO Analysis 4 (LV 702411-1 26S)
DESCRIPTION:Lehrveranstaltung 702411 26S, Gruppe 1\nTitel: VO Analysis 4\nOrt: HS G (Technik)\n\nhttps://lfuonline.uibk.ac.at/public/lfuonline_lv.details?sem_id_in=26S&lvnr_id_in=702411\n
CLASS:PUBLIC
DTSTART:20260414T081500Z
DTEND:20260414T094500Z
DTSTAMP:20260422T042320Z
LOCATION:HS G (Technik)
END:VEVENT
BEGIN:VEVENT
UID:26S_702411_5010725@uibk.ac.at
ORGANIZER;CN="LFU:online Universität Innsbruck":MAILTO:Uni-Innsbruck-noreply@uibk.ac.at
SUMMARY:VO Analysis 4 (LV 702411-1 26S)
DESCRIPTION:Lehrveranstaltung 702411 26S, Gruppe 1\nTitel: VO Analysis 4\nOrt: HS F (Technik)\n\nhttps://lfuonline.uibk.ac.at/public/lfuonline_lv.details?sem_id_in=26S&lvnr_id_in=702411\n
CLASS:PUBLIC
DTSTART:20260415T081500Z
DTEND:20260415T094500Z
DTSTAMP:20260422T042320Z
LOCATION:HS F (Technik)
END:VEVENT
BEGIN:VEVENT
UID:26S_702411_5010708@uibk.ac.at
ORGANIZER;CN="LFU:online Universität Innsbruck":MAILTO:Uni-Innsbruck-noreply@uibk.ac.at
SUMMARY:VO Analysis 4 (LV 702411-1 26S)
DESCRIPTION:Lehrveranstaltung 702411 26S, Gruppe 1\nTitel: VO Analysis 4\nOrt: HS G (Technik)\n\nhttps://lfuonline.uibk.ac.at/public/lfuonline_lv.details?sem_id_in=26S&lvnr_id_in=702411\n
CLASS:PUBLIC
DTSTART:20260421T081500Z
DTEND:20260421T094500Z
DTSTAMP:20260422T042320Z
LOCATION:HS G (Technik)
END:VEVENT
BEGIN:VEVENT
UID:26S_702411_5010726@uibk.ac.at
ORGANIZER;CN="LFU:online Universität Innsbruck":MAILTO:Uni-Innsbruck-noreply@uibk.ac.at
SUMMARY:VO Analysis 4 (LV 702411-1 26S)
DESCRIPTION:Lehrveranstaltung 702411 26S, Gruppe 1\nTitel: VO Analysis 4\nOrt: HS F (Technik)\n\nhttps://lfuonline.uibk.ac.at/public/lfuonline_lv.details?sem_id_in=26S&lvnr_id_in=702411\n
CLASS:PUBLIC
DTSTART:20260422T081500Z
DTEND:20260422T094500Z
DTSTAMP:20260422T042320Z
LOCATION:HS F (Technik)
END:VEVENT
BEGIN:VEVENT
UID:26S_702411_5010709@uibk.ac.at
ORGANIZER;CN="LFU:online Universität Innsbruck":MAILTO:Uni-Innsbruck-noreply@uibk.ac.at
SUMMARY:VO Analysis 4 (LV 702411-1 26S)
DESCRIPTION:Lehrveranstaltung 702411 26S, Gruppe 1\nTitel: VO Analysis 4\nOrt: HS G (Technik)\n\nhttps://lfuonline.uibk.ac.at/public/lfuonline_lv.details?sem_id_in=26S&lvnr_id_in=702411\n
CLASS:PUBLIC
DTSTART:20260428T081500Z
DTEND:20260428T094500Z
DTSTAMP:20260422T042320Z
LOCATION:HS G (Technik)
END:VEVENT
BEGIN:VEVENT
UID:26S_702411_5010727@uibk.ac.at
ORGANIZER;CN="LFU:online Universität Innsbruck":MAILTO:Uni-Innsbruck-noreply@uibk.ac.at
SUMMARY:VO Analysis 4 (LV 702411-1 26S)
DESCRIPTION:Lehrveranstaltung 702411 26S, Gruppe 1\nTitel: VO Analysis 4\nOrt: HS F (Technik)\n\nhttps://lfuonline.uibk.ac.at/public/lfuonline_lv.details?sem_id_in=26S&lvnr_id_in=702411\n
CLASS:PUBLIC
DTSTART:20260429T081500Z
DTEND:20260429T094500Z
DTSTAMP:20260422T042320Z
LOCATION:HS F (Technik)
END:VEVENT
BEGIN:VEVENT
UID:26S_702411_5010710@uibk.ac.at
ORGANIZER;CN="LFU:online Universität Innsbruck":MAILTO:Uni-Innsbruck-noreply@uibk.ac.at
SUMMARY:VO Analysis 4 (LV 702411-1 26S)
DESCRIPTION:Lehrveranstaltung 702411 26S, Gruppe 1\nTitel: VO Analysis 4\nOrt: HS G (Technik)\n\nhttps://lfuonline.uibk.ac.at/public/lfuonline_lv.details?sem_id_in=26S&lvnr_id_in=702411\n
CLASS:PUBLIC
DTSTART:20260505T081500Z
DTEND:20260505T094500Z
DTSTAMP:20260422T042320Z
LOCATION:HS G (Technik)
END:VEVENT
BEGIN:VEVENT
UID:26S_702411_5010728@uibk.ac.at
ORGANIZER;CN="LFU:online Universität Innsbruck":MAILTO:Uni-Innsbruck-noreply@uibk.ac.at
SUMMARY:VO Analysis 4 (LV 702411-1 26S)
DESCRIPTION:Lehrveranstaltung 702411 26S, Gruppe 1\nTitel: VO Analysis 4\nOrt: HS F (Technik)\n\nhttps://lfuonline.uibk.ac.at/public/lfuonline_lv.details?sem_id_in=26S&lvnr_id_in=702411\n
CLASS:PUBLIC
DTSTART:20260506T081500Z
DTEND:20260506T094500Z
DTSTAMP:20260422T042320Z
LOCATION:HS F (Technik)
END:VEVENT
BEGIN:VEVENT
UID:26S_702411_5010711@uibk.ac.at
ORGANIZER;CN="LFU:online Universität Innsbruck":MAILTO:Uni-Innsbruck-noreply@uibk.ac.at
SUMMARY:VO Analysis 4 (LV 702411-1 26S)
DESCRIPTION:Lehrveranstaltung 702411 26S, Gruppe 1\nTitel: VO Analysis 4\nOrt: HS G (Technik)\n\nhttps://lfuonline.uibk.ac.at/public/lfuonline_lv.details?sem_id_in=26S&lvnr_id_in=702411\n
CLASS:PUBLIC
DTSTART:20260512T081500Z
DTEND:20260512T094500Z
DTSTAMP:20260422T042320Z
LOCATION:HS G (Technik)
END:VEVENT
BEGIN:VEVENT
UID:26S_702411_5010729@uibk.ac.at
ORGANIZER;CN="LFU:online Universität Innsbruck":MAILTO:Uni-Innsbruck-noreply@uibk.ac.at
SUMMARY:VO Analysis 4 (LV 702411-1 26S)
DESCRIPTION:Lehrveranstaltung 702411 26S, Gruppe 1\nTitel: VO Analysis 4\nOrt: HS F (Technik)\n\nhttps://lfuonline.uibk.ac.at/public/lfuonline_lv.details?sem_id_in=26S&lvnr_id_in=702411\n
CLASS:PUBLIC
DTSTART:20260513T081500Z
DTEND:20260513T094500Z
DTSTAMP:20260422T042320Z
LOCATION:HS F (Technik)
END:VEVENT
BEGIN:VEVENT
UID:26S_702411_5010712@uibk.ac.at
ORGANIZER;CN="LFU:online Universität Innsbruck":MAILTO:Uni-Innsbruck-noreply@uibk.ac.at
SUMMARY:VO Analysis 4 (LV 702411-1 26S)
DESCRIPTION:Lehrveranstaltung 702411 26S, Gruppe 1\nTitel: VO Analysis 4\nOrt: HS G (Technik)\n\nhttps://lfuonline.uibk.ac.at/public/lfuonline_lv.details?sem_id_in=26S&lvnr_id_in=702411\n
CLASS:PUBLIC
DTSTART:20260519T081500Z
DTEND:20260519T094500Z
DTSTAMP:20260422T042320Z
LOCATION:HS G (Technik)
END:VEVENT
BEGIN:VEVENT
UID:26S_702411_5010730@uibk.ac.at
ORGANIZER;CN="LFU:online Universität Innsbruck":MAILTO:Uni-Innsbruck-noreply@uibk.ac.at
SUMMARY:VO Analysis 4 (LV 702411-1 26S)
DESCRIPTION:Lehrveranstaltung 702411 26S, Gruppe 1\nTitel: VO Analysis 4\nOrt: HS F (Technik)\n\nhttps://lfuonline.uibk.ac.at/public/lfuonline_lv.details?sem_id_in=26S&lvnr_id_in=702411\n
CLASS:PUBLIC
DTSTART:20260520T081500Z
DTEND:20260520T094500Z
DTSTAMP:20260422T042320Z
LOCATION:HS F (Technik)
END:VEVENT
BEGIN:VEVENT
UID:26S_702411_5010713@uibk.ac.at
ORGANIZER;CN="LFU:online Universität Innsbruck":MAILTO:Uni-Innsbruck-noreply@uibk.ac.at
SUMMARY:VO Analysis 4 (LV 702411-1 26S)
DESCRIPTION:Lehrveranstaltung 702411 26S, Gruppe 1\nTitel: VO Analysis 4\nOrt: HS G (Technik)\n\nhttps://lfuonline.uibk.ac.at/public/lfuonline_lv.details?sem_id_in=26S&lvnr_id_in=702411\n
CLASS:PUBLIC
DTSTART:20260526T081500Z
DTEND:20260526T094500Z
DTSTAMP:20260422T042320Z
LOCATION:HS G (Technik)
END:VEVENT
BEGIN:VEVENT
UID:26S_702411_5010731@uibk.ac.at
ORGANIZER;CN="LFU:online Universität Innsbruck":MAILTO:Uni-Innsbruck-noreply@uibk.ac.at
SUMMARY:VO Analysis 4 (LV 702411-1 26S)
DESCRIPTION:Lehrveranstaltung 702411 26S, Gruppe 1\nTitel: VO Analysis 4\nOrt: HS F (Technik)\n\nhttps://lfuonline.uibk.ac.at/public/lfuonline_lv.details?sem_id_in=26S&lvnr_id_in=702411\n
CLASS:PUBLIC
DTSTART:20260527T081500Z
DTEND:20260527T094500Z
DTSTAMP:20260422T042320Z
LOCATION:HS F (Technik)
END:VEVENT
BEGIN:VEVENT
UID:26S_702411_5010714@uibk.ac.at
ORGANIZER;CN="LFU:online Universität Innsbruck":MAILTO:Uni-Innsbruck-noreply@uibk.ac.at
SUMMARY:VO Analysis 4 (LV 702411-1 26S)
DESCRIPTION:Lehrveranstaltung 702411 26S, Gruppe 1\nTitel: VO Analysis 4\nOrt: HS G (Technik)\n\nhttps://lfuonline.uibk.ac.at/public/lfuonline_lv.details?sem_id_in=26S&lvnr_id_in=702411\n
CLASS:PUBLIC
DTSTART:20260602T081500Z
DTEND:20260602T094500Z
DTSTAMP:20260422T042320Z
LOCATION:HS G (Technik)
END:VEVENT
BEGIN:VEVENT
UID:26S_702411_5010732@uibk.ac.at
ORGANIZER;CN="LFU:online Universität Innsbruck":MAILTO:Uni-Innsbruck-noreply@uibk.ac.at
SUMMARY:VO Analysis 4 (LV 702411-1 26S)
DESCRIPTION:Lehrveranstaltung 702411 26S, Gruppe 1\nTitel: VO Analysis 4\nOrt: HS F (Technik)\n\nhttps://lfuonline.uibk.ac.at/public/lfuonline_lv.details?sem_id_in=26S&lvnr_id_in=702411\n
CLASS:PUBLIC
DTSTART:20260603T081500Z
DTEND:20260603T094500Z
DTSTAMP:20260422T042320Z
LOCATION:HS F (Technik)
END:VEVENT
BEGIN:VEVENT
UID:26S_702411_5010715@uibk.ac.at
ORGANIZER;CN="LFU:online Universität Innsbruck":MAILTO:Uni-Innsbruck-noreply@uibk.ac.at
SUMMARY:VO Analysis 4 (LV 702411-1 26S)
DESCRIPTION:Lehrveranstaltung 702411 26S, Gruppe 1\nTitel: VO Analysis 4\nOrt: HS G (Technik)\n\nhttps://lfuonline.uibk.ac.at/public/lfuonline_lv.details?sem_id_in=26S&lvnr_id_in=702411\n
CLASS:PUBLIC
DTSTART:20260609T081500Z
DTEND:20260609T094500Z
DTSTAMP:20260422T042320Z
LOCATION:HS G (Technik)
END:VEVENT
BEGIN:VEVENT
UID:26S_702411_5010733@uibk.ac.at
ORGANIZER;CN="LFU:online Universität Innsbruck":MAILTO:Uni-Innsbruck-noreply@uibk.ac.at
SUMMARY:VO Analysis 4 (LV 702411-1 26S)
DESCRIPTION:Lehrveranstaltung 702411 26S, Gruppe 1\nTitel: VO Analysis 4\nOrt: HS F (Technik)\n\nhttps://lfuonline.uibk.ac.at/public/lfuonline_lv.details?sem_id_in=26S&lvnr_id_in=702411\n
CLASS:PUBLIC
DTSTART:20260610T081500Z
DTEND:20260610T094500Z
DTSTAMP:20260422T042320Z
LOCATION:HS F (Technik)
END:VEVENT
BEGIN:VEVENT
UID:26S_702411_5010716@uibk.ac.at
ORGANIZER;CN="LFU:online Universität Innsbruck":MAILTO:Uni-Innsbruck-noreply@uibk.ac.at
SUMMARY:VO Analysis 4 (LV 702411-1 26S)
DESCRIPTION:Lehrveranstaltung 702411 26S, Gruppe 1\nTitel: VO Analysis 4\nOrt: HS G (Technik)\n\nhttps://lfuonline.uibk.ac.at/public/lfuonline_lv.details?sem_id_in=26S&lvnr_id_in=702411\n
CLASS:PUBLIC
DTSTART:20260616T081500Z
DTEND:20260616T094500Z
DTSTAMP:20260422T042320Z
LOCATION:HS G (Technik)
END:VEVENT
BEGIN:VEVENT
UID:26S_702411_5010734@uibk.ac.at
ORGANIZER;CN="LFU:online Universität Innsbruck":MAILTO:Uni-Innsbruck-noreply@uibk.ac.at
SUMMARY:VO Analysis 4 (LV 702411-1 26S)
DESCRIPTION:Lehrveranstaltung 702411 26S, Gruppe 1\nTitel: VO Analysis 4\nOrt: HS F (Technik)\n\nhttps://lfuonline.uibk.ac.at/public/lfuonline_lv.details?sem_id_in=26S&lvnr_id_in=702411\n
CLASS:PUBLIC
DTSTART:20260617T081500Z
DTEND:20260617T094500Z
DTSTAMP:20260422T042320Z
LOCATION:HS F (Technik)
END:VEVENT
BEGIN:VEVENT
UID:26S_702411_5010717@uibk.ac.at
ORGANIZER;CN="LFU:online Universität Innsbruck":MAILTO:Uni-Innsbruck-noreply@uibk.ac.at
SUMMARY:VO Analysis 4 (LV 702411-1 26S)
DESCRIPTION:Lehrveranstaltung 702411 26S, Gruppe 1\nTitel: VO Analysis 4\nOrt: HS G (Technik)\n\nhttps://lfuonline.uibk.ac.at/public/lfuonline_lv.details?sem_id_in=26S&lvnr_id_in=702411\n
CLASS:PUBLIC
DTSTART:20260623T081500Z
DTEND:20260623T094500Z
DTSTAMP:20260422T042320Z
LOCATION:HS G (Technik)
END:VEVENT
BEGIN:VEVENT
UID:26S_702411_5010735@uibk.ac.at
ORGANIZER;CN="LFU:online Universität Innsbruck":MAILTO:Uni-Innsbruck-noreply@uibk.ac.at
SUMMARY:VO Analysis 4 (LV 702411-1 26S)
DESCRIPTION:Lehrveranstaltung 702411 26S, Gruppe 1\nTitel: VO Analysis 4\nOrt: HS F (Technik)\n\nhttps://lfuonline.uibk.ac.at/public/lfuonline_lv.details?sem_id_in=26S&lvnr_id_in=702411\n
CLASS:PUBLIC
DTSTART:20260624T081500Z
DTEND:20260624T094500Z
DTSTAMP:20260422T042320Z
LOCATION:HS F (Technik)
END:VEVENT
END:VCALENDAR