BEGIN:VCALENDAR
VERSION:2.0
PRODID:-//Universität Innsbruck//LFU:online//DE
METHOD:PUBLISH
BEGIN:VEVENT
UID:26S_702412_5010744@uibk.ac.at
ORGANIZER;CN="LFU:online Universität Innsbruck":MAILTO:Uni-Innsbruck-noreply@uibk.ac.at
SUMMARY:PS Analysis 4 (LV 702412-1 26S)
DESCRIPTION:Lehrveranstaltung 702412 26S, Gruppe 1\nTitel: PS Analysis 4\nOrt: HS F (Technik)\n\nhttps://lfuonline.uibk.ac.at/public/lfuonline_lv.details?sem_id_in=26S&lvnr_id_in=702412\n
CLASS:PUBLIC
DTSTART:20260304T110000Z
DTEND:20260304T123000Z
DTSTAMP:20260422T042320Z
LOCATION:HS F (Technik)
END:VEVENT
BEGIN:VEVENT
UID:26S_702412_5010745@uibk.ac.at
ORGANIZER;CN="LFU:online Universität Innsbruck":MAILTO:Uni-Innsbruck-noreply@uibk.ac.at
SUMMARY:PS Analysis 4 (LV 702412-1 26S)
DESCRIPTION:Lehrveranstaltung 702412 26S, Gruppe 1\nTitel: PS Analysis 4\nOrt: HS F (Technik)\n\nhttps://lfuonline.uibk.ac.at/public/lfuonline_lv.details?sem_id_in=26S&lvnr_id_in=702412\n
CLASS:PUBLIC
DTSTART:20260311T110000Z
DTEND:20260311T123000Z
DTSTAMP:20260422T042320Z
LOCATION:HS F (Technik)
END:VEVENT
BEGIN:VEVENT
UID:26S_702412_5010746@uibk.ac.at
ORGANIZER;CN="LFU:online Universität Innsbruck":MAILTO:Uni-Innsbruck-noreply@uibk.ac.at
SUMMARY:PS Analysis 4 (LV 702412-1 26S)
DESCRIPTION:Lehrveranstaltung 702412 26S, Gruppe 1\nTitel: PS Analysis 4\nOrt: HS F (Technik)\n\nhttps://lfuonline.uibk.ac.at/public/lfuonline_lv.details?sem_id_in=26S&lvnr_id_in=702412\n
CLASS:PUBLIC
DTSTART:20260318T110000Z
DTEND:20260318T123000Z
DTSTAMP:20260422T042320Z
LOCATION:HS F (Technik)
END:VEVENT
BEGIN:VEVENT
UID:26S_702412_5010747@uibk.ac.at
ORGANIZER;CN="LFU:online Universität Innsbruck":MAILTO:Uni-Innsbruck-noreply@uibk.ac.at
SUMMARY:PS Analysis 4 (LV 702412-1 26S)
DESCRIPTION:Lehrveranstaltung 702412 26S, Gruppe 1\nTitel: PS Analysis 4\nOrt: HS F (Technik)\n\nhttps://lfuonline.uibk.ac.at/public/lfuonline_lv.details?sem_id_in=26S&lvnr_id_in=702412\n
CLASS:PUBLIC
DTSTART:20260325T110000Z
DTEND:20260325T123000Z
DTSTAMP:20260422T042320Z
LOCATION:HS F (Technik)
END:VEVENT
BEGIN:VEVENT
UID:26S_702412_5010748@uibk.ac.at
ORGANIZER;CN="LFU:online Universität Innsbruck":MAILTO:Uni-Innsbruck-noreply@uibk.ac.at
SUMMARY:PS Analysis 4 (LV 702412-1 26S)
DESCRIPTION:Lehrveranstaltung 702412 26S, Gruppe 1\nTitel: PS Analysis 4\nOrt: HS F (Technik)\n\nhttps://lfuonline.uibk.ac.at/public/lfuonline_lv.details?sem_id_in=26S&lvnr_id_in=702412\n
CLASS:PUBLIC
DTSTART:20260415T100000Z
DTEND:20260415T113000Z
DTSTAMP:20260422T042320Z
LOCATION:HS F (Technik)
END:VEVENT
BEGIN:VEVENT
UID:26S_702412_5010749@uibk.ac.at
ORGANIZER;CN="LFU:online Universität Innsbruck":MAILTO:Uni-Innsbruck-noreply@uibk.ac.at
SUMMARY:PS Analysis 4 (LV 702412-1 26S)
DESCRIPTION:Lehrveranstaltung 702412 26S, Gruppe 1\nTitel: PS Analysis 4\nOrt: HS F (Technik)\n\nhttps://lfuonline.uibk.ac.at/public/lfuonline_lv.details?sem_id_in=26S&lvnr_id_in=702412\n
CLASS:PUBLIC
DTSTART:20260422T100000Z
DTEND:20260422T113000Z
DTSTAMP:20260422T042320Z
LOCATION:HS F (Technik)
END:VEVENT
BEGIN:VEVENT
UID:26S_702412_5010750@uibk.ac.at
ORGANIZER;CN="LFU:online Universität Innsbruck":MAILTO:Uni-Innsbruck-noreply@uibk.ac.at
SUMMARY:PS Analysis 4 (LV 702412-1 26S)
DESCRIPTION:Lehrveranstaltung 702412 26S, Gruppe 1\nTitel: PS Analysis 4\nOrt: HS F (Technik)\n\nhttps://lfuonline.uibk.ac.at/public/lfuonline_lv.details?sem_id_in=26S&lvnr_id_in=702412\n
CLASS:PUBLIC
DTSTART:20260429T100000Z
DTEND:20260429T113000Z
DTSTAMP:20260422T042320Z
LOCATION:HS F (Technik)
END:VEVENT
BEGIN:VEVENT
UID:26S_702412_5010751@uibk.ac.at
ORGANIZER;CN="LFU:online Universität Innsbruck":MAILTO:Uni-Innsbruck-noreply@uibk.ac.at
SUMMARY:PS Analysis 4 (LV 702412-1 26S)
DESCRIPTION:Lehrveranstaltung 702412 26S, Gruppe 1\nTitel: PS Analysis 4\nOrt: HS F (Technik)\n\nhttps://lfuonline.uibk.ac.at/public/lfuonline_lv.details?sem_id_in=26S&lvnr_id_in=702412\n
CLASS:PUBLIC
DTSTART:20260506T100000Z
DTEND:20260506T113000Z
DTSTAMP:20260422T042320Z
LOCATION:HS F (Technik)
END:VEVENT
BEGIN:VEVENT
UID:26S_702412_5010752@uibk.ac.at
ORGANIZER;CN="LFU:online Universität Innsbruck":MAILTO:Uni-Innsbruck-noreply@uibk.ac.at
SUMMARY:PS Analysis 4 (LV 702412-1 26S)
DESCRIPTION:Lehrveranstaltung 702412 26S, Gruppe 1\nTitel: PS Analysis 4\nOrt: HS F (Technik)\n\nhttps://lfuonline.uibk.ac.at/public/lfuonline_lv.details?sem_id_in=26S&lvnr_id_in=702412\n
CLASS:PUBLIC
DTSTART:20260513T100000Z
DTEND:20260513T113000Z
DTSTAMP:20260422T042320Z
LOCATION:HS F (Technik)
END:VEVENT
BEGIN:VEVENT
UID:26S_702412_5010753@uibk.ac.at
ORGANIZER;CN="LFU:online Universität Innsbruck":MAILTO:Uni-Innsbruck-noreply@uibk.ac.at
SUMMARY:PS Analysis 4 (LV 702412-1 26S)
DESCRIPTION:Lehrveranstaltung 702412 26S, Gruppe 1\nTitel: PS Analysis 4\nOrt: HS F (Technik)\n\nhttps://lfuonline.uibk.ac.at/public/lfuonline_lv.details?sem_id_in=26S&lvnr_id_in=702412\n
CLASS:PUBLIC
DTSTART:20260520T100000Z
DTEND:20260520T113000Z
DTSTAMP:20260422T042320Z
LOCATION:HS F (Technik)
END:VEVENT
BEGIN:VEVENT
UID:26S_702412_5010754@uibk.ac.at
ORGANIZER;CN="LFU:online Universität Innsbruck":MAILTO:Uni-Innsbruck-noreply@uibk.ac.at
SUMMARY:PS Analysis 4 (LV 702412-1 26S)
DESCRIPTION:Lehrveranstaltung 702412 26S, Gruppe 1\nTitel: PS Analysis 4\nOrt: HS F (Technik)\n\nhttps://lfuonline.uibk.ac.at/public/lfuonline_lv.details?sem_id_in=26S&lvnr_id_in=702412\n
CLASS:PUBLIC
DTSTART:20260527T100000Z
DTEND:20260527T113000Z
DTSTAMP:20260422T042320Z
LOCATION:HS F (Technik)
END:VEVENT
BEGIN:VEVENT
UID:26S_702412_5010755@uibk.ac.at
ORGANIZER;CN="LFU:online Universität Innsbruck":MAILTO:Uni-Innsbruck-noreply@uibk.ac.at
SUMMARY:PS Analysis 4 (LV 702412-1 26S)
DESCRIPTION:Lehrveranstaltung 702412 26S, Gruppe 1\nTitel: PS Analysis 4\nOrt: HS F (Technik)\n\nhttps://lfuonline.uibk.ac.at/public/lfuonline_lv.details?sem_id_in=26S&lvnr_id_in=702412\n
CLASS:PUBLIC
DTSTART:20260603T100000Z
DTEND:20260603T113000Z
DTSTAMP:20260422T042320Z
LOCATION:HS F (Technik)
END:VEVENT
BEGIN:VEVENT
UID:26S_702412_5010756@uibk.ac.at
ORGANIZER;CN="LFU:online Universität Innsbruck":MAILTO:Uni-Innsbruck-noreply@uibk.ac.at
SUMMARY:PS Analysis 4 (LV 702412-1 26S)
DESCRIPTION:Lehrveranstaltung 702412 26S, Gruppe 1\nTitel: PS Analysis 4\nOrt: HS F (Technik)\n\nhttps://lfuonline.uibk.ac.at/public/lfuonline_lv.details?sem_id_in=26S&lvnr_id_in=702412\n
CLASS:PUBLIC
DTSTART:20260610T100000Z
DTEND:20260610T113000Z
DTSTAMP:20260422T042320Z
LOCATION:HS F (Technik)
END:VEVENT
BEGIN:VEVENT
UID:26S_702412_5010757@uibk.ac.at
ORGANIZER;CN="LFU:online Universität Innsbruck":MAILTO:Uni-Innsbruck-noreply@uibk.ac.at
SUMMARY:PS Analysis 4 (LV 702412-1 26S)
DESCRIPTION:Lehrveranstaltung 702412 26S, Gruppe 1\nTitel: PS Analysis 4\nOrt: HS F (Technik)\n\nhttps://lfuonline.uibk.ac.at/public/lfuonline_lv.details?sem_id_in=26S&lvnr_id_in=702412\n
CLASS:PUBLIC
DTSTART:20260617T100000Z
DTEND:20260617T113000Z
DTSTAMP:20260422T042320Z
LOCATION:HS F (Technik)
END:VEVENT
BEGIN:VEVENT
UID:26S_702412_5010758@uibk.ac.at
ORGANIZER;CN="LFU:online Universität Innsbruck":MAILTO:Uni-Innsbruck-noreply@uibk.ac.at
SUMMARY:PS Analysis 4 (LV 702412-1 26S)
DESCRIPTION:Lehrveranstaltung 702412 26S, Gruppe 1\nTitel: PS Analysis 4\nOrt: HS F (Technik)\n\nhttps://lfuonline.uibk.ac.at/public/lfuonline_lv.details?sem_id_in=26S&lvnr_id_in=702412\n
CLASS:PUBLIC
DTSTART:20260624T100000Z
DTEND:20260624T113000Z
DTSTAMP:20260422T042320Z
LOCATION:HS F (Technik)
END:VEVENT
END:VCALENDAR