BEGIN:VCALENDAR
VERSION:2.0
PRODID:-//Universität Innsbruck//LFU:online//DE
METHOD:PUBLISH
BEGIN:VEVENT
UID:10W_703016_1433015@uibk.ac.at
ORGANIZER;CN="LFU:online Universität Innsbruck":MAILTO:Uni-Innsbruck-noreply@uibk.ac.at
SUMMARY:Entwurf von Softwaresystemen (LV 703016-1 10W)
DESCRIPTION:Lehrveranstaltung 703016 10W, Gruppe 1\nTitel: Entwurf von Softwaresystemen\nOrt: rr 22\n\nhttps://lfuonline.uibk.ac.at/public/lfuonline_lv.details?sem_id_in=10W&lvnr_id_in=703016\n
CLASS:PUBLIC
DTSTART:20101012T061500Z
DTEND:20101012T070000Z
DTSTAMP:20260423T090520Z
LOCATION:rr 22
END:VEVENT
BEGIN:VEVENT
UID:10W_703016_1433017@uibk.ac.at
ORGANIZER;CN="LFU:online Universität Innsbruck":MAILTO:Uni-Innsbruck-noreply@uibk.ac.at
SUMMARY:Entwurf von Softwaresystemen (LV 703016-1 10W)
DESCRIPTION:Lehrveranstaltung 703016 10W, Gruppe 1\nTitel: Entwurf von Softwaresystemen\nOrt: rr 22\n\nhttps://lfuonline.uibk.ac.at/public/lfuonline_lv.details?sem_id_in=10W&lvnr_id_in=703016\n
CLASS:PUBLIC
DTSTART:20101109T071500Z
DTEND:20101109T080000Z
DTSTAMP:20260423T090520Z
LOCATION:rr 22
END:VEVENT
BEGIN:VEVENT
UID:10W_703016_1433018@uibk.ac.at
ORGANIZER;CN="LFU:online Universität Innsbruck":MAILTO:Uni-Innsbruck-noreply@uibk.ac.at
SUMMARY:Entwurf von Softwaresystemen (LV 703016-1 10W)
DESCRIPTION:Lehrveranstaltung 703016 10W, Gruppe 1\nTitel: Entwurf von Softwaresystemen\nOrt: rr 22\n\nhttps://lfuonline.uibk.ac.at/public/lfuonline_lv.details?sem_id_in=10W&lvnr_id_in=703016\n
CLASS:PUBLIC
DTSTART:20101116T071500Z
DTEND:20101116T080000Z
DTSTAMP:20260423T090520Z
LOCATION:rr 22
END:VEVENT
BEGIN:VEVENT
UID:10W_703016_1433019@uibk.ac.at
ORGANIZER;CN="LFU:online Universität Innsbruck":MAILTO:Uni-Innsbruck-noreply@uibk.ac.at
SUMMARY:Entwurf von Softwaresystemen (LV 703016-1 10W)
DESCRIPTION:Lehrveranstaltung 703016 10W, Gruppe 1\nTitel: Entwurf von Softwaresystemen\nOrt: rr 22\n\nhttps://lfuonline.uibk.ac.at/public/lfuonline_lv.details?sem_id_in=10W&lvnr_id_in=703016\n
CLASS:PUBLIC
DTSTART:20101123T071500Z
DTEND:20101123T080000Z
DTSTAMP:20260423T090520Z
LOCATION:rr 22
END:VEVENT
BEGIN:VEVENT
UID:10W_703016_1433020@uibk.ac.at
ORGANIZER;CN="LFU:online Universität Innsbruck":MAILTO:Uni-Innsbruck-noreply@uibk.ac.at
SUMMARY:Entwurf von Softwaresystemen (LV 703016-1 10W)
DESCRIPTION:Lehrveranstaltung 703016 10W, Gruppe 1\nTitel: Entwurf von Softwaresystemen\nOrt: rr 22\n\nhttps://lfuonline.uibk.ac.at/public/lfuonline_lv.details?sem_id_in=10W&lvnr_id_in=703016\n
CLASS:PUBLIC
DTSTART:20101130T071500Z
DTEND:20101130T080000Z
DTSTAMP:20260423T090520Z
LOCATION:rr 22
END:VEVENT
BEGIN:VEVENT
UID:10W_703016_1433021@uibk.ac.at
ORGANIZER;CN="LFU:online Universität Innsbruck":MAILTO:Uni-Innsbruck-noreply@uibk.ac.at
SUMMARY:Entwurf von Softwaresystemen (LV 703016-1 10W)
DESCRIPTION:Lehrveranstaltung 703016 10W, Gruppe 1\nTitel: Entwurf von Softwaresystemen\nOrt: rr 22\n\nhttps://lfuonline.uibk.ac.at/public/lfuonline_lv.details?sem_id_in=10W&lvnr_id_in=703016\n
CLASS:PUBLIC
DTSTART:20101207T071500Z
DTEND:20101207T080000Z
DTSTAMP:20260423T090520Z
LOCATION:rr 22
END:VEVENT
BEGIN:VEVENT
UID:10W_703016_1433022@uibk.ac.at
ORGANIZER;CN="LFU:online Universität Innsbruck":MAILTO:Uni-Innsbruck-noreply@uibk.ac.at
SUMMARY:Entwurf von Softwaresystemen (LV 703016-1 10W)
DESCRIPTION:Lehrveranstaltung 703016 10W, Gruppe 1\nTitel: Entwurf von Softwaresystemen\nOrt: rr 22\n\nhttps://lfuonline.uibk.ac.at/public/lfuonline_lv.details?sem_id_in=10W&lvnr_id_in=703016\n
CLASS:PUBLIC
DTSTART:20101214T071500Z
DTEND:20101214T080000Z
DTSTAMP:20260423T090520Z
LOCATION:rr 22
END:VEVENT
BEGIN:VEVENT
UID:10W_703016_1433023@uibk.ac.at
ORGANIZER;CN="LFU:online Universität Innsbruck":MAILTO:Uni-Innsbruck-noreply@uibk.ac.at
SUMMARY:Entwurf von Softwaresystemen (LV 703016-1 10W)
DESCRIPTION:Lehrveranstaltung 703016 10W, Gruppe 1\nTitel: Entwurf von Softwaresystemen\nOrt: rr 22\n\nhttps://lfuonline.uibk.ac.at/public/lfuonline_lv.details?sem_id_in=10W&lvnr_id_in=703016\n
CLASS:PUBLIC
DTSTART:20110111T071500Z
DTEND:20110111T080000Z
DTSTAMP:20260423T090520Z
LOCATION:rr 22
END:VEVENT
BEGIN:VEVENT
UID:10W_703016_1433024@uibk.ac.at
ORGANIZER;CN="LFU:online Universität Innsbruck":MAILTO:Uni-Innsbruck-noreply@uibk.ac.at
SUMMARY:Entwurf von Softwaresystemen (LV 703016-1 10W)
DESCRIPTION:Lehrveranstaltung 703016 10W, Gruppe 1\nTitel: Entwurf von Softwaresystemen\nOrt: rr 22\n\nhttps://lfuonline.uibk.ac.at/public/lfuonline_lv.details?sem_id_in=10W&lvnr_id_in=703016\n
CLASS:PUBLIC
DTSTART:20110118T071500Z
DTEND:20110118T080000Z
DTSTAMP:20260423T090520Z
LOCATION:rr 22
END:VEVENT
BEGIN:VEVENT
UID:10W_703016_1433025@uibk.ac.at
ORGANIZER;CN="LFU:online Universität Innsbruck":MAILTO:Uni-Innsbruck-noreply@uibk.ac.at
SUMMARY:Entwurf von Softwaresystemen (LV 703016-1 10W)
DESCRIPTION:Lehrveranstaltung 703016 10W, Gruppe 1\nTitel: Entwurf von Softwaresystemen\nOrt: rr 22\n\nhttps://lfuonline.uibk.ac.at/public/lfuonline_lv.details?sem_id_in=10W&lvnr_id_in=703016\n
CLASS:PUBLIC
DTSTART:20110125T071500Z
DTEND:20110125T080000Z
DTSTAMP:20260423T090520Z
LOCATION:rr 22
END:VEVENT
BEGIN:VEVENT
UID:10W_703016_1433026@uibk.ac.at
ORGANIZER;CN="LFU:online Universität Innsbruck":MAILTO:Uni-Innsbruck-noreply@uibk.ac.at
SUMMARY:Entwurf von Softwaresystemen (LV 703016-1 10W)
DESCRIPTION:Lehrveranstaltung 703016 10W, Gruppe 1\nTitel: Entwurf von Softwaresystemen\nOrt: rr 22\n\nhttps://lfuonline.uibk.ac.at/public/lfuonline_lv.details?sem_id_in=10W&lvnr_id_in=703016\n
CLASS:PUBLIC
DTSTART:20110201T071500Z
DTEND:20110201T080000Z
DTSTAMP:20260423T090520Z
LOCATION:rr 22
END:VEVENT
END:VCALENDAR