BEGIN:VCALENDAR
VERSION:2.0
PRODID:-//Universität Innsbruck//LFU:online//DE
METHOD:PUBLISH
BEGIN:VEVENT
UID:18W_703025_3153218@uibk.ac.at
ORGANIZER;CN="LFU:online Universität Innsbruck":MAILTO:Uni-Innsbruck-noreply@uibk.ac.at
SUMMARY:PS Funktionale Programmierung (LV 703025-1 18W)
DESCRIPTION:Lehrveranstaltung 703025 18W, Gruppe 1\nTitel: PS Funktionale Programmierung\nOrt: HS 11\n\nhttps://lfuonline.uibk.ac.at/public/lfuonline_lv.details?sem_id_in=18W&lvnr_id_in=703025\n
CLASS:PUBLIC
DTSTART:20181012T061500Z
DTEND:20181012T070000Z
DTSTAMP:20260419T151106Z
LOCATION:HS 11
END:VEVENT
BEGIN:VEVENT
UID:18W_703025_3153219@uibk.ac.at
ORGANIZER;CN="LFU:online Universität Innsbruck":MAILTO:Uni-Innsbruck-noreply@uibk.ac.at
SUMMARY:PS Funktionale Programmierung (LV 703025-1 18W)
DESCRIPTION:Lehrveranstaltung 703025 18W, Gruppe 1\nTitel: PS Funktionale Programmierung\nOrt: HS 11\n\nhttps://lfuonline.uibk.ac.at/public/lfuonline_lv.details?sem_id_in=18W&lvnr_id_in=703025\n
CLASS:PUBLIC
DTSTART:20181109T071500Z
DTEND:20181109T080000Z
DTSTAMP:20260419T151106Z
LOCATION:HS 11
END:VEVENT
BEGIN:VEVENT
UID:18W_703025_3153220@uibk.ac.at
ORGANIZER;CN="LFU:online Universität Innsbruck":MAILTO:Uni-Innsbruck-noreply@uibk.ac.at
SUMMARY:PS Funktionale Programmierung (LV 703025-1 18W)
DESCRIPTION:Lehrveranstaltung 703025 18W, Gruppe 1\nTitel: PS Funktionale Programmierung\nOrt: HS 11\n\nhttps://lfuonline.uibk.ac.at/public/lfuonline_lv.details?sem_id_in=18W&lvnr_id_in=703025\n
CLASS:PUBLIC
DTSTART:20181116T071500Z
DTEND:20181116T080000Z
DTSTAMP:20260419T151106Z
LOCATION:HS 11
END:VEVENT
BEGIN:VEVENT
UID:18W_703025_3153221@uibk.ac.at
ORGANIZER;CN="LFU:online Universität Innsbruck":MAILTO:Uni-Innsbruck-noreply@uibk.ac.at
SUMMARY:PS Funktionale Programmierung (LV 703025-1 18W)
DESCRIPTION:Lehrveranstaltung 703025 18W, Gruppe 1\nTitel: PS Funktionale Programmierung\nOrt: HS 11\n\nhttps://lfuonline.uibk.ac.at/public/lfuonline_lv.details?sem_id_in=18W&lvnr_id_in=703025\n
CLASS:PUBLIC
DTSTART:20181123T071500Z
DTEND:20181123T080000Z
DTSTAMP:20260419T151106Z
LOCATION:HS 11
END:VEVENT
BEGIN:VEVENT
UID:18W_703025_3153222@uibk.ac.at
ORGANIZER;CN="LFU:online Universität Innsbruck":MAILTO:Uni-Innsbruck-noreply@uibk.ac.at
SUMMARY:PS Funktionale Programmierung (LV 703025-1 18W)
DESCRIPTION:Lehrveranstaltung 703025 18W, Gruppe 1\nTitel: PS Funktionale Programmierung\nOrt: HS 11\n\nhttps://lfuonline.uibk.ac.at/public/lfuonline_lv.details?sem_id_in=18W&lvnr_id_in=703025\n
CLASS:PUBLIC
DTSTART:20181130T071500Z
DTEND:20181130T080000Z
DTSTAMP:20260419T151106Z
LOCATION:HS 11
END:VEVENT
BEGIN:VEVENT
UID:18W_703025_3153223@uibk.ac.at
ORGANIZER;CN="LFU:online Universität Innsbruck":MAILTO:Uni-Innsbruck-noreply@uibk.ac.at
SUMMARY:PS Funktionale Programmierung (LV 703025-1 18W)
DESCRIPTION:Lehrveranstaltung 703025 18W, Gruppe 1\nTitel: PS Funktionale Programmierung\nOrt: HS 11\n\nhttps://lfuonline.uibk.ac.at/public/lfuonline_lv.details?sem_id_in=18W&lvnr_id_in=703025\n
CLASS:PUBLIC
DTSTART:20181207T071500Z
DTEND:20181207T080000Z
DTSTAMP:20260419T151106Z
LOCATION:HS 11
END:VEVENT
BEGIN:VEVENT
UID:18W_703025_3153224@uibk.ac.at
ORGANIZER;CN="LFU:online Universität Innsbruck":MAILTO:Uni-Innsbruck-noreply@uibk.ac.at
SUMMARY:PS Funktionale Programmierung (LV 703025-1 18W)
DESCRIPTION:Lehrveranstaltung 703025 18W, Gruppe 1\nTitel: PS Funktionale Programmierung\nOrt: HS 11\n\nhttps://lfuonline.uibk.ac.at/public/lfuonline_lv.details?sem_id_in=18W&lvnr_id_in=703025\n
CLASS:PUBLIC
DTSTART:20181214T071500Z
DTEND:20181214T080000Z
DTSTAMP:20260419T151106Z
LOCATION:HS 11
END:VEVENT
BEGIN:VEVENT
UID:18W_703025_3153225@uibk.ac.at
ORGANIZER;CN="LFU:online Universität Innsbruck":MAILTO:Uni-Innsbruck-noreply@uibk.ac.at
SUMMARY:PS Funktionale Programmierung (LV 703025-1 18W)
DESCRIPTION:Lehrveranstaltung 703025 18W, Gruppe 1\nTitel: PS Funktionale Programmierung\nOrt: HS 11\n\nhttps://lfuonline.uibk.ac.at/public/lfuonline_lv.details?sem_id_in=18W&lvnr_id_in=703025\n
CLASS:PUBLIC
DTSTART:20190111T071500Z
DTEND:20190111T080000Z
DTSTAMP:20260419T151106Z
LOCATION:HS 11
END:VEVENT
BEGIN:VEVENT
UID:18W_703025_3153226@uibk.ac.at
ORGANIZER;CN="LFU:online Universität Innsbruck":MAILTO:Uni-Innsbruck-noreply@uibk.ac.at
SUMMARY:PS Funktionale Programmierung (LV 703025-1 18W)
DESCRIPTION:Lehrveranstaltung 703025 18W, Gruppe 1\nTitel: PS Funktionale Programmierung\nOrt: HS 11\n\nhttps://lfuonline.uibk.ac.at/public/lfuonline_lv.details?sem_id_in=18W&lvnr_id_in=703025\n
CLASS:PUBLIC
DTSTART:20190118T071500Z
DTEND:20190118T080000Z
DTSTAMP:20260419T151106Z
LOCATION:HS 11
END:VEVENT
BEGIN:VEVENT
UID:18W_703025_3153227@uibk.ac.at
ORGANIZER;CN="LFU:online Universität Innsbruck":MAILTO:Uni-Innsbruck-noreply@uibk.ac.at
SUMMARY:PS Funktionale Programmierung (LV 703025-1 18W)
DESCRIPTION:Lehrveranstaltung 703025 18W, Gruppe 1\nTitel: PS Funktionale Programmierung\nOrt: HS 11\n\nhttps://lfuonline.uibk.ac.at/public/lfuonline_lv.details?sem_id_in=18W&lvnr_id_in=703025\n
CLASS:PUBLIC
DTSTART:20190125T071500Z
DTEND:20190125T080000Z
DTSTAMP:20260419T151106Z
LOCATION:HS 11
END:VEVENT
BEGIN:VEVENT
UID:18W_703025_3153228@uibk.ac.at
ORGANIZER;CN="LFU:online Universität Innsbruck":MAILTO:Uni-Innsbruck-noreply@uibk.ac.at
SUMMARY:PS Funktionale Programmierung (LV 703025-1 18W)
DESCRIPTION:Lehrveranstaltung 703025 18W, Gruppe 1\nTitel: PS Funktionale Programmierung\nOrt: HS 11\n\nhttps://lfuonline.uibk.ac.at/public/lfuonline_lv.details?sem_id_in=18W&lvnr_id_in=703025\n
CLASS:PUBLIC
DTSTART:20190201T071500Z
DTEND:20190201T080000Z
DTSTAMP:20260419T151106Z
LOCATION:HS 11
END:VEVENT
END:VCALENDAR