BEGIN:VCALENDAR
VERSION:2.0
PRODID:-//Universität Innsbruck//LFU:online//DE
METHOD:PUBLISH
BEGIN:VEVENT
UID:26S_703073_4976658@uibk.ac.at
ORGANIZER;CN="LFU:online Universität Innsbruck":MAILTO:Uni-Innsbruck-noreply@uibk.ac.at
SUMMARY:VU Einführung in das wissenschaftliche Arbeiten (LV 703073-1 26S)
DESCRIPTION:Lehrveranstaltung 703073 26S, Gruppe 1\nTitel: VU Einführung in das wissenschaftliche Arbeiten\nOrt: HS 10\n\nhttps://lfuonline.uibk.ac.at/public/lfuonline_lv.details?sem_id_in=26S&lvnr_id_in=703073\n
CLASS:PUBLIC
DTSTART:20260303T124500Z
DTEND:20260303T141500Z
DTSTAMP:20260423T014359Z
LOCATION:HS 10
END:VEVENT
BEGIN:VEVENT
UID:26S_703073_4976665@uibk.ac.at
ORGANIZER;CN="LFU:online Universität Innsbruck":MAILTO:Uni-Innsbruck-noreply@uibk.ac.at
SUMMARY:VU Einführung in das wissenschaftliche Arbeiten (LV 703073-1 26S)
DESCRIPTION:Lehrveranstaltung 703073 26S, Gruppe 1\nTitel: VU Einführung in das wissenschaftliche Arbeiten\nOrt: HS 10\n\nhttps://lfuonline.uibk.ac.at/public/lfuonline_lv.details?sem_id_in=26S&lvnr_id_in=703073\n
CLASS:PUBLIC
DTSTART:20260310T124500Z
DTEND:20260310T141500Z
DTSTAMP:20260423T014359Z
LOCATION:HS 10
END:VEVENT
BEGIN:VEVENT
UID:26S_703073_4976660@uibk.ac.at
ORGANIZER;CN="LFU:online Universität Innsbruck":MAILTO:Uni-Innsbruck-noreply@uibk.ac.at
SUMMARY:VU Einführung in das wissenschaftliche Arbeiten (LV 703073-1 26S)
DESCRIPTION:Lehrveranstaltung 703073 26S, Gruppe 1\nTitel: VU Einführung in das wissenschaftliche Arbeiten\nOrt: HS 10\n\nhttps://lfuonline.uibk.ac.at/public/lfuonline_lv.details?sem_id_in=26S&lvnr_id_in=703073\n
CLASS:PUBLIC
DTSTART:20260317T124500Z
DTEND:20260317T141500Z
DTSTAMP:20260423T014359Z
LOCATION:HS 10
END:VEVENT
BEGIN:VEVENT
UID:26S_703073_4976661@uibk.ac.at
ORGANIZER;CN="LFU:online Universität Innsbruck":MAILTO:Uni-Innsbruck-noreply@uibk.ac.at
SUMMARY:VU Einführung in das wissenschaftliche Arbeiten (LV 703073-1 26S)
DESCRIPTION:Lehrveranstaltung 703073 26S, Gruppe 1\nTitel: VU Einführung in das wissenschaftliche Arbeiten\nOrt: HS 10\n\nhttps://lfuonline.uibk.ac.at/public/lfuonline_lv.details?sem_id_in=26S&lvnr_id_in=703073\n
CLASS:PUBLIC
DTSTART:20260324T124500Z
DTEND:20260324T141500Z
DTSTAMP:20260423T014359Z
LOCATION:HS 10
END:VEVENT
BEGIN:VEVENT
UID:26S_703073_4976662@uibk.ac.at
ORGANIZER;CN="LFU:online Universität Innsbruck":MAILTO:Uni-Innsbruck-noreply@uibk.ac.at
SUMMARY:VU Einführung in das wissenschaftliche Arbeiten (LV 703073-1 26S)
DESCRIPTION:Lehrveranstaltung 703073 26S, Gruppe 1\nTitel: VU Einführung in das wissenschaftliche Arbeiten\nOrt: HS 10\n\nhttps://lfuonline.uibk.ac.at/public/lfuonline_lv.details?sem_id_in=26S&lvnr_id_in=703073\n
CLASS:PUBLIC
DTSTART:20260414T114500Z
DTEND:20260414T131500Z
DTSTAMP:20260423T014359Z
LOCATION:HS 10
END:VEVENT
BEGIN:VEVENT
UID:26S_703073_4976663@uibk.ac.at
ORGANIZER;CN="LFU:online Universität Innsbruck":MAILTO:Uni-Innsbruck-noreply@uibk.ac.at
SUMMARY:VU Einführung in das wissenschaftliche Arbeiten (LV 703073-1 26S)
DESCRIPTION:Lehrveranstaltung 703073 26S, Gruppe 1\nTitel: VU Einführung in das wissenschaftliche Arbeiten\nOrt: HS 10\n\nhttps://lfuonline.uibk.ac.at/public/lfuonline_lv.details?sem_id_in=26S&lvnr_id_in=703073\n
CLASS:PUBLIC
DTSTART:20260421T114500Z
DTEND:20260421T131500Z
DTSTAMP:20260423T014359Z
LOCATION:HS 10
END:VEVENT
BEGIN:VEVENT
UID:26S_703073_4976664@uibk.ac.at
ORGANIZER;CN="LFU:online Universität Innsbruck":MAILTO:Uni-Innsbruck-noreply@uibk.ac.at
SUMMARY:VU Einführung in das wissenschaftliche Arbeiten (LV 703073-1 26S)
DESCRIPTION:Lehrveranstaltung 703073 26S, Gruppe 1\nTitel: VU Einführung in das wissenschaftliche Arbeiten\nOrt: HS 10\n\nhttps://lfuonline.uibk.ac.at/public/lfuonline_lv.details?sem_id_in=26S&lvnr_id_in=703073\n
CLASS:PUBLIC
DTSTART:20260428T114500Z
DTEND:20260428T131500Z
DTSTAMP:20260423T014359Z
LOCATION:HS 10
END:VEVENT
BEGIN:VEVENT
UID:26S_703073_4976666@uibk.ac.at
ORGANIZER;CN="LFU:online Universität Innsbruck":MAILTO:Uni-Innsbruck-noreply@uibk.ac.at
SUMMARY:VU Einführung in das wissenschaftliche Arbeiten (LV 703073-1 26S)
DESCRIPTION:Lehrveranstaltung 703073 26S, Gruppe 1\nTitel: VU Einführung in das wissenschaftliche Arbeiten\nOrt: HS 10\n\nhttps://lfuonline.uibk.ac.at/public/lfuonline_lv.details?sem_id_in=26S&lvnr_id_in=703073\n
CLASS:PUBLIC
DTSTART:20260512T114500Z
DTEND:20260512T131500Z
DTSTAMP:20260423T014359Z
LOCATION:HS 10
END:VEVENT
BEGIN:VEVENT
UID:26S_703073_4976667@uibk.ac.at
ORGANIZER;CN="LFU:online Universität Innsbruck":MAILTO:Uni-Innsbruck-noreply@uibk.ac.at
SUMMARY:VU Einführung in das wissenschaftliche Arbeiten (LV 703073-1 26S)
DESCRIPTION:Lehrveranstaltung 703073 26S, Gruppe 1\nTitel: VU Einführung in das wissenschaftliche Arbeiten\nOrt: HS 10\n\nhttps://lfuonline.uibk.ac.at/public/lfuonline_lv.details?sem_id_in=26S&lvnr_id_in=703073\n
CLASS:PUBLIC
DTSTART:20260519T114500Z
DTEND:20260519T131500Z
DTSTAMP:20260423T014359Z
LOCATION:HS 10
END:VEVENT
BEGIN:VEVENT
UID:26S_703073_4976668@uibk.ac.at
ORGANIZER;CN="LFU:online Universität Innsbruck":MAILTO:Uni-Innsbruck-noreply@uibk.ac.at
SUMMARY:VU Einführung in das wissenschaftliche Arbeiten (LV 703073-1 26S)
DESCRIPTION:Lehrveranstaltung 703073 26S, Gruppe 1\nTitel: VU Einführung in das wissenschaftliche Arbeiten\nOrt: HS 10\n\nhttps://lfuonline.uibk.ac.at/public/lfuonline_lv.details?sem_id_in=26S&lvnr_id_in=703073\n
CLASS:PUBLIC
DTSTART:20260526T114500Z
DTEND:20260526T131500Z
DTSTAMP:20260423T014359Z
LOCATION:HS 10
END:VEVENT
BEGIN:VEVENT
UID:26S_703073_4976669@uibk.ac.at
ORGANIZER;CN="LFU:online Universität Innsbruck":MAILTO:Uni-Innsbruck-noreply@uibk.ac.at
SUMMARY:VU Einführung in das wissenschaftliche Arbeiten (LV 703073-1 26S)
DESCRIPTION:Lehrveranstaltung 703073 26S, Gruppe 1\nTitel: VU Einführung in das wissenschaftliche Arbeiten\nOrt: HS 10\n\nhttps://lfuonline.uibk.ac.at/public/lfuonline_lv.details?sem_id_in=26S&lvnr_id_in=703073\n
CLASS:PUBLIC
DTSTART:20260602T114500Z
DTEND:20260602T131500Z
DTSTAMP:20260423T014359Z
LOCATION:HS 10
END:VEVENT
BEGIN:VEVENT
UID:26S_703073_4976670@uibk.ac.at
ORGANIZER;CN="LFU:online Universität Innsbruck":MAILTO:Uni-Innsbruck-noreply@uibk.ac.at
SUMMARY:VU Einführung in das wissenschaftliche Arbeiten (LV 703073-1 26S)
DESCRIPTION:Lehrveranstaltung 703073 26S, Gruppe 1\nTitel: VU Einführung in das wissenschaftliche Arbeiten\nOrt: HS 10\n\nhttps://lfuonline.uibk.ac.at/public/lfuonline_lv.details?sem_id_in=26S&lvnr_id_in=703073\n
CLASS:PUBLIC
DTSTART:20260609T114500Z
DTEND:20260609T131500Z
DTSTAMP:20260423T014359Z
LOCATION:HS 10
END:VEVENT
BEGIN:VEVENT
UID:26S_703073_4976671@uibk.ac.at
ORGANIZER;CN="LFU:online Universität Innsbruck":MAILTO:Uni-Innsbruck-noreply@uibk.ac.at
SUMMARY:VU Einführung in das wissenschaftliche Arbeiten (LV 703073-1 26S)
DESCRIPTION:Lehrveranstaltung 703073 26S, Gruppe 1\nTitel: VU Einführung in das wissenschaftliche Arbeiten\nOrt: HS 10\n\nhttps://lfuonline.uibk.ac.at/public/lfuonline_lv.details?sem_id_in=26S&lvnr_id_in=703073\n
CLASS:PUBLIC
DTSTART:20260616T114500Z
DTEND:20260616T131500Z
DTSTAMP:20260423T014359Z
LOCATION:HS 10
END:VEVENT
END:VCALENDAR