BEGIN:VCALENDAR
VERSION:2.0
PRODID:-//Universität Innsbruck//LFU:online//DE
METHOD:PUBLISH
BEGIN:VEVENT
UID:20S_703076_3510160@uibk.ac.at
ORGANIZER;CN="LFU:online Universität Innsbruck":MAILTO:Uni-Innsbruck-noreply@uibk.ac.at
SUMMARY:PS Maschinelles Lernen (LV 703076-1 20S)
DESCRIPTION:Lehrveranstaltung 703076 20S, Gruppe 1\nTitel: PS Maschinelles Lernen\nOrt: rr 20\n\nhttps://lfuonline.uibk.ac.at/public/lfuonline_lv.details?sem_id_in=20S&lvnr_id_in=703076\n
CLASS:PUBLIC
DTSTART:20200306T091500Z
DTEND:20200306T110000Z
DTSTAMP:20260419T123858Z
LOCATION:rr 20
END:VEVENT
BEGIN:VEVENT
UID:20S_703076_3510161@uibk.ac.at
ORGANIZER;CN="LFU:online Universität Innsbruck":MAILTO:Uni-Innsbruck-noreply@uibk.ac.at
SUMMARY:PS Maschinelles Lernen (LV 703076-1 20S)
DESCRIPTION:Lehrveranstaltung 703076 20S, Gruppe 1\nTitel: PS Maschinelles Lernen\nOrt: rr 20\n\nhttps://lfuonline.uibk.ac.at/public/lfuonline_lv.details?sem_id_in=20S&lvnr_id_in=703076\n
CLASS:PUBLIC
DTSTART:20200313T091500Z
DTEND:20200313T110000Z
DTSTAMP:20260419T123858Z
LOCATION:rr 20
END:VEVENT
BEGIN:VEVENT
UID:20S_703076_3510162@uibk.ac.at
ORGANIZER;CN="LFU:online Universität Innsbruck":MAILTO:Uni-Innsbruck-noreply@uibk.ac.at
SUMMARY:PS Maschinelles Lernen (LV 703076-1 20S)
DESCRIPTION:Lehrveranstaltung 703076 20S, Gruppe 1\nTitel: PS Maschinelles Lernen\nOrt: rr 20\n\nhttps://lfuonline.uibk.ac.at/public/lfuonline_lv.details?sem_id_in=20S&lvnr_id_in=703076\n
CLASS:PUBLIC
DTSTART:20200320T091500Z
DTEND:20200320T110000Z
DTSTAMP:20260419T123858Z
LOCATION:rr 20
END:VEVENT
BEGIN:VEVENT
UID:20S_703076_3510163@uibk.ac.at
ORGANIZER;CN="LFU:online Universität Innsbruck":MAILTO:Uni-Innsbruck-noreply@uibk.ac.at
SUMMARY:PS Maschinelles Lernen (LV 703076-1 20S)
DESCRIPTION:Lehrveranstaltung 703076 20S, Gruppe 1\nTitel: PS Maschinelles Lernen\nOrt: rr 20\n\nhttps://lfuonline.uibk.ac.at/public/lfuonline_lv.details?sem_id_in=20S&lvnr_id_in=703076\n
CLASS:PUBLIC
DTSTART:20200327T091500Z
DTEND:20200327T110000Z
DTSTAMP:20260419T123858Z
LOCATION:rr 20
END:VEVENT
BEGIN:VEVENT
UID:20S_703076_3510164@uibk.ac.at
ORGANIZER;CN="LFU:online Universität Innsbruck":MAILTO:Uni-Innsbruck-noreply@uibk.ac.at
SUMMARY:PS Maschinelles Lernen (LV 703076-1 20S)
DESCRIPTION:Lehrveranstaltung 703076 20S, Gruppe 1\nTitel: PS Maschinelles Lernen\nOrt: rr 20\n\nhttps://lfuonline.uibk.ac.at/public/lfuonline_lv.details?sem_id_in=20S&lvnr_id_in=703076\n
CLASS:PUBLIC
DTSTART:20200403T081500Z
DTEND:20200403T100000Z
DTSTAMP:20260419T123858Z
LOCATION:rr 20
END:VEVENT
BEGIN:VEVENT
UID:20S_703076_3510165@uibk.ac.at
ORGANIZER;CN="LFU:online Universität Innsbruck":MAILTO:Uni-Innsbruck-noreply@uibk.ac.at
SUMMARY:PS Maschinelles Lernen (LV 703076-1 20S)
DESCRIPTION:Lehrveranstaltung 703076 20S, Gruppe 1\nTitel: PS Maschinelles Lernen\nOrt: rr 20\n\nhttps://lfuonline.uibk.ac.at/public/lfuonline_lv.details?sem_id_in=20S&lvnr_id_in=703076\n
CLASS:PUBLIC
DTSTART:20200424T081500Z
DTEND:20200424T100000Z
DTSTAMP:20260419T123858Z
LOCATION:rr 20
END:VEVENT
BEGIN:VEVENT
UID:20S_703076_3510166@uibk.ac.at
ORGANIZER;CN="LFU:online Universität Innsbruck":MAILTO:Uni-Innsbruck-noreply@uibk.ac.at
SUMMARY:PS Maschinelles Lernen (LV 703076-1 20S)
DESCRIPTION:Lehrveranstaltung 703076 20S, Gruppe 1\nTitel: PS Maschinelles Lernen\nOrt: rr 20\n\nhttps://lfuonline.uibk.ac.at/public/lfuonline_lv.details?sem_id_in=20S&lvnr_id_in=703076\n
CLASS:PUBLIC
DTSTART:20200508T081500Z
DTEND:20200508T100000Z
DTSTAMP:20260419T123858Z
LOCATION:rr 20
END:VEVENT
BEGIN:VEVENT
UID:20S_703076_3510167@uibk.ac.at
ORGANIZER;CN="LFU:online Universität Innsbruck":MAILTO:Uni-Innsbruck-noreply@uibk.ac.at
SUMMARY:PS Maschinelles Lernen (LV 703076-1 20S)
DESCRIPTION:Lehrveranstaltung 703076 20S, Gruppe 1\nTitel: PS Maschinelles Lernen\nOrt: rr 20\n\nhttps://lfuonline.uibk.ac.at/public/lfuonline_lv.details?sem_id_in=20S&lvnr_id_in=703076\n
CLASS:PUBLIC
DTSTART:20200515T081500Z
DTEND:20200515T100000Z
DTSTAMP:20260419T123858Z
LOCATION:rr 20
END:VEVENT
BEGIN:VEVENT
UID:20S_703076_3510168@uibk.ac.at
ORGANIZER;CN="LFU:online Universität Innsbruck":MAILTO:Uni-Innsbruck-noreply@uibk.ac.at
SUMMARY:PS Maschinelles Lernen (LV 703076-1 20S)
DESCRIPTION:Lehrveranstaltung 703076 20S, Gruppe 1\nTitel: PS Maschinelles Lernen\nOrt: rr 20\n\nhttps://lfuonline.uibk.ac.at/public/lfuonline_lv.details?sem_id_in=20S&lvnr_id_in=703076\n
CLASS:PUBLIC
DTSTART:20200522T081500Z
DTEND:20200522T100000Z
DTSTAMP:20260419T123858Z
LOCATION:rr 20
END:VEVENT
BEGIN:VEVENT
UID:20S_703076_3510169@uibk.ac.at
ORGANIZER;CN="LFU:online Universität Innsbruck":MAILTO:Uni-Innsbruck-noreply@uibk.ac.at
SUMMARY:PS Maschinelles Lernen (LV 703076-1 20S)
DESCRIPTION:Lehrveranstaltung 703076 20S, Gruppe 1\nTitel: PS Maschinelles Lernen\nOrt: rr 20\n\nhttps://lfuonline.uibk.ac.at/public/lfuonline_lv.details?sem_id_in=20S&lvnr_id_in=703076\n
CLASS:PUBLIC
DTSTART:20200529T081500Z
DTEND:20200529T100000Z
DTSTAMP:20260419T123858Z
LOCATION:rr 20
END:VEVENT
BEGIN:VEVENT
UID:20S_703076_3510170@uibk.ac.at
ORGANIZER;CN="LFU:online Universität Innsbruck":MAILTO:Uni-Innsbruck-noreply@uibk.ac.at
SUMMARY:PS Maschinelles Lernen (LV 703076-1 20S)
DESCRIPTION:Lehrveranstaltung 703076 20S, Gruppe 1\nTitel: PS Maschinelles Lernen\nOrt: rr 20\n\nhttps://lfuonline.uibk.ac.at/public/lfuonline_lv.details?sem_id_in=20S&lvnr_id_in=703076\n
CLASS:PUBLIC
DTSTART:20200605T081500Z
DTEND:20200605T100000Z
DTSTAMP:20260419T123858Z
LOCATION:rr 20
END:VEVENT
BEGIN:VEVENT
UID:20S_703076_3510171@uibk.ac.at
ORGANIZER;CN="LFU:online Universität Innsbruck":MAILTO:Uni-Innsbruck-noreply@uibk.ac.at
SUMMARY:PS Maschinelles Lernen (LV 703076-1 20S)
DESCRIPTION:Lehrveranstaltung 703076 20S, Gruppe 1\nTitel: PS Maschinelles Lernen\nOrt: rr 20\n\nhttps://lfuonline.uibk.ac.at/public/lfuonline_lv.details?sem_id_in=20S&lvnr_id_in=703076\n
CLASS:PUBLIC
DTSTART:20200612T081500Z
DTEND:20200612T100000Z
DTSTAMP:20260419T123858Z
LOCATION:rr 20
END:VEVENT
BEGIN:VEVENT
UID:20S_703076_3510172@uibk.ac.at
ORGANIZER;CN="LFU:online Universität Innsbruck":MAILTO:Uni-Innsbruck-noreply@uibk.ac.at
SUMMARY:PS Maschinelles Lernen (LV 703076-1 20S)
DESCRIPTION:Lehrveranstaltung 703076 20S, Gruppe 1\nTitel: PS Maschinelles Lernen\nOrt: rr 20\n\nhttps://lfuonline.uibk.ac.at/public/lfuonline_lv.details?sem_id_in=20S&lvnr_id_in=703076\n
CLASS:PUBLIC
DTSTART:20200619T081500Z
DTEND:20200619T100000Z
DTSTAMP:20260419T123858Z
LOCATION:rr 20
END:VEVENT
BEGIN:VEVENT
UID:20S_703076_3510173@uibk.ac.at
ORGANIZER;CN="LFU:online Universität Innsbruck":MAILTO:Uni-Innsbruck-noreply@uibk.ac.at
SUMMARY:PS Maschinelles Lernen (LV 703076-1 20S)
DESCRIPTION:Lehrveranstaltung 703076 20S, Gruppe 1\nTitel: PS Maschinelles Lernen\nOrt: rr 20\n\nhttps://lfuonline.uibk.ac.at/public/lfuonline_lv.details?sem_id_in=20S&lvnr_id_in=703076\n
CLASS:PUBLIC
DTSTART:20200626T081500Z
DTEND:20200626T100000Z
DTSTAMP:20260419T123858Z
LOCATION:rr 20
END:VEVENT
END:VCALENDAR