BEGIN:VCALENDAR
VERSION:2.0
PRODID:-//Universität Innsbruck//LFU:online//DE
METHOD:PUBLISH
BEGIN:VEVENT
UID:19S_703410_3335318@uibk.ac.at
ORGANIZER;CN="LFU:online Universität Innsbruck":MAILTO:Uni-Innsbruck-noreply@uibk.ac.at
SUMMARY:VU Introduction to Programming in Python (LV 703410-1 19S)
DESCRIPTION:Lehrveranstaltung 703410 19S, Gruppe 1\nTitel: VU Introduction to Programming in Python\nOrt: HS 11\n\nhttps://lfuonline.uibk.ac.at/public/lfuonline_lv.details?sem_id_in=19S&lvnr_id_in=703410\n
CLASS:PUBLIC
DTSTART:20190304T071500Z
DTEND:20190304T100000Z
DTSTAMP:20260421T003603Z
LOCATION:HS 11
END:VEVENT
BEGIN:VEVENT
UID:19S_703410_3334169@uibk.ac.at
ORGANIZER;CN="LFU:online Universität Innsbruck":MAILTO:Uni-Innsbruck-noreply@uibk.ac.at
SUMMARY:VU Introduction to Programming in Python (LV 703410-1 19S)
DESCRIPTION:Lehrveranstaltung 703410 19S, Gruppe 1\nTitel: VU Introduction to Programming in Python\nOrt: rr 21\n\nhttps://lfuonline.uibk.ac.at/public/lfuonline_lv.details?sem_id_in=19S&lvnr_id_in=703410\n
CLASS:PUBLIC
DTSTART:20190311T071500Z
DTEND:20190311T100000Z
DTSTAMP:20260421T003603Z
LOCATION:rr 21
END:VEVENT
BEGIN:VEVENT
UID:19S_703410_3334170@uibk.ac.at
ORGANIZER;CN="LFU:online Universität Innsbruck":MAILTO:Uni-Innsbruck-noreply@uibk.ac.at
SUMMARY:VU Introduction to Programming in Python (LV 703410-1 19S)
DESCRIPTION:Lehrveranstaltung 703410 19S, Gruppe 1\nTitel: VU Introduction to Programming in Python\nOrt: rr 21\n\nhttps://lfuonline.uibk.ac.at/public/lfuonline_lv.details?sem_id_in=19S&lvnr_id_in=703410\n
CLASS:PUBLIC
DTSTART:20190318T071500Z
DTEND:20190318T100000Z
DTSTAMP:20260421T003603Z
LOCATION:rr 21
END:VEVENT
BEGIN:VEVENT
UID:19S_703410_3334171@uibk.ac.at
ORGANIZER;CN="LFU:online Universität Innsbruck":MAILTO:Uni-Innsbruck-noreply@uibk.ac.at
SUMMARY:VU Introduction to Programming in Python (LV 703410-1 19S)
DESCRIPTION:Lehrveranstaltung 703410 19S, Gruppe 1\nTitel: VU Introduction to Programming in Python\nOrt: rr 21\n\nhttps://lfuonline.uibk.ac.at/public/lfuonline_lv.details?sem_id_in=19S&lvnr_id_in=703410\n
CLASS:PUBLIC
DTSTART:20190325T071500Z
DTEND:20190325T100000Z
DTSTAMP:20260421T003603Z
LOCATION:rr 21
END:VEVENT
BEGIN:VEVENT
UID:19S_703410_3334172@uibk.ac.at
ORGANIZER;CN="LFU:online Universität Innsbruck":MAILTO:Uni-Innsbruck-noreply@uibk.ac.at
SUMMARY:VU Introduction to Programming in Python (LV 703410-1 19S)
DESCRIPTION:Lehrveranstaltung 703410 19S, Gruppe 1\nTitel: VU Introduction to Programming in Python\nOrt: rr 21\n\nhttps://lfuonline.uibk.ac.at/public/lfuonline_lv.details?sem_id_in=19S&lvnr_id_in=703410\n
CLASS:PUBLIC
DTSTART:20190401T061500Z
DTEND:20190401T090000Z
DTSTAMP:20260421T003603Z
LOCATION:rr 21
END:VEVENT
BEGIN:VEVENT
UID:19S_703410_3334173@uibk.ac.at
ORGANIZER;CN="LFU:online Universität Innsbruck":MAILTO:Uni-Innsbruck-noreply@uibk.ac.at
SUMMARY:VU Introduction to Programming in Python (LV 703410-1 19S)
DESCRIPTION:Lehrveranstaltung 703410 19S, Gruppe 1\nTitel: VU Introduction to Programming in Python\nOrt: rr 21\n\nhttps://lfuonline.uibk.ac.at/public/lfuonline_lv.details?sem_id_in=19S&lvnr_id_in=703410\n
CLASS:PUBLIC
DTSTART:20190408T061500Z
DTEND:20190408T090000Z
DTSTAMP:20260421T003603Z
LOCATION:rr 21
END:VEVENT
BEGIN:VEVENT
UID:19S_703410_3334174@uibk.ac.at
ORGANIZER;CN="LFU:online Universität Innsbruck":MAILTO:Uni-Innsbruck-noreply@uibk.ac.at
SUMMARY:VU Introduction to Programming in Python (LV 703410-1 19S)
DESCRIPTION:Lehrveranstaltung 703410 19S, Gruppe 1\nTitel: VU Introduction to Programming in Python\nOrt: rr 21\n\nhttps://lfuonline.uibk.ac.at/public/lfuonline_lv.details?sem_id_in=19S&lvnr_id_in=703410\n
CLASS:PUBLIC
DTSTART:20190429T061500Z
DTEND:20190429T090000Z
DTSTAMP:20260421T003603Z
LOCATION:rr 21
END:VEVENT
BEGIN:VEVENT
UID:19S_703410_3334175@uibk.ac.at
ORGANIZER;CN="LFU:online Universität Innsbruck":MAILTO:Uni-Innsbruck-noreply@uibk.ac.at
SUMMARY:VU Introduction to Programming in Python (LV 703410-1 19S)
DESCRIPTION:Lehrveranstaltung 703410 19S, Gruppe 1\nTitel: VU Introduction to Programming in Python\nOrt: rr 21\n\nhttps://lfuonline.uibk.ac.at/public/lfuonline_lv.details?sem_id_in=19S&lvnr_id_in=703410\n
CLASS:PUBLIC
DTSTART:20190506T061500Z
DTEND:20190506T090000Z
DTSTAMP:20260421T003603Z
LOCATION:rr 21
END:VEVENT
BEGIN:VEVENT
UID:19S_703410_3334176@uibk.ac.at
ORGANIZER;CN="LFU:online Universität Innsbruck":MAILTO:Uni-Innsbruck-noreply@uibk.ac.at
SUMMARY:VU Introduction to Programming in Python (LV 703410-1 19S)
DESCRIPTION:Lehrveranstaltung 703410 19S, Gruppe 1\nTitel: VU Introduction to Programming in Python\nOrt: rr 21\n\nhttps://lfuonline.uibk.ac.at/public/lfuonline_lv.details?sem_id_in=19S&lvnr_id_in=703410\n
CLASS:PUBLIC
DTSTART:20190513T061500Z
DTEND:20190513T100000Z
DTSTAMP:20260421T003603Z
LOCATION:rr 21
END:VEVENT
BEGIN:VEVENT
UID:19S_703410_3334177@uibk.ac.at
ORGANIZER;CN="LFU:online Universität Innsbruck":MAILTO:Uni-Innsbruck-noreply@uibk.ac.at
SUMMARY:VU Introduction to Programming in Python (LV 703410-1 19S)
DESCRIPTION:Lehrveranstaltung 703410 19S, Gruppe 1\nTitel: VU Introduction to Programming in Python\nOrt: rr 21\n\nhttps://lfuonline.uibk.ac.at/public/lfuonline_lv.details?sem_id_in=19S&lvnr_id_in=703410\n
CLASS:PUBLIC
DTSTART:20190520T061500Z
DTEND:20190520T090000Z
DTSTAMP:20260421T003603Z
LOCATION:rr 21
END:VEVENT
BEGIN:VEVENT
UID:19S_703410_3334178@uibk.ac.at
ORGANIZER;CN="LFU:online Universität Innsbruck":MAILTO:Uni-Innsbruck-noreply@uibk.ac.at
SUMMARY:VU Introduction to Programming in Python (LV 703410-1 19S)
DESCRIPTION:Lehrveranstaltung 703410 19S, Gruppe 1\nTitel: VU Introduction to Programming in Python\nOrt: rr 21\n\nhttps://lfuonline.uibk.ac.at/public/lfuonline_lv.details?sem_id_in=19S&lvnr_id_in=703410\n
CLASS:PUBLIC
DTSTART:20190527T061500Z
DTEND:20190527T090000Z
DTSTAMP:20260421T003603Z
LOCATION:rr 21
END:VEVENT
END:VCALENDAR