BEGIN:VCALENDAR
VERSION:2.0
PRODID:-//Universität Innsbruck//LFU:online//DE
METHOD:PUBLISH
BEGIN:VEVENT
UID:10W_704097_1453236@uibk.ac.at
ORGANIZER;CN="LFU:online Universität Innsbruck":MAILTO:Uni-Innsbruck-noreply@uibk.ac.at
SUMMARY:Einführung in die Physik (LV 704097-1 10W)
DESCRIPTION:Lehrveranstaltung 704097 10W, Gruppe 1\nTitel: Einführung in die Physik\nOrt: HS A (Technik)\n\nhttps://lfuonline.uibk.ac.at/public/lfuonline_lv.details?sem_id_in=10W&lvnr_id_in=704097\n
CLASS:PUBLIC
DTSTART:20101005T064500Z
DTEND:20101005T080000Z
DTSTAMP:20260423T080912Z
LOCATION:HS A (Technik)
END:VEVENT
BEGIN:VEVENT
UID:10W_704097_1453239@uibk.ac.at
ORGANIZER;CN="LFU:online Universität Innsbruck":MAILTO:Uni-Innsbruck-noreply@uibk.ac.at
SUMMARY:Einführung in die Physik (LV 704097-1 10W)
DESCRIPTION:Lehrveranstaltung 704097 10W, Gruppe 1\nTitel: Einführung in die Physik\nOrt: HS A (Technik)\n\nhttps://lfuonline.uibk.ac.at/public/lfuonline_lv.details?sem_id_in=10W&lvnr_id_in=704097\n
CLASS:PUBLIC
DTSTART:20101006T064500Z
DTEND:20101006T080000Z
DTSTAMP:20260423T080912Z
LOCATION:HS A (Technik)
END:VEVENT
BEGIN:VEVENT
UID:10W_704097_1453241@uibk.ac.at
ORGANIZER;CN="LFU:online Universität Innsbruck":MAILTO:Uni-Innsbruck-noreply@uibk.ac.at
SUMMARY:Einführung in die Physik (LV 704097-1 10W)
DESCRIPTION:Lehrveranstaltung 704097 10W, Gruppe 1\nTitel: Einführung in die Physik\nOrt: HS A (Technik)\n\nhttps://lfuonline.uibk.ac.at/public/lfuonline_lv.details?sem_id_in=10W&lvnr_id_in=704097\n
CLASS:PUBLIC
DTSTART:20101008T064500Z
DTEND:20101008T080000Z
DTSTAMP:20260423T080912Z
LOCATION:HS A (Technik)
END:VEVENT
BEGIN:VEVENT
UID:10W_704097_1453243@uibk.ac.at
ORGANIZER;CN="LFU:online Universität Innsbruck":MAILTO:Uni-Innsbruck-noreply@uibk.ac.at
SUMMARY:Einführung in die Physik (LV 704097-1 10W)
DESCRIPTION:Lehrveranstaltung 704097 10W, Gruppe 1\nTitel: Einführung in die Physik\nOrt: HS A (Technik)\n\nhttps://lfuonline.uibk.ac.at/public/lfuonline_lv.details?sem_id_in=10W&lvnr_id_in=704097\n
CLASS:PUBLIC
DTSTART:20101012T064500Z
DTEND:20101012T080000Z
DTSTAMP:20260423T080912Z
LOCATION:HS A (Technik)
END:VEVENT
BEGIN:VEVENT
UID:10W_704097_1453245@uibk.ac.at
ORGANIZER;CN="LFU:online Universität Innsbruck":MAILTO:Uni-Innsbruck-noreply@uibk.ac.at
SUMMARY:Einführung in die Physik (LV 704097-1 10W)
DESCRIPTION:Lehrveranstaltung 704097 10W, Gruppe 1\nTitel: Einführung in die Physik\nOrt: HS A (Technik)\n\nhttps://lfuonline.uibk.ac.at/public/lfuonline_lv.details?sem_id_in=10W&lvnr_id_in=704097\n
CLASS:PUBLIC
DTSTART:20101013T064500Z
DTEND:20101013T080000Z
DTSTAMP:20260423T080912Z
LOCATION:HS A (Technik)
END:VEVENT
BEGIN:VEVENT
UID:10W_704097_1453247@uibk.ac.at
ORGANIZER;CN="LFU:online Universität Innsbruck":MAILTO:Uni-Innsbruck-noreply@uibk.ac.at
SUMMARY:Einführung in die Physik (LV 704097-1 10W)
DESCRIPTION:Lehrveranstaltung 704097 10W, Gruppe 1\nTitel: Einführung in die Physik\nOrt: HS A (Technik)\n\nhttps://lfuonline.uibk.ac.at/public/lfuonline_lv.details?sem_id_in=10W&lvnr_id_in=704097\n
CLASS:PUBLIC
DTSTART:20101015T064500Z
DTEND:20101015T080000Z
DTSTAMP:20260423T080912Z
LOCATION:HS A (Technik)
END:VEVENT
BEGIN:VEVENT
UID:10W_704097_1453249@uibk.ac.at
ORGANIZER;CN="LFU:online Universität Innsbruck":MAILTO:Uni-Innsbruck-noreply@uibk.ac.at
SUMMARY:Einführung in die Physik (LV 704097-1 10W)
DESCRIPTION:Lehrveranstaltung 704097 10W, Gruppe 1\nTitel: Einführung in die Physik\nOrt: HS A (Technik)\n\nhttps://lfuonline.uibk.ac.at/public/lfuonline_lv.details?sem_id_in=10W&lvnr_id_in=704097\n
CLASS:PUBLIC
DTSTART:20101019T064500Z
DTEND:20101019T080000Z
DTSTAMP:20260423T080912Z
LOCATION:HS A (Technik)
END:VEVENT
BEGIN:VEVENT
UID:10W_704097_1453251@uibk.ac.at
ORGANIZER;CN="LFU:online Universität Innsbruck":MAILTO:Uni-Innsbruck-noreply@uibk.ac.at
SUMMARY:Einführung in die Physik (LV 704097-1 10W)
DESCRIPTION:Lehrveranstaltung 704097 10W, Gruppe 1\nTitel: Einführung in die Physik\nOrt: HS A (Technik)\n\nhttps://lfuonline.uibk.ac.at/public/lfuonline_lv.details?sem_id_in=10W&lvnr_id_in=704097\n
CLASS:PUBLIC
DTSTART:20101020T064500Z
DTEND:20101020T080000Z
DTSTAMP:20260423T080912Z
LOCATION:HS A (Technik)
END:VEVENT
BEGIN:VEVENT
UID:10W_704097_1453253@uibk.ac.at
ORGANIZER;CN="LFU:online Universität Innsbruck":MAILTO:Uni-Innsbruck-noreply@uibk.ac.at
SUMMARY:Einführung in die Physik (LV 704097-1 10W)
DESCRIPTION:Lehrveranstaltung 704097 10W, Gruppe 1\nTitel: Einführung in die Physik\nOrt: HS A (Technik)\n\nhttps://lfuonline.uibk.ac.at/public/lfuonline_lv.details?sem_id_in=10W&lvnr_id_in=704097\n
CLASS:PUBLIC
DTSTART:20101022T064500Z
DTEND:20101022T080000Z
DTSTAMP:20260423T080912Z
LOCATION:HS A (Technik)
END:VEVENT
BEGIN:VEVENT
UID:10W_704097_1453255@uibk.ac.at
ORGANIZER;CN="LFU:online Universität Innsbruck":MAILTO:Uni-Innsbruck-noreply@uibk.ac.at
SUMMARY:Einführung in die Physik (LV 704097-1 10W)
DESCRIPTION:Lehrveranstaltung 704097 10W, Gruppe 1\nTitel: Einführung in die Physik\nOrt: HS A (Technik)\n\nhttps://lfuonline.uibk.ac.at/public/lfuonline_lv.details?sem_id_in=10W&lvnr_id_in=704097\n
CLASS:PUBLIC
DTSTART:20101027T064500Z
DTEND:20101027T080000Z
DTSTAMP:20260423T080912Z
LOCATION:HS A (Technik)
END:VEVENT
BEGIN:VEVENT
UID:10W_704097_1453256@uibk.ac.at
ORGANIZER;CN="LFU:online Universität Innsbruck":MAILTO:Uni-Innsbruck-noreply@uibk.ac.at
SUMMARY:Einführung in die Physik (LV 704097-1 10W)
DESCRIPTION:Lehrveranstaltung 704097 10W, Gruppe 1\nTitel: Einführung in die Physik\nOrt: HS A (Technik)\n\nhttps://lfuonline.uibk.ac.at/public/lfuonline_lv.details?sem_id_in=10W&lvnr_id_in=704097\n
CLASS:PUBLIC
DTSTART:20101029T064500Z
DTEND:20101029T080000Z
DTSTAMP:20260423T080912Z
LOCATION:HS A (Technik)
END:VEVENT
BEGIN:VEVENT
UID:10W_704097_1453259@uibk.ac.at
ORGANIZER;CN="LFU:online Universität Innsbruck":MAILTO:Uni-Innsbruck-noreply@uibk.ac.at
SUMMARY:Einführung in die Physik (LV 704097-1 10W)
DESCRIPTION:Lehrveranstaltung 704097 10W, Gruppe 1\nTitel: Einführung in die Physik\nOrt: HS A (Technik)\n\nhttps://lfuonline.uibk.ac.at/public/lfuonline_lv.details?sem_id_in=10W&lvnr_id_in=704097\n
CLASS:PUBLIC
DTSTART:20101103T074500Z
DTEND:20101103T090000Z
DTSTAMP:20260423T080912Z
LOCATION:HS A (Technik)
END:VEVENT
BEGIN:VEVENT
UID:10W_704097_1453261@uibk.ac.at
ORGANIZER;CN="LFU:online Universität Innsbruck":MAILTO:Uni-Innsbruck-noreply@uibk.ac.at
SUMMARY:Einführung in die Physik (LV 704097-1 10W)
DESCRIPTION:Lehrveranstaltung 704097 10W, Gruppe 1\nTitel: Einführung in die Physik\nOrt: HS A (Technik)\n\nhttps://lfuonline.uibk.ac.at/public/lfuonline_lv.details?sem_id_in=10W&lvnr_id_in=704097\n
CLASS:PUBLIC
DTSTART:20101105T074500Z
DTEND:20101105T090000Z
DTSTAMP:20260423T080912Z
LOCATION:HS A (Technik)
END:VEVENT
BEGIN:VEVENT
UID:10W_704097_1453263@uibk.ac.at
ORGANIZER;CN="LFU:online Universität Innsbruck":MAILTO:Uni-Innsbruck-noreply@uibk.ac.at
SUMMARY:Einführung in die Physik (LV 704097-1 10W)
DESCRIPTION:Lehrveranstaltung 704097 10W, Gruppe 1\nTitel: Einführung in die Physik\nOrt: HS A (Technik)\n\nhttps://lfuonline.uibk.ac.at/public/lfuonline_lv.details?sem_id_in=10W&lvnr_id_in=704097\n
CLASS:PUBLIC
DTSTART:20101109T074500Z
DTEND:20101109T090000Z
DTSTAMP:20260423T080912Z
LOCATION:HS A (Technik)
END:VEVENT
BEGIN:VEVENT
UID:10W_704097_1453264@uibk.ac.at
ORGANIZER;CN="LFU:online Universität Innsbruck":MAILTO:Uni-Innsbruck-noreply@uibk.ac.at
SUMMARY:Einführung in die Physik (LV 704097-1 10W)
DESCRIPTION:Lehrveranstaltung 704097 10W, Gruppe 1\nTitel: Einführung in die Physik\nOrt: HS A (Technik)\n\nhttps://lfuonline.uibk.ac.at/public/lfuonline_lv.details?sem_id_in=10W&lvnr_id_in=704097\n
CLASS:PUBLIC
DTSTART:20101110T074500Z
DTEND:20101110T090000Z
DTSTAMP:20260423T080912Z
LOCATION:HS A (Technik)
END:VEVENT
BEGIN:VEVENT
UID:10W_704097_1453265@uibk.ac.at
ORGANIZER;CN="LFU:online Universität Innsbruck":MAILTO:Uni-Innsbruck-noreply@uibk.ac.at
SUMMARY:Einführung in die Physik (LV 704097-1 10W)
DESCRIPTION:Lehrveranstaltung 704097 10W, Gruppe 1\nTitel: Einführung in die Physik\nOrt: HS A (Technik)\n\nhttps://lfuonline.uibk.ac.at/public/lfuonline_lv.details?sem_id_in=10W&lvnr_id_in=704097\n
CLASS:PUBLIC
DTSTART:20101112T074500Z
DTEND:20101112T090000Z
DTSTAMP:20260423T080912Z
LOCATION:HS A (Technik)
END:VEVENT
BEGIN:VEVENT
UID:10W_704097_1453266@uibk.ac.at
ORGANIZER;CN="LFU:online Universität Innsbruck":MAILTO:Uni-Innsbruck-noreply@uibk.ac.at
SUMMARY:Einführung in die Physik (LV 704097-1 10W)
DESCRIPTION:Lehrveranstaltung 704097 10W, Gruppe 1\nTitel: Einführung in die Physik\nOrt: HS A (Technik)\n\nhttps://lfuonline.uibk.ac.at/public/lfuonline_lv.details?sem_id_in=10W&lvnr_id_in=704097\n
CLASS:PUBLIC
DTSTART:20101116T074500Z
DTEND:20101116T090000Z
DTSTAMP:20260423T080912Z
LOCATION:HS A (Technik)
END:VEVENT
BEGIN:VEVENT
UID:10W_704097_1453267@uibk.ac.at
ORGANIZER;CN="LFU:online Universität Innsbruck":MAILTO:Uni-Innsbruck-noreply@uibk.ac.at
SUMMARY:Einführung in die Physik (LV 704097-1 10W)
DESCRIPTION:Lehrveranstaltung 704097 10W, Gruppe 1\nTitel: Einführung in die Physik\nOrt: HS A (Technik)\n\nhttps://lfuonline.uibk.ac.at/public/lfuonline_lv.details?sem_id_in=10W&lvnr_id_in=704097\n
CLASS:PUBLIC
DTSTART:20101117T074500Z
DTEND:20101117T090000Z
DTSTAMP:20260423T080912Z
LOCATION:HS A (Technik)
END:VEVENT
BEGIN:VEVENT
UID:10W_704097_1453268@uibk.ac.at
ORGANIZER;CN="LFU:online Universität Innsbruck":MAILTO:Uni-Innsbruck-noreply@uibk.ac.at
SUMMARY:Einführung in die Physik (LV 704097-1 10W)
DESCRIPTION:Lehrveranstaltung 704097 10W, Gruppe 1\nTitel: Einführung in die Physik\nOrt: HS A (Technik)\n\nhttps://lfuonline.uibk.ac.at/public/lfuonline_lv.details?sem_id_in=10W&lvnr_id_in=704097\n
CLASS:PUBLIC
DTSTART:20101119T074500Z
DTEND:20101119T090000Z
DTSTAMP:20260423T080912Z
LOCATION:HS A (Technik)
END:VEVENT
BEGIN:VEVENT
UID:10W_704097_1453269@uibk.ac.at
ORGANIZER;CN="LFU:online Universität Innsbruck":MAILTO:Uni-Innsbruck-noreply@uibk.ac.at
SUMMARY:Einführung in die Physik (LV 704097-1 10W)
DESCRIPTION:Lehrveranstaltung 704097 10W, Gruppe 1\nTitel: Einführung in die Physik\nOrt: HS A (Technik)\n\nhttps://lfuonline.uibk.ac.at/public/lfuonline_lv.details?sem_id_in=10W&lvnr_id_in=704097\n
CLASS:PUBLIC
DTSTART:20101123T074500Z
DTEND:20101123T090000Z
DTSTAMP:20260423T080912Z
LOCATION:HS A (Technik)
END:VEVENT
BEGIN:VEVENT
UID:10W_704097_1453270@uibk.ac.at
ORGANIZER;CN="LFU:online Universität Innsbruck":MAILTO:Uni-Innsbruck-noreply@uibk.ac.at
SUMMARY:Einführung in die Physik (LV 704097-1 10W)
DESCRIPTION:Lehrveranstaltung 704097 10W, Gruppe 1\nTitel: Einführung in die Physik\nOrt: HS A (Technik)\n\nhttps://lfuonline.uibk.ac.at/public/lfuonline_lv.details?sem_id_in=10W&lvnr_id_in=704097\n
CLASS:PUBLIC
DTSTART:20101124T074500Z
DTEND:20101124T090000Z
DTSTAMP:20260423T080912Z
LOCATION:HS A (Technik)
END:VEVENT
BEGIN:VEVENT
UID:10W_704097_1453271@uibk.ac.at
ORGANIZER;CN="LFU:online Universität Innsbruck":MAILTO:Uni-Innsbruck-noreply@uibk.ac.at
SUMMARY:Einführung in die Physik (LV 704097-1 10W)
DESCRIPTION:Lehrveranstaltung 704097 10W, Gruppe 1\nTitel: Einführung in die Physik\nOrt: HS A (Technik)\n\nhttps://lfuonline.uibk.ac.at/public/lfuonline_lv.details?sem_id_in=10W&lvnr_id_in=704097\n
CLASS:PUBLIC
DTSTART:20101126T074500Z
DTEND:20101126T090000Z
DTSTAMP:20260423T080912Z
LOCATION:HS A (Technik)
END:VEVENT
BEGIN:VEVENT
UID:10W_704097_1453272@uibk.ac.at
ORGANIZER;CN="LFU:online Universität Innsbruck":MAILTO:Uni-Innsbruck-noreply@uibk.ac.at
SUMMARY:Einführung in die Physik (LV 704097-1 10W)
DESCRIPTION:Lehrveranstaltung 704097 10W, Gruppe 1\nTitel: Einführung in die Physik\nOrt: HS A (Technik)\n\nhttps://lfuonline.uibk.ac.at/public/lfuonline_lv.details?sem_id_in=10W&lvnr_id_in=704097\n
CLASS:PUBLIC
DTSTART:20101130T074500Z
DTEND:20101130T090000Z
DTSTAMP:20260423T080912Z
LOCATION:HS A (Technik)
END:VEVENT
BEGIN:VEVENT
UID:10W_704097_1453273@uibk.ac.at
ORGANIZER;CN="LFU:online Universität Innsbruck":MAILTO:Uni-Innsbruck-noreply@uibk.ac.at
SUMMARY:Einführung in die Physik (LV 704097-1 10W)
DESCRIPTION:Lehrveranstaltung 704097 10W, Gruppe 1\nTitel: Einführung in die Physik\nOrt: HS A (Technik)\n\nhttps://lfuonline.uibk.ac.at/public/lfuonline_lv.details?sem_id_in=10W&lvnr_id_in=704097\n
CLASS:PUBLIC
DTSTART:20101201T074500Z
DTEND:20101201T090000Z
DTSTAMP:20260423T080912Z
LOCATION:HS A (Technik)
END:VEVENT
BEGIN:VEVENT
UID:10W_704097_1453274@uibk.ac.at
ORGANIZER;CN="LFU:online Universität Innsbruck":MAILTO:Uni-Innsbruck-noreply@uibk.ac.at
SUMMARY:Einführung in die Physik (LV 704097-1 10W)
DESCRIPTION:Lehrveranstaltung 704097 10W, Gruppe 1\nTitel: Einführung in die Physik\nOrt: HS A (Technik)\n\nhttps://lfuonline.uibk.ac.at/public/lfuonline_lv.details?sem_id_in=10W&lvnr_id_in=704097\n
CLASS:PUBLIC
DTSTART:20101203T074500Z
DTEND:20101203T090000Z
DTSTAMP:20260423T080912Z
LOCATION:HS A (Technik)
END:VEVENT
BEGIN:VEVENT
UID:10W_704097_1453275@uibk.ac.at
ORGANIZER;CN="LFU:online Universität Innsbruck":MAILTO:Uni-Innsbruck-noreply@uibk.ac.at
SUMMARY:Einführung in die Physik (LV 704097-1 10W)
DESCRIPTION:Lehrveranstaltung 704097 10W, Gruppe 1\nTitel: Einführung in die Physik\nOrt: HS A (Technik)\n\nhttps://lfuonline.uibk.ac.at/public/lfuonline_lv.details?sem_id_in=10W&lvnr_id_in=704097\n
CLASS:PUBLIC
DTSTART:20101207T074500Z
DTEND:20101207T090000Z
DTSTAMP:20260423T080912Z
LOCATION:HS A (Technik)
END:VEVENT
BEGIN:VEVENT
UID:10W_704097_1453276@uibk.ac.at
ORGANIZER;CN="LFU:online Universität Innsbruck":MAILTO:Uni-Innsbruck-noreply@uibk.ac.at
SUMMARY:Einführung in die Physik (LV 704097-1 10W)
DESCRIPTION:Lehrveranstaltung 704097 10W, Gruppe 1\nTitel: Einführung in die Physik\nOrt: HS A (Technik)\n\nhttps://lfuonline.uibk.ac.at/public/lfuonline_lv.details?sem_id_in=10W&lvnr_id_in=704097\n
CLASS:PUBLIC
DTSTART:20101210T074500Z
DTEND:20101210T090000Z
DTSTAMP:20260423T080912Z
LOCATION:HS A (Technik)
END:VEVENT
BEGIN:VEVENT
UID:10W_704097_1453277@uibk.ac.at
ORGANIZER;CN="LFU:online Universität Innsbruck":MAILTO:Uni-Innsbruck-noreply@uibk.ac.at
SUMMARY:Einführung in die Physik (LV 704097-1 10W)
DESCRIPTION:Lehrveranstaltung 704097 10W, Gruppe 1\nTitel: Einführung in die Physik\nOrt: HS A (Technik)\n\nhttps://lfuonline.uibk.ac.at/public/lfuonline_lv.details?sem_id_in=10W&lvnr_id_in=704097\n
CLASS:PUBLIC
DTSTART:20101214T074500Z
DTEND:20101214T090000Z
DTSTAMP:20260423T080912Z
LOCATION:HS A (Technik)
END:VEVENT
BEGIN:VEVENT
UID:10W_704097_1453278@uibk.ac.at
ORGANIZER;CN="LFU:online Universität Innsbruck":MAILTO:Uni-Innsbruck-noreply@uibk.ac.at
SUMMARY:Einführung in die Physik (LV 704097-1 10W)
DESCRIPTION:Lehrveranstaltung 704097 10W, Gruppe 1\nTitel: Einführung in die Physik\nOrt: HS A (Technik)\n\nhttps://lfuonline.uibk.ac.at/public/lfuonline_lv.details?sem_id_in=10W&lvnr_id_in=704097\n
CLASS:PUBLIC
DTSTART:20101215T074500Z
DTEND:20101215T090000Z
DTSTAMP:20260423T080912Z
LOCATION:HS A (Technik)
END:VEVENT
BEGIN:VEVENT
UID:10W_704097_1453279@uibk.ac.at
ORGANIZER;CN="LFU:online Universität Innsbruck":MAILTO:Uni-Innsbruck-noreply@uibk.ac.at
SUMMARY:Einführung in die Physik (LV 704097-1 10W)
DESCRIPTION:Lehrveranstaltung 704097 10W, Gruppe 1\nTitel: Einführung in die Physik\nOrt: HS A (Technik)\n\nhttps://lfuonline.uibk.ac.at/public/lfuonline_lv.details?sem_id_in=10W&lvnr_id_in=704097\n
CLASS:PUBLIC
DTSTART:20101217T074500Z
DTEND:20101217T090000Z
DTSTAMP:20260423T080912Z
LOCATION:HS A (Technik)
END:VEVENT
BEGIN:VEVENT
UID:10W_704097_1453280@uibk.ac.at
ORGANIZER;CN="LFU:online Universität Innsbruck":MAILTO:Uni-Innsbruck-noreply@uibk.ac.at
SUMMARY:Einführung in die Physik (LV 704097-1 10W)
DESCRIPTION:Lehrveranstaltung 704097 10W, Gruppe 1\nTitel: Einführung in die Physik\nOrt: HS A (Technik)\n\nhttps://lfuonline.uibk.ac.at/public/lfuonline_lv.details?sem_id_in=10W&lvnr_id_in=704097\n
CLASS:PUBLIC
DTSTART:20110111T074500Z
DTEND:20110111T090000Z
DTSTAMP:20260423T080912Z
LOCATION:HS A (Technik)
END:VEVENT
BEGIN:VEVENT
UID:10W_704097_1453281@uibk.ac.at
ORGANIZER;CN="LFU:online Universität Innsbruck":MAILTO:Uni-Innsbruck-noreply@uibk.ac.at
SUMMARY:Einführung in die Physik (LV 704097-1 10W)
DESCRIPTION:Lehrveranstaltung 704097 10W, Gruppe 1\nTitel: Einführung in die Physik\nOrt: HS A (Technik)\n\nhttps://lfuonline.uibk.ac.at/public/lfuonline_lv.details?sem_id_in=10W&lvnr_id_in=704097\n
CLASS:PUBLIC
DTSTART:20110112T074500Z
DTEND:20110112T090000Z
DTSTAMP:20260423T080912Z
LOCATION:HS A (Technik)
END:VEVENT
BEGIN:VEVENT
UID:10W_704097_1453282@uibk.ac.at
ORGANIZER;CN="LFU:online Universität Innsbruck":MAILTO:Uni-Innsbruck-noreply@uibk.ac.at
SUMMARY:Einführung in die Physik (LV 704097-1 10W)
DESCRIPTION:Lehrveranstaltung 704097 10W, Gruppe 1\nTitel: Einführung in die Physik\nOrt: HS A (Technik)\n\nhttps://lfuonline.uibk.ac.at/public/lfuonline_lv.details?sem_id_in=10W&lvnr_id_in=704097\n
CLASS:PUBLIC
DTSTART:20110114T074500Z
DTEND:20110114T090000Z
DTSTAMP:20260423T080912Z
LOCATION:HS A (Technik)
END:VEVENT
BEGIN:VEVENT
UID:10W_704097_1453283@uibk.ac.at
ORGANIZER;CN="LFU:online Universität Innsbruck":MAILTO:Uni-Innsbruck-noreply@uibk.ac.at
SUMMARY:Einführung in die Physik (LV 704097-1 10W)
DESCRIPTION:Lehrveranstaltung 704097 10W, Gruppe 1\nTitel: Einführung in die Physik\nOrt: HS A (Technik)\n\nhttps://lfuonline.uibk.ac.at/public/lfuonline_lv.details?sem_id_in=10W&lvnr_id_in=704097\n
CLASS:PUBLIC
DTSTART:20110118T074500Z
DTEND:20110118T090000Z
DTSTAMP:20260423T080912Z
LOCATION:HS A (Technik)
END:VEVENT
BEGIN:VEVENT
UID:10W_704097_1453284@uibk.ac.at
ORGANIZER;CN="LFU:online Universität Innsbruck":MAILTO:Uni-Innsbruck-noreply@uibk.ac.at
SUMMARY:Einführung in die Physik (LV 704097-1 10W)
DESCRIPTION:Lehrveranstaltung 704097 10W, Gruppe 1\nTitel: Einführung in die Physik\nOrt: HS A (Technik)\n\nhttps://lfuonline.uibk.ac.at/public/lfuonline_lv.details?sem_id_in=10W&lvnr_id_in=704097\n
CLASS:PUBLIC
DTSTART:20110119T074500Z
DTEND:20110119T090000Z
DTSTAMP:20260423T080912Z
LOCATION:HS A (Technik)
END:VEVENT
BEGIN:VEVENT
UID:10W_704097_1453285@uibk.ac.at
ORGANIZER;CN="LFU:online Universität Innsbruck":MAILTO:Uni-Innsbruck-noreply@uibk.ac.at
SUMMARY:Einführung in die Physik (LV 704097-1 10W)
DESCRIPTION:Lehrveranstaltung 704097 10W, Gruppe 1\nTitel: Einführung in die Physik\nOrt: HS A (Technik)\n\nhttps://lfuonline.uibk.ac.at/public/lfuonline_lv.details?sem_id_in=10W&lvnr_id_in=704097\n
CLASS:PUBLIC
DTSTART:20110121T074500Z
DTEND:20110121T090000Z
DTSTAMP:20260423T080912Z
LOCATION:HS A (Technik)
END:VEVENT
BEGIN:VEVENT
UID:10W_704097_1453286@uibk.ac.at
ORGANIZER;CN="LFU:online Universität Innsbruck":MAILTO:Uni-Innsbruck-noreply@uibk.ac.at
SUMMARY:Einführung in die Physik (LV 704097-1 10W)
DESCRIPTION:Lehrveranstaltung 704097 10W, Gruppe 1\nTitel: Einführung in die Physik\nOrt: HS A (Technik)\n\nhttps://lfuonline.uibk.ac.at/public/lfuonline_lv.details?sem_id_in=10W&lvnr_id_in=704097\n
CLASS:PUBLIC
DTSTART:20110125T074500Z
DTEND:20110125T090000Z
DTSTAMP:20260423T080912Z
LOCATION:HS A (Technik)
END:VEVENT
BEGIN:VEVENT
UID:10W_704097_1453287@uibk.ac.at
ORGANIZER;CN="LFU:online Universität Innsbruck":MAILTO:Uni-Innsbruck-noreply@uibk.ac.at
SUMMARY:Einführung in die Physik (LV 704097-1 10W)
DESCRIPTION:Lehrveranstaltung 704097 10W, Gruppe 1\nTitel: Einführung in die Physik\nOrt: HS A (Technik)\n\nhttps://lfuonline.uibk.ac.at/public/lfuonline_lv.details?sem_id_in=10W&lvnr_id_in=704097\n
CLASS:PUBLIC
DTSTART:20110126T074500Z
DTEND:20110126T090000Z
DTSTAMP:20260423T080912Z
LOCATION:HS A (Technik)
END:VEVENT
BEGIN:VEVENT
UID:10W_704097_1453288@uibk.ac.at
ORGANIZER;CN="LFU:online Universität Innsbruck":MAILTO:Uni-Innsbruck-noreply@uibk.ac.at
SUMMARY:Einführung in die Physik (LV 704097-1 10W)
DESCRIPTION:Lehrveranstaltung 704097 10W, Gruppe 1\nTitel: Einführung in die Physik\nOrt: HS A (Technik)\n\nhttps://lfuonline.uibk.ac.at/public/lfuonline_lv.details?sem_id_in=10W&lvnr_id_in=704097\n
CLASS:PUBLIC
DTSTART:20110128T074500Z
DTEND:20110128T090000Z
DTSTAMP:20260423T080912Z
LOCATION:HS A (Technik)
END:VEVENT
BEGIN:VEVENT
UID:10W_704097_1453289@uibk.ac.at
ORGANIZER;CN="LFU:online Universität Innsbruck":MAILTO:Uni-Innsbruck-noreply@uibk.ac.at
SUMMARY:Einführung in die Physik (LV 704097-1 10W)
DESCRIPTION:Lehrveranstaltung 704097 10W, Gruppe 1\nTitel: Einführung in die Physik\nOrt: HS A (Technik)\n\nhttps://lfuonline.uibk.ac.at/public/lfuonline_lv.details?sem_id_in=10W&lvnr_id_in=704097\n
CLASS:PUBLIC
DTSTART:20110201T074500Z
DTEND:20110201T090000Z
DTSTAMP:20260423T080912Z
LOCATION:HS A (Technik)
END:VEVENT
BEGIN:VEVENT
UID:10W_704097_1453290@uibk.ac.at
ORGANIZER;CN="LFU:online Universität Innsbruck":MAILTO:Uni-Innsbruck-noreply@uibk.ac.at
SUMMARY:Einführung in die Physik (LV 704097-1 10W)
DESCRIPTION:Lehrveranstaltung 704097 10W, Gruppe 1\nTitel: Einführung in die Physik\nOrt: HS A (Technik)\n\nhttps://lfuonline.uibk.ac.at/public/lfuonline_lv.details?sem_id_in=10W&lvnr_id_in=704097\n
CLASS:PUBLIC
DTSTART:20110202T074500Z
DTEND:20110202T090000Z
DTSTAMP:20260423T080912Z
LOCATION:HS A (Technik)
END:VEVENT
BEGIN:VEVENT
UID:10W_704097_1453291@uibk.ac.at
ORGANIZER;CN="LFU:online Universität Innsbruck":MAILTO:Uni-Innsbruck-noreply@uibk.ac.at
SUMMARY:Einführung in die Physik (LV 704097-1 10W)
DESCRIPTION:Lehrveranstaltung 704097 10W, Gruppe 1\nTitel: Einführung in die Physik\nOrt: HS A (Technik)\n\nhttps://lfuonline.uibk.ac.at/public/lfuonline_lv.details?sem_id_in=10W&lvnr_id_in=704097\n
CLASS:PUBLIC
DTSTART:20110204T074500Z
DTEND:20110204T090000Z
DTSTAMP:20260423T080912Z
LOCATION:HS A (Technik)
END:VEVENT
BEGIN:VEVENT
UID:10W_704097_1521830@uibk.ac.at
ORGANIZER;CN="LFU:online Universität Innsbruck":MAILTO:Uni-Innsbruck-noreply@uibk.ac.at
SUMMARY:Einführung in die Physik (LV 704097-1 10W)
DESCRIPTION:Lehrveranstaltung 704097 10W, Gruppe 1\nTitel: Einführung in die Physik\nOrt: HS A (Technik)\n\nhttps://lfuonline.uibk.ac.at/public/lfuonline_lv.details?sem_id_in=10W&lvnr_id_in=704097\n
CLASS:PUBLIC
DTSTART:20110307T170000Z
DTEND:20110307T190000Z
DTSTAMP:20260423T080912Z
LOCATION:HS A (Technik)
COMMENT:Prüfung
END:VEVENT
BEGIN:VEVENT
UID:10W_704097_1521831@uibk.ac.at
ORGANIZER;CN="LFU:online Universität Innsbruck":MAILTO:Uni-Innsbruck-noreply@uibk.ac.at
SUMMARY:Einführung in die Physik (LV 704097-1 10W)
DESCRIPTION:Lehrveranstaltung 704097 10W, Gruppe 1\nTitel: Einführung in die Physik\nOrt: HS B (Technik)\n\nhttps://lfuonline.uibk.ac.at/public/lfuonline_lv.details?sem_id_in=10W&lvnr_id_in=704097\n
CLASS:PUBLIC
DTSTART:20110307T170000Z
DTEND:20110307T190000Z
DTSTAMP:20260423T080912Z
LOCATION:HS B (Technik)
COMMENT:Prüfung
END:VEVENT
END:VCALENDAR