BEGIN:VCALENDAR
VERSION:2.0
PRODID:-//Universität Innsbruck//LFU:online//DE
METHOD:PUBLISH
BEGIN:VEVENT
UID:26S_705321_4972076@uibk.ac.at
ORGANIZER;CN="LFU:online Universität Innsbruck":MAILTO:Uni-Innsbruck-noreply@uibk.ac.at
SUMMARY:UE Theoretische Physik 1 (Mechanik) (LV 705321-1 26S)
DESCRIPTION:Lehrveranstaltung 705321 26S, Gruppe 1\nTitel: UE Theoretische Physik 1 (Mechanik)\nOrt: HS C (Technik)\n\nhttps://lfuonline.uibk.ac.at/public/lfuonline_lv.details?sem_id_in=26S&lvnr_id_in=705321\n
CLASS:PUBLIC
DTSTART:20260309T124500Z
DTEND:20260309T141500Z
DTSTAMP:20260421T144439Z
LOCATION:HS C (Technik)
END:VEVENT
BEGIN:VEVENT
UID:26S_705321_4972077@uibk.ac.at
ORGANIZER;CN="LFU:online Universität Innsbruck":MAILTO:Uni-Innsbruck-noreply@uibk.ac.at
SUMMARY:UE Theoretische Physik 1 (Mechanik) (LV 705321-1 26S)
DESCRIPTION:Lehrveranstaltung 705321 26S, Gruppe 1\nTitel: UE Theoretische Physik 1 (Mechanik)\nOrt: HS C (Technik)\n\nhttps://lfuonline.uibk.ac.at/public/lfuonline_lv.details?sem_id_in=26S&lvnr_id_in=705321\n
CLASS:PUBLIC
DTSTART:20260316T124500Z
DTEND:20260316T141500Z
DTSTAMP:20260421T144439Z
LOCATION:HS C (Technik)
END:VEVENT
BEGIN:VEVENT
UID:26S_705321_4972078@uibk.ac.at
ORGANIZER;CN="LFU:online Universität Innsbruck":MAILTO:Uni-Innsbruck-noreply@uibk.ac.at
SUMMARY:UE Theoretische Physik 1 (Mechanik) (LV 705321-1 26S)
DESCRIPTION:Lehrveranstaltung 705321 26S, Gruppe 1\nTitel: UE Theoretische Physik 1 (Mechanik)\nOrt: HS C (Technik)\n\nhttps://lfuonline.uibk.ac.at/public/lfuonline_lv.details?sem_id_in=26S&lvnr_id_in=705321\n
CLASS:PUBLIC
DTSTART:20260323T124500Z
DTEND:20260323T141500Z
DTSTAMP:20260421T144439Z
LOCATION:HS C (Technik)
END:VEVENT
BEGIN:VEVENT
UID:26S_705321_4972079@uibk.ac.at
ORGANIZER;CN="LFU:online Universität Innsbruck":MAILTO:Uni-Innsbruck-noreply@uibk.ac.at
SUMMARY:UE Theoretische Physik 1 (Mechanik) (LV 705321-1 26S)
DESCRIPTION:Lehrveranstaltung 705321 26S, Gruppe 1\nTitel: UE Theoretische Physik 1 (Mechanik)\nOrt: HS C (Technik)\n\nhttps://lfuonline.uibk.ac.at/public/lfuonline_lv.details?sem_id_in=26S&lvnr_id_in=705321\n
CLASS:PUBLIC
DTSTART:20260413T114500Z
DTEND:20260413T131500Z
DTSTAMP:20260421T144439Z
LOCATION:HS C (Technik)
END:VEVENT
BEGIN:VEVENT
UID:26S_705321_4972080@uibk.ac.at
ORGANIZER;CN="LFU:online Universität Innsbruck":MAILTO:Uni-Innsbruck-noreply@uibk.ac.at
SUMMARY:UE Theoretische Physik 1 (Mechanik) (LV 705321-1 26S)
DESCRIPTION:Lehrveranstaltung 705321 26S, Gruppe 1\nTitel: UE Theoretische Physik 1 (Mechanik)\nOrt: HS C (Technik)\n\nhttps://lfuonline.uibk.ac.at/public/lfuonline_lv.details?sem_id_in=26S&lvnr_id_in=705321\n
CLASS:PUBLIC
DTSTART:20260420T114500Z
DTEND:20260420T131500Z
DTSTAMP:20260421T144439Z
LOCATION:HS C (Technik)
END:VEVENT
BEGIN:VEVENT
UID:26S_705321_4972081@uibk.ac.at
ORGANIZER;CN="LFU:online Universität Innsbruck":MAILTO:Uni-Innsbruck-noreply@uibk.ac.at
SUMMARY:UE Theoretische Physik 1 (Mechanik) (LV 705321-1 26S)
DESCRIPTION:Lehrveranstaltung 705321 26S, Gruppe 1\nTitel: UE Theoretische Physik 1 (Mechanik)\nOrt: HS C (Technik)\n\nhttps://lfuonline.uibk.ac.at/public/lfuonline_lv.details?sem_id_in=26S&lvnr_id_in=705321\n
CLASS:PUBLIC
DTSTART:20260427T114500Z
DTEND:20260427T131500Z
DTSTAMP:20260421T144439Z
LOCATION:HS C (Technik)
END:VEVENT
BEGIN:VEVENT
UID:26S_705321_4972082@uibk.ac.at
ORGANIZER;CN="LFU:online Universität Innsbruck":MAILTO:Uni-Innsbruck-noreply@uibk.ac.at
SUMMARY:UE Theoretische Physik 1 (Mechanik) (LV 705321-1 26S)
DESCRIPTION:Lehrveranstaltung 705321 26S, Gruppe 1\nTitel: UE Theoretische Physik 1 (Mechanik)\nOrt: HS C (Technik)\n\nhttps://lfuonline.uibk.ac.at/public/lfuonline_lv.details?sem_id_in=26S&lvnr_id_in=705321\n
CLASS:PUBLIC
DTSTART:20260504T114500Z
DTEND:20260504T131500Z
DTSTAMP:20260421T144439Z
LOCATION:HS C (Technik)
END:VEVENT
BEGIN:VEVENT
UID:26S_705321_4972083@uibk.ac.at
ORGANIZER;CN="LFU:online Universität Innsbruck":MAILTO:Uni-Innsbruck-noreply@uibk.ac.at
SUMMARY:UE Theoretische Physik 1 (Mechanik) (LV 705321-1 26S)
DESCRIPTION:Lehrveranstaltung 705321 26S, Gruppe 1\nTitel: UE Theoretische Physik 1 (Mechanik)\nOrt: HS C (Technik)\n\nhttps://lfuonline.uibk.ac.at/public/lfuonline_lv.details?sem_id_in=26S&lvnr_id_in=705321\n
CLASS:PUBLIC
DTSTART:20260511T114500Z
DTEND:20260511T131500Z
DTSTAMP:20260421T144439Z
LOCATION:HS C (Technik)
END:VEVENT
BEGIN:VEVENT
UID:26S_705321_4972084@uibk.ac.at
ORGANIZER;CN="LFU:online Universität Innsbruck":MAILTO:Uni-Innsbruck-noreply@uibk.ac.at
SUMMARY:UE Theoretische Physik 1 (Mechanik) (LV 705321-1 26S)
DESCRIPTION:Lehrveranstaltung 705321 26S, Gruppe 1\nTitel: UE Theoretische Physik 1 (Mechanik)\nOrt: HS C (Technik)\n\nhttps://lfuonline.uibk.ac.at/public/lfuonline_lv.details?sem_id_in=26S&lvnr_id_in=705321\n
CLASS:PUBLIC
DTSTART:20260518T114500Z
DTEND:20260518T131500Z
DTSTAMP:20260421T144439Z
LOCATION:HS C (Technik)
END:VEVENT
BEGIN:VEVENT
UID:26S_705321_4972085@uibk.ac.at
ORGANIZER;CN="LFU:online Universität Innsbruck":MAILTO:Uni-Innsbruck-noreply@uibk.ac.at
SUMMARY:UE Theoretische Physik 1 (Mechanik) (LV 705321-1 26S)
DESCRIPTION:Lehrveranstaltung 705321 26S, Gruppe 1\nTitel: UE Theoretische Physik 1 (Mechanik)\nOrt: HS C (Technik)\n\nhttps://lfuonline.uibk.ac.at/public/lfuonline_lv.details?sem_id_in=26S&lvnr_id_in=705321\n
CLASS:PUBLIC
DTSTART:20260601T114500Z
DTEND:20260601T131500Z
DTSTAMP:20260421T144439Z
LOCATION:HS C (Technik)
END:VEVENT
BEGIN:VEVENT
UID:26S_705321_4972086@uibk.ac.at
ORGANIZER;CN="LFU:online Universität Innsbruck":MAILTO:Uni-Innsbruck-noreply@uibk.ac.at
SUMMARY:UE Theoretische Physik 1 (Mechanik) (LV 705321-1 26S)
DESCRIPTION:Lehrveranstaltung 705321 26S, Gruppe 1\nTitel: UE Theoretische Physik 1 (Mechanik)\nOrt: HS C (Technik)\n\nhttps://lfuonline.uibk.ac.at/public/lfuonline_lv.details?sem_id_in=26S&lvnr_id_in=705321\n
CLASS:PUBLIC
DTSTART:20260608T114500Z
DTEND:20260608T131500Z
DTSTAMP:20260421T144439Z
LOCATION:HS C (Technik)
END:VEVENT
BEGIN:VEVENT
UID:26S_705321_4972087@uibk.ac.at
ORGANIZER;CN="LFU:online Universität Innsbruck":MAILTO:Uni-Innsbruck-noreply@uibk.ac.at
SUMMARY:UE Theoretische Physik 1 (Mechanik) (LV 705321-1 26S)
DESCRIPTION:Lehrveranstaltung 705321 26S, Gruppe 1\nTitel: UE Theoretische Physik 1 (Mechanik)\nOrt: HS C (Technik)\n\nhttps://lfuonline.uibk.ac.at/public/lfuonline_lv.details?sem_id_in=26S&lvnr_id_in=705321\n
CLASS:PUBLIC
DTSTART:20260615T114500Z
DTEND:20260615T131500Z
DTSTAMP:20260421T144439Z
LOCATION:HS C (Technik)
END:VEVENT
BEGIN:VEVENT
UID:26S_705321_4972088@uibk.ac.at
ORGANIZER;CN="LFU:online Universität Innsbruck":MAILTO:Uni-Innsbruck-noreply@uibk.ac.at
SUMMARY:UE Theoretische Physik 1 (Mechanik) (LV 705321-1 26S)
DESCRIPTION:Lehrveranstaltung 705321 26S, Gruppe 1\nTitel: UE Theoretische Physik 1 (Mechanik)\nOrt: HS C (Technik)\n\nhttps://lfuonline.uibk.ac.at/public/lfuonline_lv.details?sem_id_in=26S&lvnr_id_in=705321\n
CLASS:PUBLIC
DTSTART:20260622T114500Z
DTEND:20260622T131500Z
DTSTAMP:20260421T144439Z
LOCATION:HS C (Technik)
END:VEVENT
END:VCALENDAR