BEGIN:VCALENDAR
VERSION:2.0
PRODID:-//Universität Innsbruck//LFU:online//DE
METHOD:PUBLISH
BEGIN:VEVENT
UID:18W_705513_3142371@uibk.ac.at
ORGANIZER;CN="LFU:online Universität Innsbruck":MAILTO:Uni-Innsbruck-noreply@uibk.ac.at
SUMMARY:PS Theoretische Physik 3 (Elektrodynamik) (LV 705513-1 18W)
DESCRIPTION:Lehrveranstaltung 705513 18W, Gruppe 1\nTitel: PS Theoretische Physik 3 (Elektrodynamik)\nOrt: HSB  4\n\nhttps://lfuonline.uibk.ac.at/public/lfuonline_lv.details?sem_id_in=18W&lvnr_id_in=705513\n
CLASS:PUBLIC
DTSTART:20181005T061500Z
DTEND:20181005T080000Z
DTSTAMP:20260421T184508Z
LOCATION:HSB  4
END:VEVENT
BEGIN:VEVENT
UID:18W_705513_3142372@uibk.ac.at
ORGANIZER;CN="LFU:online Universität Innsbruck":MAILTO:Uni-Innsbruck-noreply@uibk.ac.at
SUMMARY:PS Theoretische Physik 3 (Elektrodynamik) (LV 705513-1 18W)
DESCRIPTION:Lehrveranstaltung 705513 18W, Gruppe 1\nTitel: PS Theoretische Physik 3 (Elektrodynamik)\nOrt: HSB  4\n\nhttps://lfuonline.uibk.ac.at/public/lfuonline_lv.details?sem_id_in=18W&lvnr_id_in=705513\n
CLASS:PUBLIC
DTSTART:20181012T061500Z
DTEND:20181012T080000Z
DTSTAMP:20260421T184508Z
LOCATION:HSB  4
END:VEVENT
BEGIN:VEVENT
UID:18W_705513_3225869@uibk.ac.at
ORGANIZER;CN="LFU:online Universität Innsbruck":MAILTO:Uni-Innsbruck-noreply@uibk.ac.at
SUMMARY:PS Theoretische Physik 3 (Elektrodynamik) (LV 705513-1 18W)
DESCRIPTION:Lehrveranstaltung 705513 18W, Gruppe 1\nTitel: PS Theoretische Physik 3 (Elektrodynamik)\nOrt: HS A (Technik)\n\nhttps://lfuonline.uibk.ac.at/public/lfuonline_lv.details?sem_id_in=18W&lvnr_id_in=705513\n
CLASS:PUBLIC
DTSTART:20181017T150000Z
DTEND:20181017T163000Z
DTSTAMP:20260421T184508Z
LOCATION:HS A (Technik)
COMMENT:1. Zentralübung
END:VEVENT
BEGIN:VEVENT
UID:18W_705513_3225870@uibk.ac.at
ORGANIZER;CN="LFU:online Universität Innsbruck":MAILTO:Uni-Innsbruck-noreply@uibk.ac.at
SUMMARY:PS Theoretische Physik 3 (Elektrodynamik) (LV 705513-1 18W)
DESCRIPTION:Lehrveranstaltung 705513 18W, Gruppe 1\nTitel: PS Theoretische Physik 3 (Elektrodynamik)\nOrt: HS A (Technik)\n\nhttps://lfuonline.uibk.ac.at/public/lfuonline_lv.details?sem_id_in=18W&lvnr_id_in=705513\n
CLASS:PUBLIC
DTSTART:20181024T150000Z
DTEND:20181024T163000Z
DTSTAMP:20260421T184508Z
LOCATION:HS A (Technik)
COMMENT:2. Zentralübung
END:VEVENT
BEGIN:VEVENT
UID:18W_705513_3142373@uibk.ac.at
ORGANIZER;CN="LFU:online Universität Innsbruck":MAILTO:Uni-Innsbruck-noreply@uibk.ac.at
SUMMARY:PS Theoretische Physik 3 (Elektrodynamik) (LV 705513-1 18W)
DESCRIPTION:Lehrveranstaltung 705513 18W, Gruppe 1\nTitel: PS Theoretische Physik 3 (Elektrodynamik)\nOrt: HSB  4\n\nhttps://lfuonline.uibk.ac.at/public/lfuonline_lv.details?sem_id_in=18W&lvnr_id_in=705513\n
CLASS:PUBLIC
DTSTART:20181109T071500Z
DTEND:20181109T090000Z
DTSTAMP:20260421T184508Z
LOCATION:HSB  4
END:VEVENT
BEGIN:VEVENT
UID:18W_705513_3142374@uibk.ac.at
ORGANIZER;CN="LFU:online Universität Innsbruck":MAILTO:Uni-Innsbruck-noreply@uibk.ac.at
SUMMARY:PS Theoretische Physik 3 (Elektrodynamik) (LV 705513-1 18W)
DESCRIPTION:Lehrveranstaltung 705513 18W, Gruppe 1\nTitel: PS Theoretische Physik 3 (Elektrodynamik)\nOrt: HSB  4\n\nhttps://lfuonline.uibk.ac.at/public/lfuonline_lv.details?sem_id_in=18W&lvnr_id_in=705513\n
CLASS:PUBLIC
DTSTART:20181116T071500Z
DTEND:20181116T090000Z
DTSTAMP:20260421T184508Z
LOCATION:HSB  4
END:VEVENT
BEGIN:VEVENT
UID:18W_705513_3142375@uibk.ac.at
ORGANIZER;CN="LFU:online Universität Innsbruck":MAILTO:Uni-Innsbruck-noreply@uibk.ac.at
SUMMARY:PS Theoretische Physik 3 (Elektrodynamik) (LV 705513-1 18W)
DESCRIPTION:Lehrveranstaltung 705513 18W, Gruppe 1\nTitel: PS Theoretische Physik 3 (Elektrodynamik)\nOrt: HSB  4\n\nhttps://lfuonline.uibk.ac.at/public/lfuonline_lv.details?sem_id_in=18W&lvnr_id_in=705513\n
CLASS:PUBLIC
DTSTART:20181123T071500Z
DTEND:20181123T090000Z
DTSTAMP:20260421T184508Z
LOCATION:HSB  4
END:VEVENT
BEGIN:VEVENT
UID:18W_705513_3142376@uibk.ac.at
ORGANIZER;CN="LFU:online Universität Innsbruck":MAILTO:Uni-Innsbruck-noreply@uibk.ac.at
SUMMARY:PS Theoretische Physik 3 (Elektrodynamik) (LV 705513-1 18W)
DESCRIPTION:Lehrveranstaltung 705513 18W, Gruppe 1\nTitel: PS Theoretische Physik 3 (Elektrodynamik)\nOrt: HSB  4\n\nhttps://lfuonline.uibk.ac.at/public/lfuonline_lv.details?sem_id_in=18W&lvnr_id_in=705513\n
CLASS:PUBLIC
DTSTART:20181130T071500Z
DTEND:20181130T090000Z
DTSTAMP:20260421T184508Z
LOCATION:HSB  4
END:VEVENT
BEGIN:VEVENT
UID:18W_705513_3190590@uibk.ac.at
ORGANIZER;CN="LFU:online Universität Innsbruck":MAILTO:Uni-Innsbruck-noreply@uibk.ac.at
SUMMARY:PS Theoretische Physik 3 (Elektrodynamik) (LV 705513-1 18W)
DESCRIPTION:Lehrveranstaltung 705513 18W, Gruppe 1\nTitel: PS Theoretische Physik 3 (Elektrodynamik)\nOrt: HS A (Technik)\n\nhttps://lfuonline.uibk.ac.at/public/lfuonline_lv.details?sem_id_in=18W&lvnr_id_in=705513\n
CLASS:PUBLIC
DTSTART:20181130T113000Z
DTEND:20181130T153000Z
DTSTAMP:20260421T184508Z
LOCATION:HS A (Technik)
COMMENT:1. Klausur für alle Gruppen
END:VEVENT
BEGIN:VEVENT
UID:18W_705513_3142377@uibk.ac.at
ORGANIZER;CN="LFU:online Universität Innsbruck":MAILTO:Uni-Innsbruck-noreply@uibk.ac.at
SUMMARY:PS Theoretische Physik 3 (Elektrodynamik) (LV 705513-1 18W)
DESCRIPTION:Lehrveranstaltung 705513 18W, Gruppe 1\nTitel: PS Theoretische Physik 3 (Elektrodynamik)\nOrt: HSB  4\n\nhttps://lfuonline.uibk.ac.at/public/lfuonline_lv.details?sem_id_in=18W&lvnr_id_in=705513\n
CLASS:PUBLIC
DTSTART:20181207T071500Z
DTEND:20181207T090000Z
DTSTAMP:20260421T184508Z
LOCATION:HSB  4
END:VEVENT
BEGIN:VEVENT
UID:18W_705513_3142378@uibk.ac.at
ORGANIZER;CN="LFU:online Universität Innsbruck":MAILTO:Uni-Innsbruck-noreply@uibk.ac.at
SUMMARY:PS Theoretische Physik 3 (Elektrodynamik) (LV 705513-1 18W)
DESCRIPTION:Lehrveranstaltung 705513 18W, Gruppe 1\nTitel: PS Theoretische Physik 3 (Elektrodynamik)\nOrt: HSB  4\n\nhttps://lfuonline.uibk.ac.at/public/lfuonline_lv.details?sem_id_in=18W&lvnr_id_in=705513\n
CLASS:PUBLIC
DTSTART:20181214T071500Z
DTEND:20181214T090000Z
DTSTAMP:20260421T184508Z
LOCATION:HSB  4
END:VEVENT
BEGIN:VEVENT
UID:18W_705513_3142379@uibk.ac.at
ORGANIZER;CN="LFU:online Universität Innsbruck":MAILTO:Uni-Innsbruck-noreply@uibk.ac.at
SUMMARY:PS Theoretische Physik 3 (Elektrodynamik) (LV 705513-1 18W)
DESCRIPTION:Lehrveranstaltung 705513 18W, Gruppe 1\nTitel: PS Theoretische Physik 3 (Elektrodynamik)\nOrt: HSB  4\n\nhttps://lfuonline.uibk.ac.at/public/lfuonline_lv.details?sem_id_in=18W&lvnr_id_in=705513\n
CLASS:PUBLIC
DTSTART:20190111T071500Z
DTEND:20190111T090000Z
DTSTAMP:20260421T184508Z
LOCATION:HSB  4
END:VEVENT
BEGIN:VEVENT
UID:18W_705513_3142380@uibk.ac.at
ORGANIZER;CN="LFU:online Universität Innsbruck":MAILTO:Uni-Innsbruck-noreply@uibk.ac.at
SUMMARY:PS Theoretische Physik 3 (Elektrodynamik) (LV 705513-1 18W)
DESCRIPTION:Lehrveranstaltung 705513 18W, Gruppe 1\nTitel: PS Theoretische Physik 3 (Elektrodynamik)\nOrt: HSB  4\n\nhttps://lfuonline.uibk.ac.at/public/lfuonline_lv.details?sem_id_in=18W&lvnr_id_in=705513\n
CLASS:PUBLIC
DTSTART:20190118T071500Z
DTEND:20190118T090000Z
DTSTAMP:20260421T184508Z
LOCATION:HSB  4
END:VEVENT
BEGIN:VEVENT
UID:18W_705513_3142381@uibk.ac.at
ORGANIZER;CN="LFU:online Universität Innsbruck":MAILTO:Uni-Innsbruck-noreply@uibk.ac.at
SUMMARY:PS Theoretische Physik 3 (Elektrodynamik) (LV 705513-1 18W)
DESCRIPTION:Lehrveranstaltung 705513 18W, Gruppe 1\nTitel: PS Theoretische Physik 3 (Elektrodynamik)\nOrt: HSB  4\n\nhttps://lfuonline.uibk.ac.at/public/lfuonline_lv.details?sem_id_in=18W&lvnr_id_in=705513\n
CLASS:PUBLIC
DTSTART:20190125T071500Z
DTEND:20190125T090000Z
DTSTAMP:20260421T184508Z
LOCATION:HSB  4
END:VEVENT
BEGIN:VEVENT
UID:18W_705513_3142382@uibk.ac.at
ORGANIZER;CN="LFU:online Universität Innsbruck":MAILTO:Uni-Innsbruck-noreply@uibk.ac.at
SUMMARY:PS Theoretische Physik 3 (Elektrodynamik) (LV 705513-1 18W)
DESCRIPTION:Lehrveranstaltung 705513 18W, Gruppe 1\nTitel: PS Theoretische Physik 3 (Elektrodynamik)\nOrt: HSB  4\n\nhttps://lfuonline.uibk.ac.at/public/lfuonline_lv.details?sem_id_in=18W&lvnr_id_in=705513\n
CLASS:PUBLIC
DTSTART:20190201T071500Z
DTEND:20190201T090000Z
DTSTAMP:20260421T184508Z
LOCATION:HSB  4
END:VEVENT
BEGIN:VEVENT
UID:18W_705513_3190606@uibk.ac.at
ORGANIZER;CN="LFU:online Universität Innsbruck":MAILTO:Uni-Innsbruck-noreply@uibk.ac.at
SUMMARY:PS Theoretische Physik 3 (Elektrodynamik) (LV 705513-1 18W)
DESCRIPTION:Lehrveranstaltung 705513 18W, Gruppe 1\nTitel: PS Theoretische Physik 3 (Elektrodynamik)\nOrt: HS A (Technik)\n\nhttps://lfuonline.uibk.ac.at/public/lfuonline_lv.details?sem_id_in=18W&lvnr_id_in=705513\n
CLASS:PUBLIC
DTSTART:20190201T113000Z
DTEND:20190201T153000Z
DTSTAMP:20260421T184508Z
LOCATION:HS A (Technik)
COMMENT:2. Klausur für alle Gruppen
END:VEVENT
END:VCALENDAR