BEGIN:VCALENDAR
VERSION:2.0
PRODID:-//Universität Innsbruck//LFU:online//DE
METHOD:PUBLISH
BEGIN:VEVENT
UID:25S_705813_4801395@uibk.ac.at
ORGANIZER;CN="LFU:online Universität Innsbruck":MAILTO:Uni-Innsbruck-noreply@uibk.ac.at
SUMMARY:SE Forschungsseminar: Angewandte Quanteninformation: Quantencomputing 2025 (LV 705813-1 25S)
DESCRIPTION:Lehrveranstaltung 705813 25S, Gruppe 1\nTitel: SE Forschungsseminar: Angewandte Quanteninformation: Quantencomputing 2025\nOrt: Besprechungsraum 2S16\n\nhttps://lfuonline.uibk.ac.at/public/lfuonline_lv.details?sem_id_in=25S&lvnr_id_in=705813\n
CLASS:PUBLIC
DTSTART:20250306T130000Z
DTEND:20250306T140000Z
DTSTAMP:20260421T184508Z
LOCATION:Besprechungsraum 2S16
END:VEVENT
BEGIN:VEVENT
UID:25S_705813_4801396@uibk.ac.at
ORGANIZER;CN="LFU:online Universität Innsbruck":MAILTO:Uni-Innsbruck-noreply@uibk.ac.at
SUMMARY:SE Forschungsseminar: Angewandte Quanteninformation: Quantencomputing 2025 (LV 705813-1 25S)
DESCRIPTION:Lehrveranstaltung 705813 25S, Gruppe 1\nTitel: SE Forschungsseminar: Angewandte Quanteninformation: Quantencomputing 2025\nOrt: Besprechungsraum 2S16\n\nhttps://lfuonline.uibk.ac.at/public/lfuonline_lv.details?sem_id_in=25S&lvnr_id_in=705813\n
CLASS:PUBLIC
DTSTART:20250313T130000Z
DTEND:20250313T140000Z
DTSTAMP:20260421T184508Z
LOCATION:Besprechungsraum 2S16
END:VEVENT
BEGIN:VEVENT
UID:25S_705813_4801397@uibk.ac.at
ORGANIZER;CN="LFU:online Universität Innsbruck":MAILTO:Uni-Innsbruck-noreply@uibk.ac.at
SUMMARY:SE Forschungsseminar: Angewandte Quanteninformation: Quantencomputing 2025 (LV 705813-1 25S)
DESCRIPTION:Lehrveranstaltung 705813 25S, Gruppe 1\nTitel: SE Forschungsseminar: Angewandte Quanteninformation: Quantencomputing 2025\nOrt: Besprechungsraum 2S16\n\nhttps://lfuonline.uibk.ac.at/public/lfuonline_lv.details?sem_id_in=25S&lvnr_id_in=705813\n
CLASS:PUBLIC
DTSTART:20250320T130000Z
DTEND:20250320T140000Z
DTSTAMP:20260421T184508Z
LOCATION:Besprechungsraum 2S16
END:VEVENT
BEGIN:VEVENT
UID:25S_705813_4801398@uibk.ac.at
ORGANIZER;CN="LFU:online Universität Innsbruck":MAILTO:Uni-Innsbruck-noreply@uibk.ac.at
SUMMARY:SE Forschungsseminar: Angewandte Quanteninformation: Quantencomputing 2025 (LV 705813-1 25S)
DESCRIPTION:Lehrveranstaltung 705813 25S, Gruppe 1\nTitel: SE Forschungsseminar: Angewandte Quanteninformation: Quantencomputing 2025\nOrt: Besprechungsraum 2S16\n\nhttps://lfuonline.uibk.ac.at/public/lfuonline_lv.details?sem_id_in=25S&lvnr_id_in=705813\n
CLASS:PUBLIC
DTSTART:20250327T130000Z
DTEND:20250327T140000Z
DTSTAMP:20260421T184508Z
LOCATION:Besprechungsraum 2S16
END:VEVENT
BEGIN:VEVENT
UID:25S_705813_4801399@uibk.ac.at
ORGANIZER;CN="LFU:online Universität Innsbruck":MAILTO:Uni-Innsbruck-noreply@uibk.ac.at
SUMMARY:SE Forschungsseminar: Angewandte Quanteninformation: Quantencomputing 2025 (LV 705813-1 25S)
DESCRIPTION:Lehrveranstaltung 705813 25S, Gruppe 1\nTitel: SE Forschungsseminar: Angewandte Quanteninformation: Quantencomputing 2025\nOrt: Besprechungsraum 2S16\n\nhttps://lfuonline.uibk.ac.at/public/lfuonline_lv.details?sem_id_in=25S&lvnr_id_in=705813\n
CLASS:PUBLIC
DTSTART:20250403T120000Z
DTEND:20250403T130000Z
DTSTAMP:20260421T184508Z
LOCATION:Besprechungsraum 2S16
END:VEVENT
BEGIN:VEVENT
UID:25S_705813_4801400@uibk.ac.at
ORGANIZER;CN="LFU:online Universität Innsbruck":MAILTO:Uni-Innsbruck-noreply@uibk.ac.at
SUMMARY:SE Forschungsseminar: Angewandte Quanteninformation: Quantencomputing 2025 (LV 705813-1 25S)
DESCRIPTION:Lehrveranstaltung 705813 25S, Gruppe 1\nTitel: SE Forschungsseminar: Angewandte Quanteninformation: Quantencomputing 2025\nOrt: Besprechungsraum 2S16\n\nhttps://lfuonline.uibk.ac.at/public/lfuonline_lv.details?sem_id_in=25S&lvnr_id_in=705813\n
CLASS:PUBLIC
DTSTART:20250410T120000Z
DTEND:20250410T130000Z
DTSTAMP:20260421T184508Z
LOCATION:Besprechungsraum 2S16
END:VEVENT
BEGIN:VEVENT
UID:25S_705813_4801401@uibk.ac.at
ORGANIZER;CN="LFU:online Universität Innsbruck":MAILTO:Uni-Innsbruck-noreply@uibk.ac.at
SUMMARY:SE Forschungsseminar: Angewandte Quanteninformation: Quantencomputing 2025 (LV 705813-1 25S)
DESCRIPTION:Lehrveranstaltung 705813 25S, Gruppe 1\nTitel: SE Forschungsseminar: Angewandte Quanteninformation: Quantencomputing 2025\nOrt: Besprechungsraum 2S16\n\nhttps://lfuonline.uibk.ac.at/public/lfuonline_lv.details?sem_id_in=25S&lvnr_id_in=705813\n
CLASS:PUBLIC
DTSTART:20250508T120000Z
DTEND:20250508T130000Z
DTSTAMP:20260421T184508Z
LOCATION:Besprechungsraum 2S16
END:VEVENT
BEGIN:VEVENT
UID:25S_705813_4801402@uibk.ac.at
ORGANIZER;CN="LFU:online Universität Innsbruck":MAILTO:Uni-Innsbruck-noreply@uibk.ac.at
SUMMARY:SE Forschungsseminar: Angewandte Quanteninformation: Quantencomputing 2025 (LV 705813-1 25S)
DESCRIPTION:Lehrveranstaltung 705813 25S, Gruppe 1\nTitel: SE Forschungsseminar: Angewandte Quanteninformation: Quantencomputing 2025\nOrt: Besprechungsraum 2S16\n\nhttps://lfuonline.uibk.ac.at/public/lfuonline_lv.details?sem_id_in=25S&lvnr_id_in=705813\n
CLASS:PUBLIC
DTSTART:20250515T120000Z
DTEND:20250515T130000Z
DTSTAMP:20260421T184508Z
LOCATION:Besprechungsraum 2S16
END:VEVENT
BEGIN:VEVENT
UID:25S_705813_4801403@uibk.ac.at
ORGANIZER;CN="LFU:online Universität Innsbruck":MAILTO:Uni-Innsbruck-noreply@uibk.ac.at
SUMMARY:SE Forschungsseminar: Angewandte Quanteninformation: Quantencomputing 2025 (LV 705813-1 25S)
DESCRIPTION:Lehrveranstaltung 705813 25S, Gruppe 1\nTitel: SE Forschungsseminar: Angewandte Quanteninformation: Quantencomputing 2025\nOrt: Besprechungsraum 2S16\n\nhttps://lfuonline.uibk.ac.at/public/lfuonline_lv.details?sem_id_in=25S&lvnr_id_in=705813\n
CLASS:PUBLIC
DTSTART:20250522T120000Z
DTEND:20250522T130000Z
DTSTAMP:20260421T184508Z
LOCATION:Besprechungsraum 2S16
END:VEVENT
BEGIN:VEVENT
UID:25S_705813_4801404@uibk.ac.at
ORGANIZER;CN="LFU:online Universität Innsbruck":MAILTO:Uni-Innsbruck-noreply@uibk.ac.at
SUMMARY:SE Forschungsseminar: Angewandte Quanteninformation: Quantencomputing 2025 (LV 705813-1 25S)
DESCRIPTION:Lehrveranstaltung 705813 25S, Gruppe 1\nTitel: SE Forschungsseminar: Angewandte Quanteninformation: Quantencomputing 2025\nOrt: Besprechungsraum 2S16\n\nhttps://lfuonline.uibk.ac.at/public/lfuonline_lv.details?sem_id_in=25S&lvnr_id_in=705813\n
CLASS:PUBLIC
DTSTART:20250605T120000Z
DTEND:20250605T130000Z
DTSTAMP:20260421T184508Z
LOCATION:Besprechungsraum 2S16
END:VEVENT
BEGIN:VEVENT
UID:25S_705813_4801405@uibk.ac.at
ORGANIZER;CN="LFU:online Universität Innsbruck":MAILTO:Uni-Innsbruck-noreply@uibk.ac.at
SUMMARY:SE Forschungsseminar: Angewandte Quanteninformation: Quantencomputing 2025 (LV 705813-1 25S)
DESCRIPTION:Lehrveranstaltung 705813 25S, Gruppe 1\nTitel: SE Forschungsseminar: Angewandte Quanteninformation: Quantencomputing 2025\nOrt: Besprechungsraum 2S16\n\nhttps://lfuonline.uibk.ac.at/public/lfuonline_lv.details?sem_id_in=25S&lvnr_id_in=705813\n
CLASS:PUBLIC
DTSTART:20250612T120000Z
DTEND:20250612T130000Z
DTSTAMP:20260421T184508Z
LOCATION:Besprechungsraum 2S16
END:VEVENT
BEGIN:VEVENT
UID:25S_705813_4801406@uibk.ac.at
ORGANIZER;CN="LFU:online Universität Innsbruck":MAILTO:Uni-Innsbruck-noreply@uibk.ac.at
SUMMARY:SE Forschungsseminar: Angewandte Quanteninformation: Quantencomputing 2025 (LV 705813-1 25S)
DESCRIPTION:Lehrveranstaltung 705813 25S, Gruppe 1\nTitel: SE Forschungsseminar: Angewandte Quanteninformation: Quantencomputing 2025\nOrt: Besprechungsraum 2S16\n\nhttps://lfuonline.uibk.ac.at/public/lfuonline_lv.details?sem_id_in=25S&lvnr_id_in=705813\n
CLASS:PUBLIC
DTSTART:20250626T120000Z
DTEND:20250626T130000Z
DTSTAMP:20260421T184508Z
LOCATION:Besprechungsraum 2S16
END:VEVENT
END:VCALENDAR