BEGIN:VCALENDAR
VERSION:2.0
PRODID:-//Universität Innsbruck//LFU:online//DE
METHOD:PUBLISH
BEGIN:VEVENT
UID:26S_705845_4971747@uibk.ac.at
ORGANIZER;CN="LFU:online Universität Innsbruck":MAILTO:Uni-Innsbruck-noreply@uibk.ac.at
SUMMARY:VU Spezielle Themen der Quantenwissenschaften A: Theoretische Quantenoptik  (LV 705845-1 26S)
DESCRIPTION:Lehrveranstaltung 705845 26S, Gruppe 1\nTitel: VU Spezielle Themen der Quantenwissenschaften A: Theoretische Quantenoptik \nOrt: HS 11\n\nhttps://lfuonline.uibk.ac.at/public/lfuonline_lv.details?sem_id_in=26S&lvnr_id_in=705845\n
CLASS:PUBLIC
DTSTART:20260303T073000Z
DTEND:20260303T090000Z
DTSTAMP:20260421T144439Z
LOCATION:HS 11
END:VEVENT
BEGIN:VEVENT
UID:26S_705845_4971785@uibk.ac.at
ORGANIZER;CN="LFU:online Universität Innsbruck":MAILTO:Uni-Innsbruck-noreply@uibk.ac.at
SUMMARY:VU Spezielle Themen der Quantenwissenschaften A: Theoretische Quantenoptik  (LV 705845-1 26S)
DESCRIPTION:Lehrveranstaltung 705845 26S, Gruppe 1\nTitel: VU Spezielle Themen der Quantenwissenschaften A: Theoretische Quantenoptik \nOrt: HS C (Technik)\n\nhttps://lfuonline.uibk.ac.at/public/lfuonline_lv.details?sem_id_in=26S&lvnr_id_in=705845\n
CLASS:PUBLIC
DTSTART:20260305T124500Z
DTEND:20260305T133000Z
DTSTAMP:20260421T144439Z
LOCATION:HS C (Technik)
END:VEVENT
BEGIN:VEVENT
UID:26S_705845_4971748@uibk.ac.at
ORGANIZER;CN="LFU:online Universität Innsbruck":MAILTO:Uni-Innsbruck-noreply@uibk.ac.at
SUMMARY:VU Spezielle Themen der Quantenwissenschaften A: Theoretische Quantenoptik  (LV 705845-1 26S)
DESCRIPTION:Lehrveranstaltung 705845 26S, Gruppe 1\nTitel: VU Spezielle Themen der Quantenwissenschaften A: Theoretische Quantenoptik \nOrt: HS 11\n\nhttps://lfuonline.uibk.ac.at/public/lfuonline_lv.details?sem_id_in=26S&lvnr_id_in=705845\n
CLASS:PUBLIC
DTSTART:20260310T073000Z
DTEND:20260310T090000Z
DTSTAMP:20260421T144439Z
LOCATION:HS 11
END:VEVENT
BEGIN:VEVENT
UID:26S_705845_4971786@uibk.ac.at
ORGANIZER;CN="LFU:online Universität Innsbruck":MAILTO:Uni-Innsbruck-noreply@uibk.ac.at
SUMMARY:VU Spezielle Themen der Quantenwissenschaften A: Theoretische Quantenoptik  (LV 705845-1 26S)
DESCRIPTION:Lehrveranstaltung 705845 26S, Gruppe 1\nTitel: VU Spezielle Themen der Quantenwissenschaften A: Theoretische Quantenoptik \nOrt: HS C (Technik)\n\nhttps://lfuonline.uibk.ac.at/public/lfuonline_lv.details?sem_id_in=26S&lvnr_id_in=705845\n
CLASS:PUBLIC
DTSTART:20260312T124500Z
DTEND:20260312T133000Z
DTSTAMP:20260421T144439Z
LOCATION:HS C (Technik)
END:VEVENT
BEGIN:VEVENT
UID:26S_705845_4971749@uibk.ac.at
ORGANIZER;CN="LFU:online Universität Innsbruck":MAILTO:Uni-Innsbruck-noreply@uibk.ac.at
SUMMARY:VU Spezielle Themen der Quantenwissenschaften A: Theoretische Quantenoptik  (LV 705845-1 26S)
DESCRIPTION:Lehrveranstaltung 705845 26S, Gruppe 1\nTitel: VU Spezielle Themen der Quantenwissenschaften A: Theoretische Quantenoptik \nOrt: HS 11\n\nhttps://lfuonline.uibk.ac.at/public/lfuonline_lv.details?sem_id_in=26S&lvnr_id_in=705845\n
CLASS:PUBLIC
DTSTART:20260317T073000Z
DTEND:20260317T090000Z
DTSTAMP:20260421T144439Z
LOCATION:HS 11
END:VEVENT
BEGIN:VEVENT
UID:26S_705845_4971787@uibk.ac.at
ORGANIZER;CN="LFU:online Universität Innsbruck":MAILTO:Uni-Innsbruck-noreply@uibk.ac.at
SUMMARY:VU Spezielle Themen der Quantenwissenschaften A: Theoretische Quantenoptik  (LV 705845-1 26S)
DESCRIPTION:Lehrveranstaltung 705845 26S, Gruppe 1\nTitel: VU Spezielle Themen der Quantenwissenschaften A: Theoretische Quantenoptik \nOrt: HS C (Technik)\n\nhttps://lfuonline.uibk.ac.at/public/lfuonline_lv.details?sem_id_in=26S&lvnr_id_in=705845\n
CLASS:PUBLIC
DTSTART:20260319T124500Z
DTEND:20260319T133000Z
DTSTAMP:20260421T144439Z
LOCATION:HS C (Technik)
END:VEVENT
BEGIN:VEVENT
UID:26S_705845_4971750@uibk.ac.at
ORGANIZER;CN="LFU:online Universität Innsbruck":MAILTO:Uni-Innsbruck-noreply@uibk.ac.at
SUMMARY:VU Spezielle Themen der Quantenwissenschaften A: Theoretische Quantenoptik  (LV 705845-1 26S)
DESCRIPTION:Lehrveranstaltung 705845 26S, Gruppe 1\nTitel: VU Spezielle Themen der Quantenwissenschaften A: Theoretische Quantenoptik \nOrt: HS 11\n\nhttps://lfuonline.uibk.ac.at/public/lfuonline_lv.details?sem_id_in=26S&lvnr_id_in=705845\n
CLASS:PUBLIC
DTSTART:20260324T073000Z
DTEND:20260324T090000Z
DTSTAMP:20260421T144439Z
LOCATION:HS 11
END:VEVENT
BEGIN:VEVENT
UID:26S_705845_4971788@uibk.ac.at
ORGANIZER;CN="LFU:online Universität Innsbruck":MAILTO:Uni-Innsbruck-noreply@uibk.ac.at
SUMMARY:VU Spezielle Themen der Quantenwissenschaften A: Theoretische Quantenoptik  (LV 705845-1 26S)
DESCRIPTION:Lehrveranstaltung 705845 26S, Gruppe 1\nTitel: VU Spezielle Themen der Quantenwissenschaften A: Theoretische Quantenoptik \nOrt: HS C (Technik)\n\nhttps://lfuonline.uibk.ac.at/public/lfuonline_lv.details?sem_id_in=26S&lvnr_id_in=705845\n
CLASS:PUBLIC
DTSTART:20260326T124500Z
DTEND:20260326T133000Z
DTSTAMP:20260421T144439Z
LOCATION:HS C (Technik)
END:VEVENT
BEGIN:VEVENT
UID:26S_705845_4971751@uibk.ac.at
ORGANIZER;CN="LFU:online Universität Innsbruck":MAILTO:Uni-Innsbruck-noreply@uibk.ac.at
SUMMARY:VU Spezielle Themen der Quantenwissenschaften A: Theoretische Quantenoptik  (LV 705845-1 26S)
DESCRIPTION:Lehrveranstaltung 705845 26S, Gruppe 1\nTitel: VU Spezielle Themen der Quantenwissenschaften A: Theoretische Quantenoptik \nOrt: HS 11\n\nhttps://lfuonline.uibk.ac.at/public/lfuonline_lv.details?sem_id_in=26S&lvnr_id_in=705845\n
CLASS:PUBLIC
DTSTART:20260414T063000Z
DTEND:20260414T080000Z
DTSTAMP:20260421T144439Z
LOCATION:HS 11
END:VEVENT
BEGIN:VEVENT
UID:26S_705845_4971789@uibk.ac.at
ORGANIZER;CN="LFU:online Universität Innsbruck":MAILTO:Uni-Innsbruck-noreply@uibk.ac.at
SUMMARY:VU Spezielle Themen der Quantenwissenschaften A: Theoretische Quantenoptik  (LV 705845-1 26S)
DESCRIPTION:Lehrveranstaltung 705845 26S, Gruppe 1\nTitel: VU Spezielle Themen der Quantenwissenschaften A: Theoretische Quantenoptik \nOrt: HS C (Technik)\n\nhttps://lfuonline.uibk.ac.at/public/lfuonline_lv.details?sem_id_in=26S&lvnr_id_in=705845\n
CLASS:PUBLIC
DTSTART:20260416T114500Z
DTEND:20260416T123000Z
DTSTAMP:20260421T144439Z
LOCATION:HS C (Technik)
END:VEVENT
BEGIN:VEVENT
UID:26S_705845_4971752@uibk.ac.at
ORGANIZER;CN="LFU:online Universität Innsbruck":MAILTO:Uni-Innsbruck-noreply@uibk.ac.at
SUMMARY:VU Spezielle Themen der Quantenwissenschaften A: Theoretische Quantenoptik  (LV 705845-1 26S)
DESCRIPTION:Lehrveranstaltung 705845 26S, Gruppe 1\nTitel: VU Spezielle Themen der Quantenwissenschaften A: Theoretische Quantenoptik \nOrt: HS 11\n\nhttps://lfuonline.uibk.ac.at/public/lfuonline_lv.details?sem_id_in=26S&lvnr_id_in=705845\n
CLASS:PUBLIC
DTSTART:20260421T063000Z
DTEND:20260421T080000Z
DTSTAMP:20260421T144439Z
LOCATION:HS 11
END:VEVENT
BEGIN:VEVENT
UID:26S_705845_4971790@uibk.ac.at
ORGANIZER;CN="LFU:online Universität Innsbruck":MAILTO:Uni-Innsbruck-noreply@uibk.ac.at
SUMMARY:VU Spezielle Themen der Quantenwissenschaften A: Theoretische Quantenoptik  (LV 705845-1 26S)
DESCRIPTION:Lehrveranstaltung 705845 26S, Gruppe 1\nTitel: VU Spezielle Themen der Quantenwissenschaften A: Theoretische Quantenoptik \nOrt: HS C (Technik)\n\nhttps://lfuonline.uibk.ac.at/public/lfuonline_lv.details?sem_id_in=26S&lvnr_id_in=705845\n
CLASS:PUBLIC
DTSTART:20260423T114500Z
DTEND:20260423T123000Z
DTSTAMP:20260421T144439Z
LOCATION:HS C (Technik)
END:VEVENT
BEGIN:VEVENT
UID:26S_705845_4971753@uibk.ac.at
ORGANIZER;CN="LFU:online Universität Innsbruck":MAILTO:Uni-Innsbruck-noreply@uibk.ac.at
SUMMARY:VU Spezielle Themen der Quantenwissenschaften A: Theoretische Quantenoptik  (LV 705845-1 26S)
DESCRIPTION:Lehrveranstaltung 705845 26S, Gruppe 1\nTitel: VU Spezielle Themen der Quantenwissenschaften A: Theoretische Quantenoptik \nOrt: HS 11\n\nhttps://lfuonline.uibk.ac.at/public/lfuonline_lv.details?sem_id_in=26S&lvnr_id_in=705845\n
CLASS:PUBLIC
DTSTART:20260428T063000Z
DTEND:20260428T080000Z
DTSTAMP:20260421T144439Z
LOCATION:HS 11
END:VEVENT
BEGIN:VEVENT
UID:26S_705845_4971791@uibk.ac.at
ORGANIZER;CN="LFU:online Universität Innsbruck":MAILTO:Uni-Innsbruck-noreply@uibk.ac.at
SUMMARY:VU Spezielle Themen der Quantenwissenschaften A: Theoretische Quantenoptik  (LV 705845-1 26S)
DESCRIPTION:Lehrveranstaltung 705845 26S, Gruppe 1\nTitel: VU Spezielle Themen der Quantenwissenschaften A: Theoretische Quantenoptik \nOrt: HS C (Technik)\n\nhttps://lfuonline.uibk.ac.at/public/lfuonline_lv.details?sem_id_in=26S&lvnr_id_in=705845\n
CLASS:PUBLIC
DTSTART:20260430T114500Z
DTEND:20260430T123000Z
DTSTAMP:20260421T144439Z
LOCATION:HS C (Technik)
END:VEVENT
BEGIN:VEVENT
UID:26S_705845_4971754@uibk.ac.at
ORGANIZER;CN="LFU:online Universität Innsbruck":MAILTO:Uni-Innsbruck-noreply@uibk.ac.at
SUMMARY:VU Spezielle Themen der Quantenwissenschaften A: Theoretische Quantenoptik  (LV 705845-1 26S)
DESCRIPTION:Lehrveranstaltung 705845 26S, Gruppe 1\nTitel: VU Spezielle Themen der Quantenwissenschaften A: Theoretische Quantenoptik \nOrt: HS 11\n\nhttps://lfuonline.uibk.ac.at/public/lfuonline_lv.details?sem_id_in=26S&lvnr_id_in=705845\n
CLASS:PUBLIC
DTSTART:20260505T063000Z
DTEND:20260505T080000Z
DTSTAMP:20260421T144439Z
LOCATION:HS 11
END:VEVENT
BEGIN:VEVENT
UID:26S_705845_4971792@uibk.ac.at
ORGANIZER;CN="LFU:online Universität Innsbruck":MAILTO:Uni-Innsbruck-noreply@uibk.ac.at
SUMMARY:VU Spezielle Themen der Quantenwissenschaften A: Theoretische Quantenoptik  (LV 705845-1 26S)
DESCRIPTION:Lehrveranstaltung 705845 26S, Gruppe 1\nTitel: VU Spezielle Themen der Quantenwissenschaften A: Theoretische Quantenoptik \nOrt: HS C (Technik)\n\nhttps://lfuonline.uibk.ac.at/public/lfuonline_lv.details?sem_id_in=26S&lvnr_id_in=705845\n
CLASS:PUBLIC
DTSTART:20260507T114500Z
DTEND:20260507T123000Z
DTSTAMP:20260421T144439Z
LOCATION:HS C (Technik)
END:VEVENT
BEGIN:VEVENT
UID:26S_705845_4971755@uibk.ac.at
ORGANIZER;CN="LFU:online Universität Innsbruck":MAILTO:Uni-Innsbruck-noreply@uibk.ac.at
SUMMARY:VU Spezielle Themen der Quantenwissenschaften A: Theoretische Quantenoptik  (LV 705845-1 26S)
DESCRIPTION:Lehrveranstaltung 705845 26S, Gruppe 1\nTitel: VU Spezielle Themen der Quantenwissenschaften A: Theoretische Quantenoptik \nOrt: HS 11\n\nhttps://lfuonline.uibk.ac.at/public/lfuonline_lv.details?sem_id_in=26S&lvnr_id_in=705845\n
CLASS:PUBLIC
DTSTART:20260512T063000Z
DTEND:20260512T080000Z
DTSTAMP:20260421T144439Z
LOCATION:HS 11
END:VEVENT
BEGIN:VEVENT
UID:26S_705845_4971756@uibk.ac.at
ORGANIZER;CN="LFU:online Universität Innsbruck":MAILTO:Uni-Innsbruck-noreply@uibk.ac.at
SUMMARY:VU Spezielle Themen der Quantenwissenschaften A: Theoretische Quantenoptik  (LV 705845-1 26S)
DESCRIPTION:Lehrveranstaltung 705845 26S, Gruppe 1\nTitel: VU Spezielle Themen der Quantenwissenschaften A: Theoretische Quantenoptik \nOrt: HS 11\n\nhttps://lfuonline.uibk.ac.at/public/lfuonline_lv.details?sem_id_in=26S&lvnr_id_in=705845\n
CLASS:PUBLIC
DTSTART:20260519T063000Z
DTEND:20260519T080000Z
DTSTAMP:20260421T144439Z
LOCATION:HS 11
END:VEVENT
BEGIN:VEVENT
UID:26S_705845_4971793@uibk.ac.at
ORGANIZER;CN="LFU:online Universität Innsbruck":MAILTO:Uni-Innsbruck-noreply@uibk.ac.at
SUMMARY:VU Spezielle Themen der Quantenwissenschaften A: Theoretische Quantenoptik  (LV 705845-1 26S)
DESCRIPTION:Lehrveranstaltung 705845 26S, Gruppe 1\nTitel: VU Spezielle Themen der Quantenwissenschaften A: Theoretische Quantenoptik \nOrt: HS C (Technik)\n\nhttps://lfuonline.uibk.ac.at/public/lfuonline_lv.details?sem_id_in=26S&lvnr_id_in=705845\n
CLASS:PUBLIC
DTSTART:20260521T114500Z
DTEND:20260521T123000Z
DTSTAMP:20260421T144439Z
LOCATION:HS C (Technik)
END:VEVENT
BEGIN:VEVENT
UID:26S_705845_4971757@uibk.ac.at
ORGANIZER;CN="LFU:online Universität Innsbruck":MAILTO:Uni-Innsbruck-noreply@uibk.ac.at
SUMMARY:VU Spezielle Themen der Quantenwissenschaften A: Theoretische Quantenoptik  (LV 705845-1 26S)
DESCRIPTION:Lehrveranstaltung 705845 26S, Gruppe 1\nTitel: VU Spezielle Themen der Quantenwissenschaften A: Theoretische Quantenoptik \nOrt: HS 11\n\nhttps://lfuonline.uibk.ac.at/public/lfuonline_lv.details?sem_id_in=26S&lvnr_id_in=705845\n
CLASS:PUBLIC
DTSTART:20260526T063000Z
DTEND:20260526T080000Z
DTSTAMP:20260421T144439Z
LOCATION:HS 11
END:VEVENT
BEGIN:VEVENT
UID:26S_705845_4971794@uibk.ac.at
ORGANIZER;CN="LFU:online Universität Innsbruck":MAILTO:Uni-Innsbruck-noreply@uibk.ac.at
SUMMARY:VU Spezielle Themen der Quantenwissenschaften A: Theoretische Quantenoptik  (LV 705845-1 26S)
DESCRIPTION:Lehrveranstaltung 705845 26S, Gruppe 1\nTitel: VU Spezielle Themen der Quantenwissenschaften A: Theoretische Quantenoptik \nOrt: HS C (Technik)\n\nhttps://lfuonline.uibk.ac.at/public/lfuonline_lv.details?sem_id_in=26S&lvnr_id_in=705845\n
CLASS:PUBLIC
DTSTART:20260528T114500Z
DTEND:20260528T123000Z
DTSTAMP:20260421T144439Z
LOCATION:HS C (Technik)
END:VEVENT
BEGIN:VEVENT
UID:26S_705845_4971758@uibk.ac.at
ORGANIZER;CN="LFU:online Universität Innsbruck":MAILTO:Uni-Innsbruck-noreply@uibk.ac.at
SUMMARY:VU Spezielle Themen der Quantenwissenschaften A: Theoretische Quantenoptik  (LV 705845-1 26S)
DESCRIPTION:Lehrveranstaltung 705845 26S, Gruppe 1\nTitel: VU Spezielle Themen der Quantenwissenschaften A: Theoretische Quantenoptik \nOrt: HS 11\n\nhttps://lfuonline.uibk.ac.at/public/lfuonline_lv.details?sem_id_in=26S&lvnr_id_in=705845\n
CLASS:PUBLIC
DTSTART:20260602T063000Z
DTEND:20260602T080000Z
DTSTAMP:20260421T144439Z
LOCATION:HS 11
END:VEVENT
BEGIN:VEVENT
UID:26S_705845_4971759@uibk.ac.at
ORGANIZER;CN="LFU:online Universität Innsbruck":MAILTO:Uni-Innsbruck-noreply@uibk.ac.at
SUMMARY:VU Spezielle Themen der Quantenwissenschaften A: Theoretische Quantenoptik  (LV 705845-1 26S)
DESCRIPTION:Lehrveranstaltung 705845 26S, Gruppe 1\nTitel: VU Spezielle Themen der Quantenwissenschaften A: Theoretische Quantenoptik \nOrt: HS 11\n\nhttps://lfuonline.uibk.ac.at/public/lfuonline_lv.details?sem_id_in=26S&lvnr_id_in=705845\n
CLASS:PUBLIC
DTSTART:20260609T063000Z
DTEND:20260609T080000Z
DTSTAMP:20260421T144439Z
LOCATION:HS 11
END:VEVENT
BEGIN:VEVENT
UID:26S_705845_4971795@uibk.ac.at
ORGANIZER;CN="LFU:online Universität Innsbruck":MAILTO:Uni-Innsbruck-noreply@uibk.ac.at
SUMMARY:VU Spezielle Themen der Quantenwissenschaften A: Theoretische Quantenoptik  (LV 705845-1 26S)
DESCRIPTION:Lehrveranstaltung 705845 26S, Gruppe 1\nTitel: VU Spezielle Themen der Quantenwissenschaften A: Theoretische Quantenoptik \nOrt: HS C (Technik)\n\nhttps://lfuonline.uibk.ac.at/public/lfuonline_lv.details?sem_id_in=26S&lvnr_id_in=705845\n
CLASS:PUBLIC
DTSTART:20260611T114500Z
DTEND:20260611T123000Z
DTSTAMP:20260421T144439Z
LOCATION:HS C (Technik)
END:VEVENT
BEGIN:VEVENT
UID:26S_705845_4971760@uibk.ac.at
ORGANIZER;CN="LFU:online Universität Innsbruck":MAILTO:Uni-Innsbruck-noreply@uibk.ac.at
SUMMARY:VU Spezielle Themen der Quantenwissenschaften A: Theoretische Quantenoptik  (LV 705845-1 26S)
DESCRIPTION:Lehrveranstaltung 705845 26S, Gruppe 1\nTitel: VU Spezielle Themen der Quantenwissenschaften A: Theoretische Quantenoptik \nOrt: HS 11\n\nhttps://lfuonline.uibk.ac.at/public/lfuonline_lv.details?sem_id_in=26S&lvnr_id_in=705845\n
CLASS:PUBLIC
DTSTART:20260616T063000Z
DTEND:20260616T080000Z
DTSTAMP:20260421T144439Z
LOCATION:HS 11
END:VEVENT
BEGIN:VEVENT
UID:26S_705845_4971796@uibk.ac.at
ORGANIZER;CN="LFU:online Universität Innsbruck":MAILTO:Uni-Innsbruck-noreply@uibk.ac.at
SUMMARY:VU Spezielle Themen der Quantenwissenschaften A: Theoretische Quantenoptik  (LV 705845-1 26S)
DESCRIPTION:Lehrveranstaltung 705845 26S, Gruppe 1\nTitel: VU Spezielle Themen der Quantenwissenschaften A: Theoretische Quantenoptik \nOrt: HS C (Technik)\n\nhttps://lfuonline.uibk.ac.at/public/lfuonline_lv.details?sem_id_in=26S&lvnr_id_in=705845\n
CLASS:PUBLIC
DTSTART:20260618T114500Z
DTEND:20260618T123000Z
DTSTAMP:20260421T144439Z
LOCATION:HS C (Technik)
END:VEVENT
BEGIN:VEVENT
UID:26S_705845_4971761@uibk.ac.at
ORGANIZER;CN="LFU:online Universität Innsbruck":MAILTO:Uni-Innsbruck-noreply@uibk.ac.at
SUMMARY:VU Spezielle Themen der Quantenwissenschaften A: Theoretische Quantenoptik  (LV 705845-1 26S)
DESCRIPTION:Lehrveranstaltung 705845 26S, Gruppe 1\nTitel: VU Spezielle Themen der Quantenwissenschaften A: Theoretische Quantenoptik \nOrt: HS 11\n\nhttps://lfuonline.uibk.ac.at/public/lfuonline_lv.details?sem_id_in=26S&lvnr_id_in=705845\n
CLASS:PUBLIC
DTSTART:20260623T063000Z
DTEND:20260623T080000Z
DTSTAMP:20260421T144439Z
LOCATION:HS 11
END:VEVENT
BEGIN:VEVENT
UID:26S_705845_4971797@uibk.ac.at
ORGANIZER;CN="LFU:online Universität Innsbruck":MAILTO:Uni-Innsbruck-noreply@uibk.ac.at
SUMMARY:VU Spezielle Themen der Quantenwissenschaften A: Theoretische Quantenoptik  (LV 705845-1 26S)
DESCRIPTION:Lehrveranstaltung 705845 26S, Gruppe 1\nTitel: VU Spezielle Themen der Quantenwissenschaften A: Theoretische Quantenoptik \nOrt: HS C (Technik)\n\nhttps://lfuonline.uibk.ac.at/public/lfuonline_lv.details?sem_id_in=26S&lvnr_id_in=705845\n
CLASS:PUBLIC
DTSTART:20260625T114500Z
DTEND:20260625T123000Z
DTSTAMP:20260421T144439Z
LOCATION:HS C (Technik)
END:VEVENT
END:VCALENDAR