BEGIN:VCALENDAR
VERSION:2.0
PRODID:-//Universität Innsbruck//LFU:online//DE
METHOD:PUBLISH
BEGIN:VEVENT
UID:26S_705854_4971813@uibk.ac.at
ORGANIZER;CN="LFU:online Universität Innsbruck":MAILTO:Uni-Innsbruck-noreply@uibk.ac.at
SUMMARY:PS Theoretische Quantenoptik  (LV 705854-1 26S)
DESCRIPTION:Lehrveranstaltung 705854 26S, Gruppe 1\nTitel: PS Theoretische Quantenoptik \nOrt: HS C (Technik)\n\nhttps://lfuonline.uibk.ac.at/public/lfuonline_lv.details?sem_id_in=26S&lvnr_id_in=705854\n
CLASS:PUBLIC
DTSTART:20260305T133000Z
DTEND:20260305T141500Z
DTSTAMP:20260421T184508Z
LOCATION:HS C (Technik)
END:VEVENT
BEGIN:VEVENT
UID:26S_705854_4971814@uibk.ac.at
ORGANIZER;CN="LFU:online Universität Innsbruck":MAILTO:Uni-Innsbruck-noreply@uibk.ac.at
SUMMARY:PS Theoretische Quantenoptik  (LV 705854-1 26S)
DESCRIPTION:Lehrveranstaltung 705854 26S, Gruppe 1\nTitel: PS Theoretische Quantenoptik \nOrt: HS C (Technik)\n\nhttps://lfuonline.uibk.ac.at/public/lfuonline_lv.details?sem_id_in=26S&lvnr_id_in=705854\n
CLASS:PUBLIC
DTSTART:20260312T133000Z
DTEND:20260312T141500Z
DTSTAMP:20260421T184508Z
LOCATION:HS C (Technik)
END:VEVENT
BEGIN:VEVENT
UID:26S_705854_4971815@uibk.ac.at
ORGANIZER;CN="LFU:online Universität Innsbruck":MAILTO:Uni-Innsbruck-noreply@uibk.ac.at
SUMMARY:PS Theoretische Quantenoptik  (LV 705854-1 26S)
DESCRIPTION:Lehrveranstaltung 705854 26S, Gruppe 1\nTitel: PS Theoretische Quantenoptik \nOrt: HS C (Technik)\n\nhttps://lfuonline.uibk.ac.at/public/lfuonline_lv.details?sem_id_in=26S&lvnr_id_in=705854\n
CLASS:PUBLIC
DTSTART:20260319T133000Z
DTEND:20260319T141500Z
DTSTAMP:20260421T184508Z
LOCATION:HS C (Technik)
END:VEVENT
BEGIN:VEVENT
UID:26S_705854_4971816@uibk.ac.at
ORGANIZER;CN="LFU:online Universität Innsbruck":MAILTO:Uni-Innsbruck-noreply@uibk.ac.at
SUMMARY:PS Theoretische Quantenoptik  (LV 705854-1 26S)
DESCRIPTION:Lehrveranstaltung 705854 26S, Gruppe 1\nTitel: PS Theoretische Quantenoptik \nOrt: HS C (Technik)\n\nhttps://lfuonline.uibk.ac.at/public/lfuonline_lv.details?sem_id_in=26S&lvnr_id_in=705854\n
CLASS:PUBLIC
DTSTART:20260326T133000Z
DTEND:20260326T141500Z
DTSTAMP:20260421T184508Z
LOCATION:HS C (Technik)
END:VEVENT
BEGIN:VEVENT
UID:26S_705854_4971817@uibk.ac.at
ORGANIZER;CN="LFU:online Universität Innsbruck":MAILTO:Uni-Innsbruck-noreply@uibk.ac.at
SUMMARY:PS Theoretische Quantenoptik  (LV 705854-1 26S)
DESCRIPTION:Lehrveranstaltung 705854 26S, Gruppe 1\nTitel: PS Theoretische Quantenoptik \nOrt: HS C (Technik)\n\nhttps://lfuonline.uibk.ac.at/public/lfuonline_lv.details?sem_id_in=26S&lvnr_id_in=705854\n
CLASS:PUBLIC
DTSTART:20260416T123000Z
DTEND:20260416T131500Z
DTSTAMP:20260421T184508Z
LOCATION:HS C (Technik)
END:VEVENT
BEGIN:VEVENT
UID:26S_705854_4971818@uibk.ac.at
ORGANIZER;CN="LFU:online Universität Innsbruck":MAILTO:Uni-Innsbruck-noreply@uibk.ac.at
SUMMARY:PS Theoretische Quantenoptik  (LV 705854-1 26S)
DESCRIPTION:Lehrveranstaltung 705854 26S, Gruppe 1\nTitel: PS Theoretische Quantenoptik \nOrt: HS C (Technik)\n\nhttps://lfuonline.uibk.ac.at/public/lfuonline_lv.details?sem_id_in=26S&lvnr_id_in=705854\n
CLASS:PUBLIC
DTSTART:20260423T123000Z
DTEND:20260423T131500Z
DTSTAMP:20260421T184508Z
LOCATION:HS C (Technik)
END:VEVENT
BEGIN:VEVENT
UID:26S_705854_4971819@uibk.ac.at
ORGANIZER;CN="LFU:online Universität Innsbruck":MAILTO:Uni-Innsbruck-noreply@uibk.ac.at
SUMMARY:PS Theoretische Quantenoptik  (LV 705854-1 26S)
DESCRIPTION:Lehrveranstaltung 705854 26S, Gruppe 1\nTitel: PS Theoretische Quantenoptik \nOrt: HS C (Technik)\n\nhttps://lfuonline.uibk.ac.at/public/lfuonline_lv.details?sem_id_in=26S&lvnr_id_in=705854\n
CLASS:PUBLIC
DTSTART:20260430T123000Z
DTEND:20260430T131500Z
DTSTAMP:20260421T184508Z
LOCATION:HS C (Technik)
END:VEVENT
BEGIN:VEVENT
UID:26S_705854_4971820@uibk.ac.at
ORGANIZER;CN="LFU:online Universität Innsbruck":MAILTO:Uni-Innsbruck-noreply@uibk.ac.at
SUMMARY:PS Theoretische Quantenoptik  (LV 705854-1 26S)
DESCRIPTION:Lehrveranstaltung 705854 26S, Gruppe 1\nTitel: PS Theoretische Quantenoptik \nOrt: HS C (Technik)\n\nhttps://lfuonline.uibk.ac.at/public/lfuonline_lv.details?sem_id_in=26S&lvnr_id_in=705854\n
CLASS:PUBLIC
DTSTART:20260507T123000Z
DTEND:20260507T131500Z
DTSTAMP:20260421T184508Z
LOCATION:HS C (Technik)
END:VEVENT
BEGIN:VEVENT
UID:26S_705854_4971821@uibk.ac.at
ORGANIZER;CN="LFU:online Universität Innsbruck":MAILTO:Uni-Innsbruck-noreply@uibk.ac.at
SUMMARY:PS Theoretische Quantenoptik  (LV 705854-1 26S)
DESCRIPTION:Lehrveranstaltung 705854 26S, Gruppe 1\nTitel: PS Theoretische Quantenoptik \nOrt: HS C (Technik)\n\nhttps://lfuonline.uibk.ac.at/public/lfuonline_lv.details?sem_id_in=26S&lvnr_id_in=705854\n
CLASS:PUBLIC
DTSTART:20260514T123000Z
DTEND:20260514T131500Z
DTSTAMP:20260421T184508Z
LOCATION:HS C (Technik)
END:VEVENT
BEGIN:VEVENT
UID:26S_705854_4971822@uibk.ac.at
ORGANIZER;CN="LFU:online Universität Innsbruck":MAILTO:Uni-Innsbruck-noreply@uibk.ac.at
SUMMARY:PS Theoretische Quantenoptik  (LV 705854-1 26S)
DESCRIPTION:Lehrveranstaltung 705854 26S, Gruppe 1\nTitel: PS Theoretische Quantenoptik \nOrt: HS C (Technik)\n\nhttps://lfuonline.uibk.ac.at/public/lfuonline_lv.details?sem_id_in=26S&lvnr_id_in=705854\n
CLASS:PUBLIC
DTSTART:20260521T123000Z
DTEND:20260521T131500Z
DTSTAMP:20260421T184508Z
LOCATION:HS C (Technik)
END:VEVENT
BEGIN:VEVENT
UID:26S_705854_4971823@uibk.ac.at
ORGANIZER;CN="LFU:online Universität Innsbruck":MAILTO:Uni-Innsbruck-noreply@uibk.ac.at
SUMMARY:PS Theoretische Quantenoptik  (LV 705854-1 26S)
DESCRIPTION:Lehrveranstaltung 705854 26S, Gruppe 1\nTitel: PS Theoretische Quantenoptik \nOrt: HS C (Technik)\n\nhttps://lfuonline.uibk.ac.at/public/lfuonline_lv.details?sem_id_in=26S&lvnr_id_in=705854\n
CLASS:PUBLIC
DTSTART:20260528T123000Z
DTEND:20260528T131500Z
DTSTAMP:20260421T184508Z
LOCATION:HS C (Technik)
END:VEVENT
BEGIN:VEVENT
UID:26S_705854_4971824@uibk.ac.at
ORGANIZER;CN="LFU:online Universität Innsbruck":MAILTO:Uni-Innsbruck-noreply@uibk.ac.at
SUMMARY:PS Theoretische Quantenoptik  (LV 705854-1 26S)
DESCRIPTION:Lehrveranstaltung 705854 26S, Gruppe 1\nTitel: PS Theoretische Quantenoptik \nOrt: HS C (Technik)\n\nhttps://lfuonline.uibk.ac.at/public/lfuonline_lv.details?sem_id_in=26S&lvnr_id_in=705854\n
CLASS:PUBLIC
DTSTART:20260604T123000Z
DTEND:20260604T131500Z
DTSTAMP:20260421T184508Z
LOCATION:HS C (Technik)
END:VEVENT
BEGIN:VEVENT
UID:26S_705854_4971825@uibk.ac.at
ORGANIZER;CN="LFU:online Universität Innsbruck":MAILTO:Uni-Innsbruck-noreply@uibk.ac.at
SUMMARY:PS Theoretische Quantenoptik  (LV 705854-1 26S)
DESCRIPTION:Lehrveranstaltung 705854 26S, Gruppe 1\nTitel: PS Theoretische Quantenoptik \nOrt: HS C (Technik)\n\nhttps://lfuonline.uibk.ac.at/public/lfuonline_lv.details?sem_id_in=26S&lvnr_id_in=705854\n
CLASS:PUBLIC
DTSTART:20260611T123000Z
DTEND:20260611T131500Z
DTSTAMP:20260421T184508Z
LOCATION:HS C (Technik)
END:VEVENT
BEGIN:VEVENT
UID:26S_705854_4971826@uibk.ac.at
ORGANIZER;CN="LFU:online Universität Innsbruck":MAILTO:Uni-Innsbruck-noreply@uibk.ac.at
SUMMARY:PS Theoretische Quantenoptik  (LV 705854-1 26S)
DESCRIPTION:Lehrveranstaltung 705854 26S, Gruppe 1\nTitel: PS Theoretische Quantenoptik \nOrt: HS C (Technik)\n\nhttps://lfuonline.uibk.ac.at/public/lfuonline_lv.details?sem_id_in=26S&lvnr_id_in=705854\n
CLASS:PUBLIC
DTSTART:20260618T123000Z
DTEND:20260618T131500Z
DTSTAMP:20260421T184508Z
LOCATION:HS C (Technik)
END:VEVENT
BEGIN:VEVENT
UID:26S_705854_4971827@uibk.ac.at
ORGANIZER;CN="LFU:online Universität Innsbruck":MAILTO:Uni-Innsbruck-noreply@uibk.ac.at
SUMMARY:PS Theoretische Quantenoptik  (LV 705854-1 26S)
DESCRIPTION:Lehrveranstaltung 705854 26S, Gruppe 1\nTitel: PS Theoretische Quantenoptik \nOrt: HS C (Technik)\n\nhttps://lfuonline.uibk.ac.at/public/lfuonline_lv.details?sem_id_in=26S&lvnr_id_in=705854\n
CLASS:PUBLIC
DTSTART:20260625T123000Z
DTEND:20260625T131500Z
DTSTAMP:20260421T184508Z
LOCATION:HS C (Technik)
END:VEVENT
END:VCALENDAR