BEGIN:VCALENDAR
VERSION:2.0
PRODID:-//Universität Innsbruck//LFU:online//DE
METHOD:PUBLISH
BEGIN:VEVENT
UID:11W_710103_1620088@uibk.ac.at
ORGANIZER;CN="LFU:online Universität Innsbruck":MAILTO:Uni-Innsbruck-noreply@uibk.ac.at
SUMMARY:Physikalische Chemie III (LV 710103-1 11W)
DESCRIPTION:Lehrveranstaltung 710103 11W, Gruppe 1\nTitel: Physikalische Chemie III\nOrt: Kl. HS Chemie\n\nhttps://lfuonline.uibk.ac.at/public/lfuonline_lv.details?sem_id_in=11W&lvnr_id_in=710103\n
CLASS:PUBLIC
DTSTART:20111122T080000Z
DTEND:20111122T093000Z
DTSTAMP:20260420T212241Z
LOCATION:Kl. HS Chemie
END:VEVENT
BEGIN:VEVENT
UID:11W_710103_1620089@uibk.ac.at
ORGANIZER;CN="LFU:online Universität Innsbruck":MAILTO:Uni-Innsbruck-noreply@uibk.ac.at
SUMMARY:Physikalische Chemie III (LV 710103-1 11W)
DESCRIPTION:Lehrveranstaltung 710103 11W, Gruppe 1\nTitel: Physikalische Chemie III\nOrt: Kl. HS Chemie\n\nhttps://lfuonline.uibk.ac.at/public/lfuonline_lv.details?sem_id_in=11W&lvnr_id_in=710103\n
CLASS:PUBLIC
DTSTART:20111128T080000Z
DTEND:20111128T093000Z
DTSTAMP:20260420T212241Z
LOCATION:Kl. HS Chemie
END:VEVENT
BEGIN:VEVENT
UID:11W_710103_1620090@uibk.ac.at
ORGANIZER;CN="LFU:online Universität Innsbruck":MAILTO:Uni-Innsbruck-noreply@uibk.ac.at
SUMMARY:Physikalische Chemie III (LV 710103-1 11W)
DESCRIPTION:Lehrveranstaltung 710103 11W, Gruppe 1\nTitel: Physikalische Chemie III\nOrt: Kl. HS Chemie\n\nhttps://lfuonline.uibk.ac.at/public/lfuonline_lv.details?sem_id_in=11W&lvnr_id_in=710103\n
CLASS:PUBLIC
DTSTART:20111129T080000Z
DTEND:20111129T093000Z
DTSTAMP:20260420T212241Z
LOCATION:Kl. HS Chemie
END:VEVENT
BEGIN:VEVENT
UID:11W_710103_1620091@uibk.ac.at
ORGANIZER;CN="LFU:online Universität Innsbruck":MAILTO:Uni-Innsbruck-noreply@uibk.ac.at
SUMMARY:Physikalische Chemie III (LV 710103-1 11W)
DESCRIPTION:Lehrveranstaltung 710103 11W, Gruppe 1\nTitel: Physikalische Chemie III\nOrt: Kl. HS Chemie\n\nhttps://lfuonline.uibk.ac.at/public/lfuonline_lv.details?sem_id_in=11W&lvnr_id_in=710103\n
CLASS:PUBLIC
DTSTART:20111205T080000Z
DTEND:20111205T093000Z
DTSTAMP:20260420T212241Z
LOCATION:Kl. HS Chemie
END:VEVENT
BEGIN:VEVENT
UID:11W_710103_1620092@uibk.ac.at
ORGANIZER;CN="LFU:online Universität Innsbruck":MAILTO:Uni-Innsbruck-noreply@uibk.ac.at
SUMMARY:Physikalische Chemie III (LV 710103-1 11W)
DESCRIPTION:Lehrveranstaltung 710103 11W, Gruppe 1\nTitel: Physikalische Chemie III\nOrt: Kl. HS Chemie\n\nhttps://lfuonline.uibk.ac.at/public/lfuonline_lv.details?sem_id_in=11W&lvnr_id_in=710103\n
CLASS:PUBLIC
DTSTART:20111206T080000Z
DTEND:20111206T093000Z
DTSTAMP:20260420T212241Z
LOCATION:Kl. HS Chemie
END:VEVENT
BEGIN:VEVENT
UID:11W_710103_1620093@uibk.ac.at
ORGANIZER;CN="LFU:online Universität Innsbruck":MAILTO:Uni-Innsbruck-noreply@uibk.ac.at
SUMMARY:Physikalische Chemie III (LV 710103-1 11W)
DESCRIPTION:Lehrveranstaltung 710103 11W, Gruppe 1\nTitel: Physikalische Chemie III\nOrt: Kl. HS Chemie\n\nhttps://lfuonline.uibk.ac.at/public/lfuonline_lv.details?sem_id_in=11W&lvnr_id_in=710103\n
CLASS:PUBLIC
DTSTART:20111212T080000Z
DTEND:20111212T093000Z
DTSTAMP:20260420T212241Z
LOCATION:Kl. HS Chemie
END:VEVENT
BEGIN:VEVENT
UID:11W_710103_1620094@uibk.ac.at
ORGANIZER;CN="LFU:online Universität Innsbruck":MAILTO:Uni-Innsbruck-noreply@uibk.ac.at
SUMMARY:Physikalische Chemie III (LV 710103-1 11W)
DESCRIPTION:Lehrveranstaltung 710103 11W, Gruppe 1\nTitel: Physikalische Chemie III\nOrt: Kl. HS Chemie\n\nhttps://lfuonline.uibk.ac.at/public/lfuonline_lv.details?sem_id_in=11W&lvnr_id_in=710103\n
CLASS:PUBLIC
DTSTART:20111213T080000Z
DTEND:20111213T093000Z
DTSTAMP:20260420T212241Z
LOCATION:Kl. HS Chemie
END:VEVENT
BEGIN:VEVENT
UID:11W_710103_1620095@uibk.ac.at
ORGANIZER;CN="LFU:online Universität Innsbruck":MAILTO:Uni-Innsbruck-noreply@uibk.ac.at
SUMMARY:Physikalische Chemie III (LV 710103-1 11W)
DESCRIPTION:Lehrveranstaltung 710103 11W, Gruppe 1\nTitel: Physikalische Chemie III\nOrt: Kl. HS Chemie\n\nhttps://lfuonline.uibk.ac.at/public/lfuonline_lv.details?sem_id_in=11W&lvnr_id_in=710103\n
CLASS:PUBLIC
DTSTART:20120109T080000Z
DTEND:20120109T093000Z
DTSTAMP:20260420T212241Z
LOCATION:Kl. HS Chemie
END:VEVENT
BEGIN:VEVENT
UID:11W_710103_1620096@uibk.ac.at
ORGANIZER;CN="LFU:online Universität Innsbruck":MAILTO:Uni-Innsbruck-noreply@uibk.ac.at
SUMMARY:Physikalische Chemie III (LV 710103-1 11W)
DESCRIPTION:Lehrveranstaltung 710103 11W, Gruppe 1\nTitel: Physikalische Chemie III\nOrt: Kl. HS Chemie\n\nhttps://lfuonline.uibk.ac.at/public/lfuonline_lv.details?sem_id_in=11W&lvnr_id_in=710103\n
CLASS:PUBLIC
DTSTART:20120110T080000Z
DTEND:20120110T093000Z
DTSTAMP:20260420T212241Z
LOCATION:Kl. HS Chemie
END:VEVENT
BEGIN:VEVENT
UID:11W_710103_1620097@uibk.ac.at
ORGANIZER;CN="LFU:online Universität Innsbruck":MAILTO:Uni-Innsbruck-noreply@uibk.ac.at
SUMMARY:Physikalische Chemie III (LV 710103-1 11W)
DESCRIPTION:Lehrveranstaltung 710103 11W, Gruppe 1\nTitel: Physikalische Chemie III\nOrt: Kl. HS Chemie\n\nhttps://lfuonline.uibk.ac.at/public/lfuonline_lv.details?sem_id_in=11W&lvnr_id_in=710103\n
CLASS:PUBLIC
DTSTART:20120116T080000Z
DTEND:20120116T093000Z
DTSTAMP:20260420T212241Z
LOCATION:Kl. HS Chemie
END:VEVENT
BEGIN:VEVENT
UID:11W_710103_1620098@uibk.ac.at
ORGANIZER;CN="LFU:online Universität Innsbruck":MAILTO:Uni-Innsbruck-noreply@uibk.ac.at
SUMMARY:Physikalische Chemie III (LV 710103-1 11W)
DESCRIPTION:Lehrveranstaltung 710103 11W, Gruppe 1\nTitel: Physikalische Chemie III\nOrt: Kl. HS Chemie\n\nhttps://lfuonline.uibk.ac.at/public/lfuonline_lv.details?sem_id_in=11W&lvnr_id_in=710103\n
CLASS:PUBLIC
DTSTART:20120117T080000Z
DTEND:20120117T093000Z
DTSTAMP:20260420T212241Z
LOCATION:Kl. HS Chemie
END:VEVENT
BEGIN:VEVENT
UID:11W_710103_1620099@uibk.ac.at
ORGANIZER;CN="LFU:online Universität Innsbruck":MAILTO:Uni-Innsbruck-noreply@uibk.ac.at
SUMMARY:Physikalische Chemie III (LV 710103-1 11W)
DESCRIPTION:Lehrveranstaltung 710103 11W, Gruppe 1\nTitel: Physikalische Chemie III\nOrt: Kl. HS Chemie\n\nhttps://lfuonline.uibk.ac.at/public/lfuonline_lv.details?sem_id_in=11W&lvnr_id_in=710103\n
CLASS:PUBLIC
DTSTART:20120123T080000Z
DTEND:20120123T093000Z
DTSTAMP:20260420T212241Z
LOCATION:Kl. HS Chemie
END:VEVENT
BEGIN:VEVENT
UID:11W_710103_1620100@uibk.ac.at
ORGANIZER;CN="LFU:online Universität Innsbruck":MAILTO:Uni-Innsbruck-noreply@uibk.ac.at
SUMMARY:Physikalische Chemie III (LV 710103-1 11W)
DESCRIPTION:Lehrveranstaltung 710103 11W, Gruppe 1\nTitel: Physikalische Chemie III\nOrt: Kl. HS Chemie\n\nhttps://lfuonline.uibk.ac.at/public/lfuonline_lv.details?sem_id_in=11W&lvnr_id_in=710103\n
CLASS:PUBLIC
DTSTART:20120124T080000Z
DTEND:20120124T093000Z
DTSTAMP:20260420T212241Z
LOCATION:Kl. HS Chemie
END:VEVENT
BEGIN:VEVENT
UID:11W_710103_1620101@uibk.ac.at
ORGANIZER;CN="LFU:online Universität Innsbruck":MAILTO:Uni-Innsbruck-noreply@uibk.ac.at
SUMMARY:Physikalische Chemie III (LV 710103-1 11W)
DESCRIPTION:Lehrveranstaltung 710103 11W, Gruppe 1\nTitel: Physikalische Chemie III\nOrt: Kl. HS Chemie\n\nhttps://lfuonline.uibk.ac.at/public/lfuonline_lv.details?sem_id_in=11W&lvnr_id_in=710103\n
CLASS:PUBLIC
DTSTART:20120130T080000Z
DTEND:20120130T093000Z
DTSTAMP:20260420T212241Z
LOCATION:Kl. HS Chemie
END:VEVENT
BEGIN:VEVENT
UID:11W_710103_1620102@uibk.ac.at
ORGANIZER;CN="LFU:online Universität Innsbruck":MAILTO:Uni-Innsbruck-noreply@uibk.ac.at
SUMMARY:Physikalische Chemie III (LV 710103-1 11W)
DESCRIPTION:Lehrveranstaltung 710103 11W, Gruppe 1\nTitel: Physikalische Chemie III\nOrt: Kl. HS Chemie\n\nhttps://lfuonline.uibk.ac.at/public/lfuonline_lv.details?sem_id_in=11W&lvnr_id_in=710103\n
CLASS:PUBLIC
DTSTART:20120131T080000Z
DTEND:20120131T093000Z
DTSTAMP:20260420T212241Z
LOCATION:Kl. HS Chemie
END:VEVENT
END:VCALENDAR