BEGIN:VCALENDAR
VERSION:2.0
PRODID:-//Universität Innsbruck//LFU:online//DE
METHOD:PUBLISH
BEGIN:VEVENT
UID:26S_712007_5045165@uibk.ac.at
ORGANIZER;CN="LFU:online Universität Innsbruck":MAILTO:Uni-Innsbruck-noreply@uibk.ac.at
SUMMARY:PR Biochemisches Grundpraktikum (LV 712007-1 26S)
DESCRIPTION:Lehrveranstaltung 712007 26S, Gruppe 1\nTitel: PR Biochemisches Grundpraktikum\nOrt: L.01.220\n\nhttps://lfuonline.uibk.ac.at/public/lfuonline_lv.details?sem_id_in=26S&lvnr_id_in=712007\n
CLASS:PUBLIC
DTSTART:20260302T073000Z
DTEND:20260302T080000Z
DTSTAMP:20260422T054318Z
LOCATION:L.01.220
COMMENT:Vorbesprechung
END:VEVENT
BEGIN:VEVENT
UID:26S_712007_4991340@uibk.ac.at
ORGANIZER;CN="LFU:online Universität Innsbruck":MAILTO:Uni-Innsbruck-noreply@uibk.ac.at
SUMMARY:PR Biochemisches Grundpraktikum (LV 712007-1 26S)
DESCRIPTION:Lehrveranstaltung 712007 26S, Gruppe 1\nTitel: PR Biochemisches Grundpraktikum\nOrt: L.03.070\n\nhttps://lfuonline.uibk.ac.at/public/lfuonline_lv.details?sem_id_in=26S&lvnr_id_in=712007\n
CLASS:PUBLIC
DTSTART:20260316T120000Z
DTEND:20260316T170000Z
DTSTAMP:20260422T054318Z
LOCATION:L.03.070
END:VEVENT
BEGIN:VEVENT
UID:26S_712007_4991341@uibk.ac.at
ORGANIZER;CN="LFU:online Universität Innsbruck":MAILTO:Uni-Innsbruck-noreply@uibk.ac.at
SUMMARY:PR Biochemisches Grundpraktikum (LV 712007-1 26S)
DESCRIPTION:Lehrveranstaltung 712007 26S, Gruppe 1\nTitel: PR Biochemisches Grundpraktikum\nOrt: L.03.070\n\nhttps://lfuonline.uibk.ac.at/public/lfuonline_lv.details?sem_id_in=26S&lvnr_id_in=712007\n
CLASS:PUBLIC
DTSTART:20260317T120000Z
DTEND:20260317T170000Z
DTSTAMP:20260422T054318Z
LOCATION:L.03.070
END:VEVENT
BEGIN:VEVENT
UID:26S_712007_4991342@uibk.ac.at
ORGANIZER;CN="LFU:online Universität Innsbruck":MAILTO:Uni-Innsbruck-noreply@uibk.ac.at
SUMMARY:PR Biochemisches Grundpraktikum (LV 712007-1 26S)
DESCRIPTION:Lehrveranstaltung 712007 26S, Gruppe 1\nTitel: PR Biochemisches Grundpraktikum\nOrt: L.03.070\n\nhttps://lfuonline.uibk.ac.at/public/lfuonline_lv.details?sem_id_in=26S&lvnr_id_in=712007\n
CLASS:PUBLIC
DTSTART:20260318T120000Z
DTEND:20260318T170000Z
DTSTAMP:20260422T054318Z
LOCATION:L.03.070
END:VEVENT
BEGIN:VEVENT
UID:26S_712007_4991343@uibk.ac.at
ORGANIZER;CN="LFU:online Universität Innsbruck":MAILTO:Uni-Innsbruck-noreply@uibk.ac.at
SUMMARY:PR Biochemisches Grundpraktikum (LV 712007-1 26S)
DESCRIPTION:Lehrveranstaltung 712007 26S, Gruppe 1\nTitel: PR Biochemisches Grundpraktikum\nOrt: L.03.070\n\nhttps://lfuonline.uibk.ac.at/public/lfuonline_lv.details?sem_id_in=26S&lvnr_id_in=712007\n
CLASS:PUBLIC
DTSTART:20260319T120000Z
DTEND:20260319T170000Z
DTSTAMP:20260422T054318Z
LOCATION:L.03.070
END:VEVENT
BEGIN:VEVENT
UID:26S_712007_4991344@uibk.ac.at
ORGANIZER;CN="LFU:online Universität Innsbruck":MAILTO:Uni-Innsbruck-noreply@uibk.ac.at
SUMMARY:PR Biochemisches Grundpraktikum (LV 712007-1 26S)
DESCRIPTION:Lehrveranstaltung 712007 26S, Gruppe 1\nTitel: PR Biochemisches Grundpraktikum\nOrt: L.03.070\n\nhttps://lfuonline.uibk.ac.at/public/lfuonline_lv.details?sem_id_in=26S&lvnr_id_in=712007\n
CLASS:PUBLIC
DTSTART:20260320T120000Z
DTEND:20260320T170000Z
DTSTAMP:20260422T054318Z
LOCATION:L.03.070
END:VEVENT
BEGIN:VEVENT
UID:26S_712007_4991345@uibk.ac.at
ORGANIZER;CN="LFU:online Universität Innsbruck":MAILTO:Uni-Innsbruck-noreply@uibk.ac.at
SUMMARY:PR Biochemisches Grundpraktikum (LV 712007-1 26S)
DESCRIPTION:Lehrveranstaltung 712007 26S, Gruppe 1\nTitel: PR Biochemisches Grundpraktikum\nOrt: L.03.070\n\nhttps://lfuonline.uibk.ac.at/public/lfuonline_lv.details?sem_id_in=26S&lvnr_id_in=712007\n
CLASS:PUBLIC
DTSTART:20260323T120000Z
DTEND:20260323T170000Z
DTSTAMP:20260422T054318Z
LOCATION:L.03.070
END:VEVENT
BEGIN:VEVENT
UID:26S_712007_4991346@uibk.ac.at
ORGANIZER;CN="LFU:online Universität Innsbruck":MAILTO:Uni-Innsbruck-noreply@uibk.ac.at
SUMMARY:PR Biochemisches Grundpraktikum (LV 712007-1 26S)
DESCRIPTION:Lehrveranstaltung 712007 26S, Gruppe 1\nTitel: PR Biochemisches Grundpraktikum\nOrt: L.03.070\n\nhttps://lfuonline.uibk.ac.at/public/lfuonline_lv.details?sem_id_in=26S&lvnr_id_in=712007\n
CLASS:PUBLIC
DTSTART:20260324T120000Z
DTEND:20260324T170000Z
DTSTAMP:20260422T054318Z
LOCATION:L.03.070
END:VEVENT
BEGIN:VEVENT
UID:26S_712007_4991347@uibk.ac.at
ORGANIZER;CN="LFU:online Universität Innsbruck":MAILTO:Uni-Innsbruck-noreply@uibk.ac.at
SUMMARY:PR Biochemisches Grundpraktikum (LV 712007-1 26S)
DESCRIPTION:Lehrveranstaltung 712007 26S, Gruppe 1\nTitel: PR Biochemisches Grundpraktikum\nOrt: L.03.070\n\nhttps://lfuonline.uibk.ac.at/public/lfuonline_lv.details?sem_id_in=26S&lvnr_id_in=712007\n
CLASS:PUBLIC
DTSTART:20260325T120000Z
DTEND:20260325T170000Z
DTSTAMP:20260422T054318Z
LOCATION:L.03.070
END:VEVENT
BEGIN:VEVENT
UID:26S_712007_4991348@uibk.ac.at
ORGANIZER;CN="LFU:online Universität Innsbruck":MAILTO:Uni-Innsbruck-noreply@uibk.ac.at
SUMMARY:PR Biochemisches Grundpraktikum (LV 712007-1 26S)
DESCRIPTION:Lehrveranstaltung 712007 26S, Gruppe 1\nTitel: PR Biochemisches Grundpraktikum\nOrt: L.03.070\n\nhttps://lfuonline.uibk.ac.at/public/lfuonline_lv.details?sem_id_in=26S&lvnr_id_in=712007\n
CLASS:PUBLIC
DTSTART:20260326T120000Z
DTEND:20260326T170000Z
DTSTAMP:20260422T054318Z
LOCATION:L.03.070
END:VEVENT
END:VCALENDAR