BEGIN:VCALENDAR
VERSION:2.0
PRODID:-//Universität Innsbruck//LFU:online//DE
METHOD:PUBLISH
BEGIN:VEVENT
UID:26S_712010_4991418@uibk.ac.at
ORGANIZER;CN="LFU:online Universität Innsbruck":MAILTO:Uni-Innsbruck-noreply@uibk.ac.at
SUMMARY:PR Biochemisches Praktikum für Lehramtsstudierende  (LV 712010-1 26S)
DESCRIPTION:Lehrveranstaltung 712010 26S, Gruppe 1\nTitel: PR Biochemisches Praktikum für Lehramtsstudierende \nOrt: L.03.070\n\nhttps://lfuonline.uibk.ac.at/public/lfuonline_lv.details?sem_id_in=26S&lvnr_id_in=712010\n
CLASS:PUBLIC
DTSTART:20260518T110000Z
DTEND:20260518T160000Z
DTSTAMP:20260422T054413Z
LOCATION:L.03.070
END:VEVENT
BEGIN:VEVENT
UID:26S_712010_4991419@uibk.ac.at
ORGANIZER;CN="LFU:online Universität Innsbruck":MAILTO:Uni-Innsbruck-noreply@uibk.ac.at
SUMMARY:PR Biochemisches Praktikum für Lehramtsstudierende  (LV 712010-1 26S)
DESCRIPTION:Lehrveranstaltung 712010 26S, Gruppe 1\nTitel: PR Biochemisches Praktikum für Lehramtsstudierende \nOrt: L.03.070\n\nhttps://lfuonline.uibk.ac.at/public/lfuonline_lv.details?sem_id_in=26S&lvnr_id_in=712010\n
CLASS:PUBLIC
DTSTART:20260519T110000Z
DTEND:20260519T160000Z
DTSTAMP:20260422T054413Z
LOCATION:L.03.070
END:VEVENT
BEGIN:VEVENT
UID:26S_712010_4991420@uibk.ac.at
ORGANIZER;CN="LFU:online Universität Innsbruck":MAILTO:Uni-Innsbruck-noreply@uibk.ac.at
SUMMARY:PR Biochemisches Praktikum für Lehramtsstudierende  (LV 712010-1 26S)
DESCRIPTION:Lehrveranstaltung 712010 26S, Gruppe 1\nTitel: PR Biochemisches Praktikum für Lehramtsstudierende \nOrt: L.03.070\n\nhttps://lfuonline.uibk.ac.at/public/lfuonline_lv.details?sem_id_in=26S&lvnr_id_in=712010\n
CLASS:PUBLIC
DTSTART:20260520T110000Z
DTEND:20260520T160000Z
DTSTAMP:20260422T054413Z
LOCATION:L.03.070
END:VEVENT
BEGIN:VEVENT
UID:26S_712010_4991421@uibk.ac.at
ORGANIZER;CN="LFU:online Universität Innsbruck":MAILTO:Uni-Innsbruck-noreply@uibk.ac.at
SUMMARY:PR Biochemisches Praktikum für Lehramtsstudierende  (LV 712010-1 26S)
DESCRIPTION:Lehrveranstaltung 712010 26S, Gruppe 1\nTitel: PR Biochemisches Praktikum für Lehramtsstudierende \nOrt: L.03.070\n\nhttps://lfuonline.uibk.ac.at/public/lfuonline_lv.details?sem_id_in=26S&lvnr_id_in=712010\n
CLASS:PUBLIC
DTSTART:20260521T110000Z
DTEND:20260521T160000Z
DTSTAMP:20260422T054413Z
LOCATION:L.03.070
END:VEVENT
BEGIN:VEVENT
UID:26S_712010_4991422@uibk.ac.at
ORGANIZER;CN="LFU:online Universität Innsbruck":MAILTO:Uni-Innsbruck-noreply@uibk.ac.at
SUMMARY:PR Biochemisches Praktikum für Lehramtsstudierende  (LV 712010-1 26S)
DESCRIPTION:Lehrveranstaltung 712010 26S, Gruppe 1\nTitel: PR Biochemisches Praktikum für Lehramtsstudierende \nOrt: L.03.070\n\nhttps://lfuonline.uibk.ac.at/public/lfuonline_lv.details?sem_id_in=26S&lvnr_id_in=712010\n
CLASS:PUBLIC
DTSTART:20260522T110000Z
DTEND:20260522T160000Z
DTSTAMP:20260422T054413Z
LOCATION:L.03.070
END:VEVENT
END:VCALENDAR