BEGIN:VCALENDAR
VERSION:2.0
PRODID:-//Universität Innsbruck//LFU:online//DE
METHOD:PUBLISH
BEGIN:VEVENT
UID:26S_712013_5045169@uibk.ac.at
ORGANIZER;CN="LFU:online Universität Innsbruck":MAILTO:Uni-Innsbruck-noreply@uibk.ac.at
SUMMARY:PR Biochemisches Praktikum für Fortgeschrittene (LV 712013-1 26S)
DESCRIPTION:Lehrveranstaltung 712013 26S, Gruppe 1\nTitel: PR Biochemisches Praktikum für Fortgeschrittene\nOrt: L.01.220\n\nhttps://lfuonline.uibk.ac.at/public/lfuonline_lv.details?sem_id_in=26S&lvnr_id_in=712013\n
CLASS:PUBLIC
DTSTART:20260302T080000Z
DTEND:20260302T083000Z
DTSTAMP:20260422T054413Z
LOCATION:L.01.220
COMMENT:Vorbesprechung
END:VEVENT
BEGIN:VEVENT
UID:26S_712013_4991441@uibk.ac.at
ORGANIZER;CN="LFU:online Universität Innsbruck":MAILTO:Uni-Innsbruck-noreply@uibk.ac.at
SUMMARY:PR Biochemisches Praktikum für Fortgeschrittene (LV 712013-1 26S)
DESCRIPTION:Lehrveranstaltung 712013 26S, Gruppe 1\nTitel: PR Biochemisches Praktikum für Fortgeschrittene\nOrt: L.03.070\n\nhttps://lfuonline.uibk.ac.at/public/lfuonline_lv.details?sem_id_in=26S&lvnr_id_in=712013\n
CLASS:PUBLIC
DTSTART:20260413T070000Z
DTEND:20260413T150000Z
DTSTAMP:20260422T054413Z
LOCATION:L.03.070
END:VEVENT
BEGIN:VEVENT
UID:26S_712013_4991442@uibk.ac.at
ORGANIZER;CN="LFU:online Universität Innsbruck":MAILTO:Uni-Innsbruck-noreply@uibk.ac.at
SUMMARY:PR Biochemisches Praktikum für Fortgeschrittene (LV 712013-1 26S)
DESCRIPTION:Lehrveranstaltung 712013 26S, Gruppe 1\nTitel: PR Biochemisches Praktikum für Fortgeschrittene\nOrt: L.03.070\n\nhttps://lfuonline.uibk.ac.at/public/lfuonline_lv.details?sem_id_in=26S&lvnr_id_in=712013\n
CLASS:PUBLIC
DTSTART:20260414T070000Z
DTEND:20260414T150000Z
DTSTAMP:20260422T054413Z
LOCATION:L.03.070
END:VEVENT
BEGIN:VEVENT
UID:26S_712013_4991443@uibk.ac.at
ORGANIZER;CN="LFU:online Universität Innsbruck":MAILTO:Uni-Innsbruck-noreply@uibk.ac.at
SUMMARY:PR Biochemisches Praktikum für Fortgeschrittene (LV 712013-1 26S)
DESCRIPTION:Lehrveranstaltung 712013 26S, Gruppe 1\nTitel: PR Biochemisches Praktikum für Fortgeschrittene\nOrt: L.03.070\n\nhttps://lfuonline.uibk.ac.at/public/lfuonline_lv.details?sem_id_in=26S&lvnr_id_in=712013\n
CLASS:PUBLIC
DTSTART:20260415T070000Z
DTEND:20260415T150000Z
DTSTAMP:20260422T054413Z
LOCATION:L.03.070
END:VEVENT
BEGIN:VEVENT
UID:26S_712013_4991444@uibk.ac.at
ORGANIZER;CN="LFU:online Universität Innsbruck":MAILTO:Uni-Innsbruck-noreply@uibk.ac.at
SUMMARY:PR Biochemisches Praktikum für Fortgeschrittene (LV 712013-1 26S)
DESCRIPTION:Lehrveranstaltung 712013 26S, Gruppe 1\nTitel: PR Biochemisches Praktikum für Fortgeschrittene\nOrt: L.03.070\n\nhttps://lfuonline.uibk.ac.at/public/lfuonline_lv.details?sem_id_in=26S&lvnr_id_in=712013\n
CLASS:PUBLIC
DTSTART:20260416T070000Z
DTEND:20260416T150000Z
DTSTAMP:20260422T054413Z
LOCATION:L.03.070
END:VEVENT
BEGIN:VEVENT
UID:26S_712013_4991445@uibk.ac.at
ORGANIZER;CN="LFU:online Universität Innsbruck":MAILTO:Uni-Innsbruck-noreply@uibk.ac.at
SUMMARY:PR Biochemisches Praktikum für Fortgeschrittene (LV 712013-1 26S)
DESCRIPTION:Lehrveranstaltung 712013 26S, Gruppe 1\nTitel: PR Biochemisches Praktikum für Fortgeschrittene\nOrt: L.03.070\n\nhttps://lfuonline.uibk.ac.at/public/lfuonline_lv.details?sem_id_in=26S&lvnr_id_in=712013\n
CLASS:PUBLIC
DTSTART:20260417T070000Z
DTEND:20260417T150000Z
DTSTAMP:20260422T054413Z
LOCATION:L.03.070
END:VEVENT
BEGIN:VEVENT
UID:26S_712013_4991446@uibk.ac.at
ORGANIZER;CN="LFU:online Universität Innsbruck":MAILTO:Uni-Innsbruck-noreply@uibk.ac.at
SUMMARY:PR Biochemisches Praktikum für Fortgeschrittene (LV 712013-1 26S)
DESCRIPTION:Lehrveranstaltung 712013 26S, Gruppe 1\nTitel: PR Biochemisches Praktikum für Fortgeschrittene\nOrt: L.03.070\n\nhttps://lfuonline.uibk.ac.at/public/lfuonline_lv.details?sem_id_in=26S&lvnr_id_in=712013\n
CLASS:PUBLIC
DTSTART:20260420T070000Z
DTEND:20260420T150000Z
DTSTAMP:20260422T054413Z
LOCATION:L.03.070
END:VEVENT
BEGIN:VEVENT
UID:26S_712013_4991447@uibk.ac.at
ORGANIZER;CN="LFU:online Universität Innsbruck":MAILTO:Uni-Innsbruck-noreply@uibk.ac.at
SUMMARY:PR Biochemisches Praktikum für Fortgeschrittene (LV 712013-1 26S)
DESCRIPTION:Lehrveranstaltung 712013 26S, Gruppe 1\nTitel: PR Biochemisches Praktikum für Fortgeschrittene\nOrt: L.03.070\n\nhttps://lfuonline.uibk.ac.at/public/lfuonline_lv.details?sem_id_in=26S&lvnr_id_in=712013\n
CLASS:PUBLIC
DTSTART:20260421T070000Z
DTEND:20260421T150000Z
DTSTAMP:20260422T054413Z
LOCATION:L.03.070
END:VEVENT
BEGIN:VEVENT
UID:26S_712013_4991448@uibk.ac.at
ORGANIZER;CN="LFU:online Universität Innsbruck":MAILTO:Uni-Innsbruck-noreply@uibk.ac.at
SUMMARY:PR Biochemisches Praktikum für Fortgeschrittene (LV 712013-1 26S)
DESCRIPTION:Lehrveranstaltung 712013 26S, Gruppe 1\nTitel: PR Biochemisches Praktikum für Fortgeschrittene\nOrt: L.03.070\n\nhttps://lfuonline.uibk.ac.at/public/lfuonline_lv.details?sem_id_in=26S&lvnr_id_in=712013\n
CLASS:PUBLIC
DTSTART:20260422T070000Z
DTEND:20260422T150000Z
DTSTAMP:20260422T054413Z
LOCATION:L.03.070
END:VEVENT
BEGIN:VEVENT
UID:26S_712013_4991449@uibk.ac.at
ORGANIZER;CN="LFU:online Universität Innsbruck":MAILTO:Uni-Innsbruck-noreply@uibk.ac.at
SUMMARY:PR Biochemisches Praktikum für Fortgeschrittene (LV 712013-1 26S)
DESCRIPTION:Lehrveranstaltung 712013 26S, Gruppe 1\nTitel: PR Biochemisches Praktikum für Fortgeschrittene\nOrt: L.03.070\n\nhttps://lfuonline.uibk.ac.at/public/lfuonline_lv.details?sem_id_in=26S&lvnr_id_in=712013\n
CLASS:PUBLIC
DTSTART:20260423T070000Z
DTEND:20260423T150000Z
DTSTAMP:20260422T054413Z
LOCATION:L.03.070
END:VEVENT
END:VCALENDAR