BEGIN:VCALENDAR
VERSION:2.0
PRODID:-//Universität Innsbruck//LFU:online//DE
METHOD:PUBLISH
BEGIN:VEVENT
UID:17S_715178_2895235@uibk.ac.at
ORGANIZER;CN="LFU:online Universität Innsbruck":MAILTO:Uni-Innsbruck-noreply@uibk.ac.at
SUMMARY:Geologische Karten und Profile (LV 715178-1 17S)
DESCRIPTION:Lehrveranstaltung 715178 17S, Gruppe 1\nTitel: Geologische Karten und Profile\nOrt: UR 60306\n\nhttps://lfuonline.uibk.ac.at/public/lfuonline_lv.details?sem_id_in=17S&lvnr_id_in=715178\n
CLASS:PUBLIC
DTSTART:20170308T091500Z
DTEND:20170308T104500Z
DTSTAMP:20260420T161824Z
LOCATION:UR 60306
END:VEVENT
BEGIN:VEVENT
UID:17S_715178_2895236@uibk.ac.at
ORGANIZER;CN="LFU:online Universität Innsbruck":MAILTO:Uni-Innsbruck-noreply@uibk.ac.at
SUMMARY:Geologische Karten und Profile (LV 715178-1 17S)
DESCRIPTION:Lehrveranstaltung 715178 17S, Gruppe 1\nTitel: Geologische Karten und Profile\nOrt: UR 60306\n\nhttps://lfuonline.uibk.ac.at/public/lfuonline_lv.details?sem_id_in=17S&lvnr_id_in=715178\n
CLASS:PUBLIC
DTSTART:20170315T091500Z
DTEND:20170315T104500Z
DTSTAMP:20260420T161824Z
LOCATION:UR 60306
END:VEVENT
BEGIN:VEVENT
UID:17S_715178_2895237@uibk.ac.at
ORGANIZER;CN="LFU:online Universität Innsbruck":MAILTO:Uni-Innsbruck-noreply@uibk.ac.at
SUMMARY:Geologische Karten und Profile (LV 715178-1 17S)
DESCRIPTION:Lehrveranstaltung 715178 17S, Gruppe 1\nTitel: Geologische Karten und Profile\nOrt: UR 60306\n\nhttps://lfuonline.uibk.ac.at/public/lfuonline_lv.details?sem_id_in=17S&lvnr_id_in=715178\n
CLASS:PUBLIC
DTSTART:20170322T091500Z
DTEND:20170322T104500Z
DTSTAMP:20260420T161824Z
LOCATION:UR 60306
END:VEVENT
BEGIN:VEVENT
UID:17S_715178_2895238@uibk.ac.at
ORGANIZER;CN="LFU:online Universität Innsbruck":MAILTO:Uni-Innsbruck-noreply@uibk.ac.at
SUMMARY:Geologische Karten und Profile (LV 715178-1 17S)
DESCRIPTION:Lehrveranstaltung 715178 17S, Gruppe 1\nTitel: Geologische Karten und Profile\nOrt: UR 60306\n\nhttps://lfuonline.uibk.ac.at/public/lfuonline_lv.details?sem_id_in=17S&lvnr_id_in=715178\n
CLASS:PUBLIC
DTSTART:20170329T081500Z
DTEND:20170329T094500Z
DTSTAMP:20260420T161824Z
LOCATION:UR 60306
END:VEVENT
BEGIN:VEVENT
UID:17S_715178_2895239@uibk.ac.at
ORGANIZER;CN="LFU:online Universität Innsbruck":MAILTO:Uni-Innsbruck-noreply@uibk.ac.at
SUMMARY:Geologische Karten und Profile (LV 715178-1 17S)
DESCRIPTION:Lehrveranstaltung 715178 17S, Gruppe 1\nTitel: Geologische Karten und Profile\nOrt: UR 60306\n\nhttps://lfuonline.uibk.ac.at/public/lfuonline_lv.details?sem_id_in=17S&lvnr_id_in=715178\n
CLASS:PUBLIC
DTSTART:20170405T081500Z
DTEND:20170405T094500Z
DTSTAMP:20260420T161824Z
LOCATION:UR 60306
END:VEVENT
BEGIN:VEVENT
UID:17S_715178_2895240@uibk.ac.at
ORGANIZER;CN="LFU:online Universität Innsbruck":MAILTO:Uni-Innsbruck-noreply@uibk.ac.at
SUMMARY:Geologische Karten und Profile (LV 715178-1 17S)
DESCRIPTION:Lehrveranstaltung 715178 17S, Gruppe 1\nTitel: Geologische Karten und Profile\nOrt: UR 60306\n\nhttps://lfuonline.uibk.ac.at/public/lfuonline_lv.details?sem_id_in=17S&lvnr_id_in=715178\n
CLASS:PUBLIC
DTSTART:20170426T081500Z
DTEND:20170426T094500Z
DTSTAMP:20260420T161824Z
LOCATION:UR 60306
END:VEVENT
BEGIN:VEVENT
UID:17S_715178_2895241@uibk.ac.at
ORGANIZER;CN="LFU:online Universität Innsbruck":MAILTO:Uni-Innsbruck-noreply@uibk.ac.at
SUMMARY:Geologische Karten und Profile (LV 715178-1 17S)
DESCRIPTION:Lehrveranstaltung 715178 17S, Gruppe 1\nTitel: Geologische Karten und Profile\nOrt: UR 60306\n\nhttps://lfuonline.uibk.ac.at/public/lfuonline_lv.details?sem_id_in=17S&lvnr_id_in=715178\n
CLASS:PUBLIC
DTSTART:20170503T081500Z
DTEND:20170503T094500Z
DTSTAMP:20260420T161824Z
LOCATION:UR 60306
END:VEVENT
BEGIN:VEVENT
UID:17S_715178_2895242@uibk.ac.at
ORGANIZER;CN="LFU:online Universität Innsbruck":MAILTO:Uni-Innsbruck-noreply@uibk.ac.at
SUMMARY:Geologische Karten und Profile (LV 715178-1 17S)
DESCRIPTION:Lehrveranstaltung 715178 17S, Gruppe 1\nTitel: Geologische Karten und Profile\nOrt: UR 60306\n\nhttps://lfuonline.uibk.ac.at/public/lfuonline_lv.details?sem_id_in=17S&lvnr_id_in=715178\n
CLASS:PUBLIC
DTSTART:20170510T081500Z
DTEND:20170510T094500Z
DTSTAMP:20260420T161824Z
LOCATION:UR 60306
END:VEVENT
BEGIN:VEVENT
UID:17S_715178_2895243@uibk.ac.at
ORGANIZER;CN="LFU:online Universität Innsbruck":MAILTO:Uni-Innsbruck-noreply@uibk.ac.at
SUMMARY:Geologische Karten und Profile (LV 715178-1 17S)
DESCRIPTION:Lehrveranstaltung 715178 17S, Gruppe 1\nTitel: Geologische Karten und Profile\nOrt: UR 60306\n\nhttps://lfuonline.uibk.ac.at/public/lfuonline_lv.details?sem_id_in=17S&lvnr_id_in=715178\n
CLASS:PUBLIC
DTSTART:20170517T081500Z
DTEND:20170517T094500Z
DTSTAMP:20260420T161824Z
LOCATION:UR 60306
END:VEVENT
BEGIN:VEVENT
UID:17S_715178_2895244@uibk.ac.at
ORGANIZER;CN="LFU:online Universität Innsbruck":MAILTO:Uni-Innsbruck-noreply@uibk.ac.at
SUMMARY:Geologische Karten und Profile (LV 715178-1 17S)
DESCRIPTION:Lehrveranstaltung 715178 17S, Gruppe 1\nTitel: Geologische Karten und Profile\nOrt: UR 60306\n\nhttps://lfuonline.uibk.ac.at/public/lfuonline_lv.details?sem_id_in=17S&lvnr_id_in=715178\n
CLASS:PUBLIC
DTSTART:20170524T081500Z
DTEND:20170524T094500Z
DTSTAMP:20260420T161824Z
LOCATION:UR 60306
END:VEVENT
BEGIN:VEVENT
UID:17S_715178_2895245@uibk.ac.at
ORGANIZER;CN="LFU:online Universität Innsbruck":MAILTO:Uni-Innsbruck-noreply@uibk.ac.at
SUMMARY:Geologische Karten und Profile (LV 715178-1 17S)
DESCRIPTION:Lehrveranstaltung 715178 17S, Gruppe 1\nTitel: Geologische Karten und Profile\nOrt: UR 60306\n\nhttps://lfuonline.uibk.ac.at/public/lfuonline_lv.details?sem_id_in=17S&lvnr_id_in=715178\n
CLASS:PUBLIC
DTSTART:20170531T081500Z
DTEND:20170531T094500Z
DTSTAMP:20260420T161824Z
LOCATION:UR 60306
END:VEVENT
BEGIN:VEVENT
UID:17S_715178_2895246@uibk.ac.at
ORGANIZER;CN="LFU:online Universität Innsbruck":MAILTO:Uni-Innsbruck-noreply@uibk.ac.at
SUMMARY:Geologische Karten und Profile (LV 715178-1 17S)
DESCRIPTION:Lehrveranstaltung 715178 17S, Gruppe 1\nTitel: Geologische Karten und Profile\nOrt: UR 60306\n\nhttps://lfuonline.uibk.ac.at/public/lfuonline_lv.details?sem_id_in=17S&lvnr_id_in=715178\n
CLASS:PUBLIC
DTSTART:20170607T081500Z
DTEND:20170607T094500Z
DTSTAMP:20260420T161824Z
LOCATION:UR 60306
END:VEVENT
BEGIN:VEVENT
UID:17S_715178_2895247@uibk.ac.at
ORGANIZER;CN="LFU:online Universität Innsbruck":MAILTO:Uni-Innsbruck-noreply@uibk.ac.at
SUMMARY:Geologische Karten und Profile (LV 715178-1 17S)
DESCRIPTION:Lehrveranstaltung 715178 17S, Gruppe 1\nTitel: Geologische Karten und Profile\nOrt: UR 60306\n\nhttps://lfuonline.uibk.ac.at/public/lfuonline_lv.details?sem_id_in=17S&lvnr_id_in=715178\n
CLASS:PUBLIC
DTSTART:20170614T081500Z
DTEND:20170614T094500Z
DTSTAMP:20260420T161824Z
LOCATION:UR 60306
END:VEVENT
BEGIN:VEVENT
UID:17S_715178_2895248@uibk.ac.at
ORGANIZER;CN="LFU:online Universität Innsbruck":MAILTO:Uni-Innsbruck-noreply@uibk.ac.at
SUMMARY:Geologische Karten und Profile (LV 715178-1 17S)
DESCRIPTION:Lehrveranstaltung 715178 17S, Gruppe 1\nTitel: Geologische Karten und Profile\nOrt: UR 60306\n\nhttps://lfuonline.uibk.ac.at/public/lfuonline_lv.details?sem_id_in=17S&lvnr_id_in=715178\n
CLASS:PUBLIC
DTSTART:20170621T081500Z
DTEND:20170621T094500Z
DTSTAMP:20260420T161824Z
LOCATION:UR 60306
END:VEVENT
BEGIN:VEVENT
UID:17S_715178_2895249@uibk.ac.at
ORGANIZER;CN="LFU:online Universität Innsbruck":MAILTO:Uni-Innsbruck-noreply@uibk.ac.at
SUMMARY:Geologische Karten und Profile (LV 715178-1 17S)
DESCRIPTION:Lehrveranstaltung 715178 17S, Gruppe 1\nTitel: Geologische Karten und Profile\nOrt: UR 60306\n\nhttps://lfuonline.uibk.ac.at/public/lfuonline_lv.details?sem_id_in=17S&lvnr_id_in=715178\n
CLASS:PUBLIC
DTSTART:20170628T081500Z
DTEND:20170628T094500Z
DTSTAMP:20260420T161824Z
LOCATION:UR 60306
END:VEVENT
END:VCALENDAR