BEGIN:VCALENDAR
VERSION:2.0
PRODID:-//Universität Innsbruck//LFU:online//DE
METHOD:PUBLISH
BEGIN:VEVENT
UID:26S_740550_5045170@uibk.ac.at
ORGANIZER;CN="LFU:online Universität Innsbruck":MAILTO:Uni-Innsbruck-noreply@uibk.ac.at
SUMMARY:VU Biochemische und molekularbiologische Übungen (3 Gruppen) (LV 740550-1 26S)
DESCRIPTION:Lehrveranstaltung 740550 26S, Gruppe 1\nTitel: VU Biochemische und molekularbiologische Übungen (3 Gruppen)\nOrt: L.01.220\n\nhttps://lfuonline.uibk.ac.at/public/lfuonline_lv.details?sem_id_in=26S&lvnr_id_in=740550\n
CLASS:PUBLIC
DTSTART:20260302T083000Z
DTEND:20260302T090000Z
DTSTAMP:20260422T053730Z
LOCATION:L.01.220
COMMENT:Vorbesprechung
END:VEVENT
BEGIN:VEVENT
UID:26S_740550_5068148@uibk.ac.at
ORGANIZER;CN="LFU:online Universität Innsbruck":MAILTO:Uni-Innsbruck-noreply@uibk.ac.at
SUMMARY:VU Biochemische und molekularbiologische Übungen (3 Gruppen) (LV 740550-1 26S)
DESCRIPTION:Lehrveranstaltung 740550 26S, Gruppe 1\nTitel: VU Biochemische und molekularbiologische Übungen (3 Gruppen)\nOrt: L.03.070\n\nhttps://lfuonline.uibk.ac.at/public/lfuonline_lv.details?sem_id_in=26S&lvnr_id_in=740550\n
CLASS:PUBLIC
DTSTART:20260302T120000Z
DTEND:20260302T170000Z
DTSTAMP:20260422T053730Z
LOCATION:L.03.070
END:VEVENT
BEGIN:VEVENT
UID:26S_740550_5068149@uibk.ac.at
ORGANIZER;CN="LFU:online Universität Innsbruck":MAILTO:Uni-Innsbruck-noreply@uibk.ac.at
SUMMARY:VU Biochemische und molekularbiologische Übungen (3 Gruppen) (LV 740550-1 26S)
DESCRIPTION:Lehrveranstaltung 740550 26S, Gruppe 1\nTitel: VU Biochemische und molekularbiologische Übungen (3 Gruppen)\nOrt: L.03.070\n\nhttps://lfuonline.uibk.ac.at/public/lfuonline_lv.details?sem_id_in=26S&lvnr_id_in=740550\n
CLASS:PUBLIC
DTSTART:20260303T120000Z
DTEND:20260303T170000Z
DTSTAMP:20260422T053730Z
LOCATION:L.03.070
END:VEVENT
BEGIN:VEVENT
UID:26S_740550_5068150@uibk.ac.at
ORGANIZER;CN="LFU:online Universität Innsbruck":MAILTO:Uni-Innsbruck-noreply@uibk.ac.at
SUMMARY:VU Biochemische und molekularbiologische Übungen (3 Gruppen) (LV 740550-1 26S)
DESCRIPTION:Lehrveranstaltung 740550 26S, Gruppe 1\nTitel: VU Biochemische und molekularbiologische Übungen (3 Gruppen)\nOrt: L.03.070\n\nhttps://lfuonline.uibk.ac.at/public/lfuonline_lv.details?sem_id_in=26S&lvnr_id_in=740550\n
CLASS:PUBLIC
DTSTART:20260304T120000Z
DTEND:20260304T170000Z
DTSTAMP:20260422T053730Z
LOCATION:L.03.070
END:VEVENT
BEGIN:VEVENT
UID:26S_740550_5068151@uibk.ac.at
ORGANIZER;CN="LFU:online Universität Innsbruck":MAILTO:Uni-Innsbruck-noreply@uibk.ac.at
SUMMARY:VU Biochemische und molekularbiologische Übungen (3 Gruppen) (LV 740550-1 26S)
DESCRIPTION:Lehrveranstaltung 740550 26S, Gruppe 1\nTitel: VU Biochemische und molekularbiologische Übungen (3 Gruppen)\nOrt: L.03.070\n\nhttps://lfuonline.uibk.ac.at/public/lfuonline_lv.details?sem_id_in=26S&lvnr_id_in=740550\n
CLASS:PUBLIC
DTSTART:20260305T120000Z
DTEND:20260305T170000Z
DTSTAMP:20260422T053730Z
LOCATION:L.03.070
END:VEVENT
BEGIN:VEVENT
UID:26S_740550_5068152@uibk.ac.at
ORGANIZER;CN="LFU:online Universität Innsbruck":MAILTO:Uni-Innsbruck-noreply@uibk.ac.at
SUMMARY:VU Biochemische und molekularbiologische Übungen (3 Gruppen) (LV 740550-1 26S)
DESCRIPTION:Lehrveranstaltung 740550 26S, Gruppe 1\nTitel: VU Biochemische und molekularbiologische Übungen (3 Gruppen)\nOrt: L.03.070\n\nhttps://lfuonline.uibk.ac.at/public/lfuonline_lv.details?sem_id_in=26S&lvnr_id_in=740550\n
CLASS:PUBLIC
DTSTART:20260306T120000Z
DTEND:20260306T170000Z
DTSTAMP:20260422T053730Z
LOCATION:L.03.070
END:VEVENT
END:VCALENDAR