BEGIN:VCALENDAR
VERSION:2.0
PRODID:-//Universität Innsbruck//LFU:online//DE
METHOD:PUBLISH
BEGIN:VEVENT
UID:16S_800903_2664244@uibk.ac.at
ORGANIZER;CN="LFU:online Universität Innsbruck":MAILTO:Uni-Innsbruck-noreply@uibk.ac.at
SUMMARY:Zeitmanagement (LV 800903-1 16S)
DESCRIPTION:Lehrveranstaltung 800903 16S, Gruppe 1\nTitel: Zeitmanagement\nOrt: SR 3114\n\nhttps://lfuonline.uibk.ac.at/public/lfuonline_lv.details?sem_id_in=16S&lvnr_id_in=800903\n
CLASS:PUBLIC
DTSTART:20160511T070000Z
DTEND:20160511T150000Z
DTSTAMP:20260419T134108Z
LOCATION:SR 3114
END:VEVENT
BEGIN:VEVENT
UID:16S_800903_2664245@uibk.ac.at
ORGANIZER;CN="LFU:online Universität Innsbruck":MAILTO:Uni-Innsbruck-noreply@uibk.ac.at
SUMMARY:Zeitmanagement (LV 800903-1 16S)
DESCRIPTION:Lehrveranstaltung 800903 16S, Gruppe 1\nTitel: Zeitmanagement\nOrt: SR 3114\n\nhttps://lfuonline.uibk.ac.at/public/lfuonline_lv.details?sem_id_in=16S&lvnr_id_in=800903\n
CLASS:PUBLIC
DTSTART:20160512T070000Z
DTEND:20160512T150000Z
DTSTAMP:20260419T134108Z
LOCATION:SR 3114
END:VEVENT
BEGIN:VEVENT
UID:16S_800903_2664247@uibk.ac.at
ORGANIZER;CN="LFU:online Universität Innsbruck":MAILTO:Uni-Innsbruck-noreply@uibk.ac.at
SUMMARY:Zeitmanagement (LV 800903-1 16S)
DESCRIPTION:Lehrveranstaltung 800903 16S, Gruppe 1\nTitel: Zeitmanagement\nOrt: UNO Saal\n\nhttps://lfuonline.uibk.ac.at/public/lfuonline_lv.details?sem_id_in=16S&lvnr_id_in=800903\n
CLASS:PUBLIC
DTSTART:20160513T080000Z
DTEND:20160513T120000Z
DTSTAMP:20260419T134108Z
LOCATION:UNO Saal
COMMENT:Vorbereitungs-/Ausarbeitungszeit
END:VEVENT
BEGIN:VEVENT
UID:16S_800903_2664246@uibk.ac.at
ORGANIZER;CN="LFU:online Universität Innsbruck":MAILTO:Uni-Innsbruck-noreply@uibk.ac.at
SUMMARY:Zeitmanagement (LV 800903-1 16S)
DESCRIPTION:Lehrveranstaltung 800903 16S, Gruppe 1\nTitel: Zeitmanagement\nOrt: UNO Saal\n\nhttps://lfuonline.uibk.ac.at/public/lfuonline_lv.details?sem_id_in=16S&lvnr_id_in=800903\n
CLASS:PUBLIC
DTSTART:20160513T120000Z
DTEND:20160513T150000Z
DTSTAMP:20260419T134108Z
LOCATION:UNO Saal
END:VEVENT
END:VCALENDAR