BEGIN:VCALENDAR
VERSION:2.0
PRODID:-//Universität Innsbruck//LFU:online//DE
METHOD:PUBLISH
BEGIN:VEVENT
UID:21W_846124_3897864@uibk.ac.at
ORGANIZER;CN="LFU:online Universität Innsbruck":MAILTO:Uni-Innsbruck-noreply@uibk.ac.at
SUMMARY:UE Grundlagen der Physik in der Mechatronik (LV 846124-1 21W)
DESCRIPTION:Lehrveranstaltung 846124 21W, Gruppe 1\nTitel: UE Grundlagen der Physik in der Mechatronik\nOrt: eLecture - online\n\nhttps://lfuonline.uibk.ac.at/public/lfuonline_lv.details?sem_id_in=21W&lvnr_id_in=846124\n
CLASS:PUBLIC
DTSTART:20211007T101500Z
DTEND:20211007T110000Z
DTSTAMP:20260421T050621Z
LOCATION:eLecture - online
END:VEVENT
BEGIN:VEVENT
UID:21W_846124_3897865@uibk.ac.at
ORGANIZER;CN="LFU:online Universität Innsbruck":MAILTO:Uni-Innsbruck-noreply@uibk.ac.at
SUMMARY:UE Grundlagen der Physik in der Mechatronik (LV 846124-1 21W)
DESCRIPTION:Lehrveranstaltung 846124 21W, Gruppe 1\nTitel: UE Grundlagen der Physik in der Mechatronik\nOrt: eLecture - online\n\nhttps://lfuonline.uibk.ac.at/public/lfuonline_lv.details?sem_id_in=21W&lvnr_id_in=846124\n
CLASS:PUBLIC
DTSTART:20211014T101500Z
DTEND:20211014T110000Z
DTSTAMP:20260421T050621Z
LOCATION:eLecture - online
END:VEVENT
BEGIN:VEVENT
UID:21W_846124_3897866@uibk.ac.at
ORGANIZER;CN="LFU:online Universität Innsbruck":MAILTO:Uni-Innsbruck-noreply@uibk.ac.at
SUMMARY:UE Grundlagen der Physik in der Mechatronik (LV 846124-1 21W)
DESCRIPTION:Lehrveranstaltung 846124 21W, Gruppe 1\nTitel: UE Grundlagen der Physik in der Mechatronik\nOrt: eLecture - online\n\nhttps://lfuonline.uibk.ac.at/public/lfuonline_lv.details?sem_id_in=21W&lvnr_id_in=846124\n
CLASS:PUBLIC
DTSTART:20211021T101500Z
DTEND:20211021T110000Z
DTSTAMP:20260421T050621Z
LOCATION:eLecture - online
END:VEVENT
BEGIN:VEVENT
UID:21W_846124_3897867@uibk.ac.at
ORGANIZER;CN="LFU:online Universität Innsbruck":MAILTO:Uni-Innsbruck-noreply@uibk.ac.at
SUMMARY:UE Grundlagen der Physik in der Mechatronik (LV 846124-1 21W)
DESCRIPTION:Lehrveranstaltung 846124 21W, Gruppe 1\nTitel: UE Grundlagen der Physik in der Mechatronik\nOrt: eLecture - online\n\nhttps://lfuonline.uibk.ac.at/public/lfuonline_lv.details?sem_id_in=21W&lvnr_id_in=846124\n
CLASS:PUBLIC
DTSTART:20211028T101500Z
DTEND:20211028T110000Z
DTSTAMP:20260421T050621Z
LOCATION:eLecture - online
END:VEVENT
BEGIN:VEVENT
UID:21W_846124_3897868@uibk.ac.at
ORGANIZER;CN="LFU:online Universität Innsbruck":MAILTO:Uni-Innsbruck-noreply@uibk.ac.at
SUMMARY:UE Grundlagen der Physik in der Mechatronik (LV 846124-1 21W)
DESCRIPTION:Lehrveranstaltung 846124 21W, Gruppe 1\nTitel: UE Grundlagen der Physik in der Mechatronik\nOrt: eLecture - online\n\nhttps://lfuonline.uibk.ac.at/public/lfuonline_lv.details?sem_id_in=21W&lvnr_id_in=846124\n
CLASS:PUBLIC
DTSTART:20211104T111500Z
DTEND:20211104T120000Z
DTSTAMP:20260421T050621Z
LOCATION:eLecture - online
END:VEVENT
BEGIN:VEVENT
UID:21W_846124_3897869@uibk.ac.at
ORGANIZER;CN="LFU:online Universität Innsbruck":MAILTO:Uni-Innsbruck-noreply@uibk.ac.at
SUMMARY:UE Grundlagen der Physik in der Mechatronik (LV 846124-1 21W)
DESCRIPTION:Lehrveranstaltung 846124 21W, Gruppe 1\nTitel: UE Grundlagen der Physik in der Mechatronik\nOrt: eLecture - online\n\nhttps://lfuonline.uibk.ac.at/public/lfuonline_lv.details?sem_id_in=21W&lvnr_id_in=846124\n
CLASS:PUBLIC
DTSTART:20211111T111500Z
DTEND:20211111T120000Z
DTSTAMP:20260421T050621Z
LOCATION:eLecture - online
END:VEVENT
BEGIN:VEVENT
UID:21W_846124_3897870@uibk.ac.at
ORGANIZER;CN="LFU:online Universität Innsbruck":MAILTO:Uni-Innsbruck-noreply@uibk.ac.at
SUMMARY:UE Grundlagen der Physik in der Mechatronik (LV 846124-1 21W)
DESCRIPTION:Lehrveranstaltung 846124 21W, Gruppe 1\nTitel: UE Grundlagen der Physik in der Mechatronik\nOrt: eLecture - online\n\nhttps://lfuonline.uibk.ac.at/public/lfuonline_lv.details?sem_id_in=21W&lvnr_id_in=846124\n
CLASS:PUBLIC
DTSTART:20211118T111500Z
DTEND:20211118T120000Z
DTSTAMP:20260421T050621Z
LOCATION:eLecture - online
END:VEVENT
BEGIN:VEVENT
UID:21W_846124_3897871@uibk.ac.at
ORGANIZER;CN="LFU:online Universität Innsbruck":MAILTO:Uni-Innsbruck-noreply@uibk.ac.at
SUMMARY:UE Grundlagen der Physik in der Mechatronik (LV 846124-1 21W)
DESCRIPTION:Lehrveranstaltung 846124 21W, Gruppe 1\nTitel: UE Grundlagen der Physik in der Mechatronik\nOrt: eLecture - online\n\nhttps://lfuonline.uibk.ac.at/public/lfuonline_lv.details?sem_id_in=21W&lvnr_id_in=846124\n
CLASS:PUBLIC
DTSTART:20211125T111500Z
DTEND:20211125T120000Z
DTSTAMP:20260421T050621Z
LOCATION:eLecture - online
END:VEVENT
BEGIN:VEVENT
UID:21W_846124_3897872@uibk.ac.at
ORGANIZER;CN="LFU:online Universität Innsbruck":MAILTO:Uni-Innsbruck-noreply@uibk.ac.at
SUMMARY:UE Grundlagen der Physik in der Mechatronik (LV 846124-1 21W)
DESCRIPTION:Lehrveranstaltung 846124 21W, Gruppe 1\nTitel: UE Grundlagen der Physik in der Mechatronik\nOrt: eLecture - online\n\nhttps://lfuonline.uibk.ac.at/public/lfuonline_lv.details?sem_id_in=21W&lvnr_id_in=846124\n
CLASS:PUBLIC
DTSTART:20211202T111500Z
DTEND:20211202T120000Z
DTSTAMP:20260421T050621Z
LOCATION:eLecture - online
END:VEVENT
BEGIN:VEVENT
UID:21W_846124_3897873@uibk.ac.at
ORGANIZER;CN="LFU:online Universität Innsbruck":MAILTO:Uni-Innsbruck-noreply@uibk.ac.at
SUMMARY:UE Grundlagen der Physik in der Mechatronik (LV 846124-1 21W)
DESCRIPTION:Lehrveranstaltung 846124 21W, Gruppe 1\nTitel: UE Grundlagen der Physik in der Mechatronik\nOrt: eLecture - online\n\nhttps://lfuonline.uibk.ac.at/public/lfuonline_lv.details?sem_id_in=21W&lvnr_id_in=846124\n
CLASS:PUBLIC
DTSTART:20211209T111500Z
DTEND:20211209T120000Z
DTSTAMP:20260421T050621Z
LOCATION:eLecture - online
END:VEVENT
BEGIN:VEVENT
UID:21W_846124_3897874@uibk.ac.at
ORGANIZER;CN="LFU:online Universität Innsbruck":MAILTO:Uni-Innsbruck-noreply@uibk.ac.at
SUMMARY:UE Grundlagen der Physik in der Mechatronik (LV 846124-1 21W)
DESCRIPTION:Lehrveranstaltung 846124 21W, Gruppe 1\nTitel: UE Grundlagen der Physik in der Mechatronik\nOrt: eLecture - online\n\nhttps://lfuonline.uibk.ac.at/public/lfuonline_lv.details?sem_id_in=21W&lvnr_id_in=846124\n
CLASS:PUBLIC
DTSTART:20211216T111500Z
DTEND:20211216T120000Z
DTSTAMP:20260421T050621Z
LOCATION:eLecture - online
END:VEVENT
BEGIN:VEVENT
UID:21W_846124_3897875@uibk.ac.at
ORGANIZER;CN="LFU:online Universität Innsbruck":MAILTO:Uni-Innsbruck-noreply@uibk.ac.at
SUMMARY:UE Grundlagen der Physik in der Mechatronik (LV 846124-1 21W)
DESCRIPTION:Lehrveranstaltung 846124 21W, Gruppe 1\nTitel: UE Grundlagen der Physik in der Mechatronik\nOrt: eLecture - online\n\nhttps://lfuonline.uibk.ac.at/public/lfuonline_lv.details?sem_id_in=21W&lvnr_id_in=846124\n
CLASS:PUBLIC
DTSTART:20220113T111500Z
DTEND:20220113T120000Z
DTSTAMP:20260421T050621Z
LOCATION:eLecture - online
END:VEVENT
BEGIN:VEVENT
UID:21W_846124_3897876@uibk.ac.at
ORGANIZER;CN="LFU:online Universität Innsbruck":MAILTO:Uni-Innsbruck-noreply@uibk.ac.at
SUMMARY:UE Grundlagen der Physik in der Mechatronik (LV 846124-1 21W)
DESCRIPTION:Lehrveranstaltung 846124 21W, Gruppe 1\nTitel: UE Grundlagen der Physik in der Mechatronik\nOrt: eLecture - online\n\nhttps://lfuonline.uibk.ac.at/public/lfuonline_lv.details?sem_id_in=21W&lvnr_id_in=846124\n
CLASS:PUBLIC
DTSTART:20220120T111500Z
DTEND:20220120T120000Z
DTSTAMP:20260421T050621Z
LOCATION:eLecture - online
END:VEVENT
BEGIN:VEVENT
UID:21W_846124_3897877@uibk.ac.at
ORGANIZER;CN="LFU:online Universität Innsbruck":MAILTO:Uni-Innsbruck-noreply@uibk.ac.at
SUMMARY:UE Grundlagen der Physik in der Mechatronik (LV 846124-1 21W)
DESCRIPTION:Lehrveranstaltung 846124 21W, Gruppe 1\nTitel: UE Grundlagen der Physik in der Mechatronik\nOrt: eLecture - online\n\nhttps://lfuonline.uibk.ac.at/public/lfuonline_lv.details?sem_id_in=21W&lvnr_id_in=846124\n
CLASS:PUBLIC
DTSTART:20220127T111500Z
DTEND:20220127T120000Z
DTSTAMP:20260421T050621Z
LOCATION:eLecture - online
END:VEVENT
BEGIN:VEVENT
UID:21W_846124_3897878@uibk.ac.at
ORGANIZER;CN="LFU:online Universität Innsbruck":MAILTO:Uni-Innsbruck-noreply@uibk.ac.at
SUMMARY:UE Grundlagen der Physik in der Mechatronik (LV 846124-1 21W)
DESCRIPTION:Lehrveranstaltung 846124 21W, Gruppe 1\nTitel: UE Grundlagen der Physik in der Mechatronik\nOrt: eLecture - online\n\nhttps://lfuonline.uibk.ac.at/public/lfuonline_lv.details?sem_id_in=21W&lvnr_id_in=846124\n
CLASS:PUBLIC
DTSTART:20220203T111500Z
DTEND:20220203T120000Z
DTSTAMP:20260421T050621Z
LOCATION:eLecture - online
END:VEVENT
BEGIN:VEVENT
UID:21W_846124_4066422@uibk.ac.at
ORGANIZER;CN="LFU:online Universität Innsbruck":MAILTO:Uni-Innsbruck-noreply@uibk.ac.at
SUMMARY:UE Grundlagen der Physik in der Mechatronik (LV 846124-1 21W)
DESCRIPTION:Lehrveranstaltung 846124 21W, Gruppe 1\nTitel: UE Grundlagen der Physik in der Mechatronik\nOrt: HSB  6\n\nhttps://lfuonline.uibk.ac.at/public/lfuonline_lv.details?sem_id_in=21W&lvnr_id_in=846124\n
CLASS:PUBLIC
DTSTART:20220330T140000Z
DTEND:20220330T160000Z
DTSTAMP:20260421T050621Z
LOCATION:HSB  6
COMMENT:Prüfung
END:VEVENT
END:VCALENDAR