BEGIN:VCALENDAR
VERSION:2.0
PRODID:-//Universität Innsbruck//LFU:online//DE
METHOD:PUBLISH
BEGIN:VEVENT
UID:18W_850209_3186389@uibk.ac.at
ORGANIZER;CN="LFU:online Universität Innsbruck":MAILTO:Uni-Innsbruck-noreply@uibk.ac.at
SUMMARY:PR Angewandte Robotik (LV 850209-1 18W)
DESCRIPTION:Lehrveranstaltung 850209 18W, Gruppe 1\nTitel: PR Angewandte Robotik\nOrt: Großer Praktikumsraum Mechatronik\n\nhttps://lfuonline.uibk.ac.at/public/lfuonline_lv.details?sem_id_in=18W&lvnr_id_in=850209\n
CLASS:PUBLIC
DTSTART:20181124T070000Z
DTEND:20181124T190000Z
DTSTAMP:20260420T001330Z
LOCATION:Großer Praktikumsraum Mechatronik
END:VEVENT
BEGIN:VEVENT
UID:18W_850209_3295087@uibk.ac.at
ORGANIZER;CN="LFU:online Universität Innsbruck":MAILTO:Uni-Innsbruck-noreply@uibk.ac.at
SUMMARY:PR Angewandte Robotik (LV 850209-1 18W)
DESCRIPTION:Lehrveranstaltung 850209 18W, Gruppe 1\nTitel: PR Angewandte Robotik\nOrt: Seminarraum 2 (ICT-Gebäude)\n\nhttps://lfuonline.uibk.ac.at/public/lfuonline_lv.details?sem_id_in=18W&lvnr_id_in=850209\n
CLASS:PUBLIC
DTSTART:20181206T093000Z
DTEND:20181206T110000Z
DTSTAMP:20260420T001330Z
LOCATION:Seminarraum 2 (ICT-Gebäude)
COMMENT:Fragestunde
END:VEVENT
BEGIN:VEVENT
UID:18W_850209_3186418@uibk.ac.at
ORGANIZER;CN="LFU:online Universität Innsbruck":MAILTO:Uni-Innsbruck-noreply@uibk.ac.at
SUMMARY:PR Angewandte Robotik (LV 850209-1 18W)
DESCRIPTION:Lehrveranstaltung 850209 18W, Gruppe 1\nTitel: PR Angewandte Robotik\nOrt: Großer Praktikumsraum Mechatronik\n\nhttps://lfuonline.uibk.ac.at/public/lfuonline_lv.details?sem_id_in=18W&lvnr_id_in=850209\n
CLASS:PUBLIC
DTSTART:20181215T070000Z
DTEND:20181215T190000Z
DTSTAMP:20260420T001330Z
LOCATION:Großer Praktikumsraum Mechatronik
END:VEVENT
BEGIN:VEVENT
UID:18W_850209_3186456@uibk.ac.at
ORGANIZER;CN="LFU:online Universität Innsbruck":MAILTO:Uni-Innsbruck-noreply@uibk.ac.at
SUMMARY:PR Angewandte Robotik (LV 850209-1 18W)
DESCRIPTION:Lehrveranstaltung 850209 18W, Gruppe 1\nTitel: PR Angewandte Robotik\nOrt: Großer Praktikumsraum Mechatronik\n\nhttps://lfuonline.uibk.ac.at/public/lfuonline_lv.details?sem_id_in=18W&lvnr_id_in=850209\n
CLASS:PUBLIC
DTSTART:20190112T070000Z
DTEND:20190112T190000Z
DTSTAMP:20260420T001330Z
LOCATION:Großer Praktikumsraum Mechatronik
END:VEVENT
END:VCALENDAR