BEGIN:VCALENDAR
VERSION:2.0
PRODID:-//Universität Innsbruck//LFU:online//DE
METHOD:PUBLISH
BEGIN:VEVENT
UID:22S_920068_4032200@uibk.ac.at
ORGANIZER;CN="LFU:online Universität Innsbruck":MAILTO:Uni-Innsbruck-noreply@uibk.ac.at
SUMMARY:UE Vertiefung Bewegungsformen im Wasser: Helferschein (B) (LV 920068-1 22S)
DESCRIPTION:Lehrveranstaltung 920068 22S, Gruppe 1\nTitel: UE Vertiefung Bewegungsformen im Wasser: Helferschein (B)\nOrt: H03\n\nhttps://lfuonline.uibk.ac.at/public/lfuonline_lv.details?sem_id_in=22S&lvnr_id_in=920068\n
CLASS:PUBLIC
DTSTART:20220311T080000Z
DTEND:20220311T094500Z
DTSTAMP:20260419T121611Z
LOCATION:H03
END:VEVENT
BEGIN:VEVENT
UID:22S_920068_4032201@uibk.ac.at
ORGANIZER;CN="LFU:online Universität Innsbruck":MAILTO:Uni-Innsbruck-noreply@uibk.ac.at
SUMMARY:UE Vertiefung Bewegungsformen im Wasser: Helferschein (B) (LV 920068-1 22S)
DESCRIPTION:Lehrveranstaltung 920068 22S, Gruppe 1\nTitel: UE Vertiefung Bewegungsformen im Wasser: Helferschein (B)\nOrt: H03\n\nhttps://lfuonline.uibk.ac.at/public/lfuonline_lv.details?sem_id_in=22S&lvnr_id_in=920068\n
CLASS:PUBLIC
DTSTART:20220318T080000Z
DTEND:20220318T094500Z
DTSTAMP:20260419T121611Z
LOCATION:H03
END:VEVENT
BEGIN:VEVENT
UID:22S_920068_4032202@uibk.ac.at
ORGANIZER;CN="LFU:online Universität Innsbruck":MAILTO:Uni-Innsbruck-noreply@uibk.ac.at
SUMMARY:UE Vertiefung Bewegungsformen im Wasser: Helferschein (B) (LV 920068-1 22S)
DESCRIPTION:Lehrveranstaltung 920068 22S, Gruppe 1\nTitel: UE Vertiefung Bewegungsformen im Wasser: Helferschein (B)\nOrt: H03\n\nhttps://lfuonline.uibk.ac.at/public/lfuonline_lv.details?sem_id_in=22S&lvnr_id_in=920068\n
CLASS:PUBLIC
DTSTART:20220325T080000Z
DTEND:20220325T094500Z
DTSTAMP:20260419T121611Z
LOCATION:H03
END:VEVENT
BEGIN:VEVENT
UID:22S_920068_4032203@uibk.ac.at
ORGANIZER;CN="LFU:online Universität Innsbruck":MAILTO:Uni-Innsbruck-noreply@uibk.ac.at
SUMMARY:UE Vertiefung Bewegungsformen im Wasser: Helferschein (B) (LV 920068-1 22S)
DESCRIPTION:Lehrveranstaltung 920068 22S, Gruppe 1\nTitel: UE Vertiefung Bewegungsformen im Wasser: Helferschein (B)\nOrt: H03\n\nhttps://lfuonline.uibk.ac.at/public/lfuonline_lv.details?sem_id_in=22S&lvnr_id_in=920068\n
CLASS:PUBLIC
DTSTART:20220401T070000Z
DTEND:20220401T084500Z
DTSTAMP:20260419T121611Z
LOCATION:H03
END:VEVENT
BEGIN:VEVENT
UID:22S_920068_4032204@uibk.ac.at
ORGANIZER;CN="LFU:online Universität Innsbruck":MAILTO:Uni-Innsbruck-noreply@uibk.ac.at
SUMMARY:UE Vertiefung Bewegungsformen im Wasser: Helferschein (B) (LV 920068-1 22S)
DESCRIPTION:Lehrveranstaltung 920068 22S, Gruppe 1\nTitel: UE Vertiefung Bewegungsformen im Wasser: Helferschein (B)\nOrt: H03\n\nhttps://lfuonline.uibk.ac.at/public/lfuonline_lv.details?sem_id_in=22S&lvnr_id_in=920068\n
CLASS:PUBLIC
DTSTART:20220408T070000Z
DTEND:20220408T084500Z
DTSTAMP:20260419T121611Z
LOCATION:H03
END:VEVENT
BEGIN:VEVENT
UID:22S_920068_4032205@uibk.ac.at
ORGANIZER;CN="LFU:online Universität Innsbruck":MAILTO:Uni-Innsbruck-noreply@uibk.ac.at
SUMMARY:UE Vertiefung Bewegungsformen im Wasser: Helferschein (B) (LV 920068-1 22S)
DESCRIPTION:Lehrveranstaltung 920068 22S, Gruppe 1\nTitel: UE Vertiefung Bewegungsformen im Wasser: Helferschein (B)\nOrt: H03\n\nhttps://lfuonline.uibk.ac.at/public/lfuonline_lv.details?sem_id_in=22S&lvnr_id_in=920068\n
CLASS:PUBLIC
DTSTART:20220429T070000Z
DTEND:20220429T084500Z
DTSTAMP:20260419T121611Z
LOCATION:H03
END:VEVENT
BEGIN:VEVENT
UID:22S_920068_4032206@uibk.ac.at
ORGANIZER;CN="LFU:online Universität Innsbruck":MAILTO:Uni-Innsbruck-noreply@uibk.ac.at
SUMMARY:UE Vertiefung Bewegungsformen im Wasser: Helferschein (B) (LV 920068-1 22S)
DESCRIPTION:Lehrveranstaltung 920068 22S, Gruppe 1\nTitel: UE Vertiefung Bewegungsformen im Wasser: Helferschein (B)\nOrt: H03\n\nhttps://lfuonline.uibk.ac.at/public/lfuonline_lv.details?sem_id_in=22S&lvnr_id_in=920068\n
CLASS:PUBLIC
DTSTART:20220506T070000Z
DTEND:20220506T084500Z
DTSTAMP:20260419T121611Z
LOCATION:H03
END:VEVENT
BEGIN:VEVENT
UID:22S_920068_4072668@uibk.ac.at
ORGANIZER;CN="LFU:online Universität Innsbruck":MAILTO:Uni-Innsbruck-noreply@uibk.ac.at
SUMMARY:UE Vertiefung Bewegungsformen im Wasser: Helferschein (B) (LV 920068-1 22S)
DESCRIPTION:Lehrveranstaltung 920068 22S, Gruppe 1\nTitel: UE Vertiefung Bewegungsformen im Wasser: Helferschein (B)\nOrt: H03\n\nhttps://lfuonline.uibk.ac.at/public/lfuonline_lv.details?sem_id_in=22S&lvnr_id_in=920068\n
CLASS:PUBLIC
DTSTART:20220513T070000Z
DTEND:20220513T084500Z
DTSTAMP:20260419T121611Z
LOCATION:H03
END:VEVENT
END:VCALENDAR