BEGIN:VCALENDAR
VERSION:2.0
PRODID:-//Universität Innsbruck//LFU:online//DE
METHOD:PUBLISH
BEGIN:VEVENT
UID:10W_703002_1432504@uibk.ac.at
ORGANIZER;CN="LFU:online Universität Innsbruck":MAILTO:Uni-Innsbruck-noreply@uibk.ac.at
SUMMARY:Einführung in die Informatik (LV 703002-10 10W)
DESCRIPTION:Lehrveranstaltung 703002 10W, Gruppe 10\nTitel: Einführung in die Informatik\nOrt: SR 13\n\nhttps://lfuonline.uibk.ac.at/public/lfuonline_lv.details?sem_id_in=10W&lvnr_id_in=703002\n
CLASS:PUBLIC
DTSTART:20101011T141500Z
DTEND:20101011T160000Z
DTSTAMP:20260423T080910Z
LOCATION:SR 13
END:VEVENT
BEGIN:VEVENT
UID:10W_703002_1432505@uibk.ac.at
ORGANIZER;CN="LFU:online Universität Innsbruck":MAILTO:Uni-Innsbruck-noreply@uibk.ac.at
SUMMARY:Einführung in die Informatik (LV 703002-10 10W)
DESCRIPTION:Lehrveranstaltung 703002 10W, Gruppe 10\nTitel: Einführung in die Informatik\nOrt: SR 13\n\nhttps://lfuonline.uibk.ac.at/public/lfuonline_lv.details?sem_id_in=10W&lvnr_id_in=703002\n
CLASS:PUBLIC
DTSTART:20101018T141500Z
DTEND:20101018T160000Z
DTSTAMP:20260423T080910Z
LOCATION:SR 13
END:VEVENT
BEGIN:VEVENT
UID:10W_703002_1432506@uibk.ac.at
ORGANIZER;CN="LFU:online Universität Innsbruck":MAILTO:Uni-Innsbruck-noreply@uibk.ac.at
SUMMARY:Einführung in die Informatik (LV 703002-10 10W)
DESCRIPTION:Lehrveranstaltung 703002 10W, Gruppe 10\nTitel: Einführung in die Informatik\nOrt: SR 13\n\nhttps://lfuonline.uibk.ac.at/public/lfuonline_lv.details?sem_id_in=10W&lvnr_id_in=703002\n
CLASS:PUBLIC
DTSTART:20101025T141500Z
DTEND:20101025T160000Z
DTSTAMP:20260423T080910Z
LOCATION:SR 13
END:VEVENT
BEGIN:VEVENT
UID:10W_703002_1432507@uibk.ac.at
ORGANIZER;CN="LFU:online Universität Innsbruck":MAILTO:Uni-Innsbruck-noreply@uibk.ac.at
SUMMARY:Einführung in die Informatik (LV 703002-10 10W)
DESCRIPTION:Lehrveranstaltung 703002 10W, Gruppe 10\nTitel: Einführung in die Informatik\nOrt: SR 13\n\nhttps://lfuonline.uibk.ac.at/public/lfuonline_lv.details?sem_id_in=10W&lvnr_id_in=703002\n
CLASS:PUBLIC
DTSTART:20101108T151500Z
DTEND:20101108T170000Z
DTSTAMP:20260423T080910Z
LOCATION:SR 13
END:VEVENT
BEGIN:VEVENT
UID:10W_703002_1432508@uibk.ac.at
ORGANIZER;CN="LFU:online Universität Innsbruck":MAILTO:Uni-Innsbruck-noreply@uibk.ac.at
SUMMARY:Einführung in die Informatik (LV 703002-10 10W)
DESCRIPTION:Lehrveranstaltung 703002 10W, Gruppe 10\nTitel: Einführung in die Informatik\nOrt: SR 13\n\nhttps://lfuonline.uibk.ac.at/public/lfuonline_lv.details?sem_id_in=10W&lvnr_id_in=703002\n
CLASS:PUBLIC
DTSTART:20101115T151500Z
DTEND:20101115T170000Z
DTSTAMP:20260423T080910Z
LOCATION:SR 13
END:VEVENT
BEGIN:VEVENT
UID:10W_703002_1432509@uibk.ac.at
ORGANIZER;CN="LFU:online Universität Innsbruck":MAILTO:Uni-Innsbruck-noreply@uibk.ac.at
SUMMARY:Einführung in die Informatik (LV 703002-10 10W)
DESCRIPTION:Lehrveranstaltung 703002 10W, Gruppe 10\nTitel: Einführung in die Informatik\nOrt: SR 13\n\nhttps://lfuonline.uibk.ac.at/public/lfuonline_lv.details?sem_id_in=10W&lvnr_id_in=703002\n
CLASS:PUBLIC
DTSTART:20101122T151500Z
DTEND:20101122T170000Z
DTSTAMP:20260423T080910Z
LOCATION:SR 13
END:VEVENT
BEGIN:VEVENT
UID:10W_703002_1432510@uibk.ac.at
ORGANIZER;CN="LFU:online Universität Innsbruck":MAILTO:Uni-Innsbruck-noreply@uibk.ac.at
SUMMARY:Einführung in die Informatik (LV 703002-10 10W)
DESCRIPTION:Lehrveranstaltung 703002 10W, Gruppe 10\nTitel: Einführung in die Informatik\nOrt: SR 13\n\nhttps://lfuonline.uibk.ac.at/public/lfuonline_lv.details?sem_id_in=10W&lvnr_id_in=703002\n
CLASS:PUBLIC
DTSTART:20101129T151500Z
DTEND:20101129T170000Z
DTSTAMP:20260423T080910Z
LOCATION:SR 13
END:VEVENT
BEGIN:VEVENT
UID:10W_703002_1432511@uibk.ac.at
ORGANIZER;CN="LFU:online Universität Innsbruck":MAILTO:Uni-Innsbruck-noreply@uibk.ac.at
SUMMARY:Einführung in die Informatik (LV 703002-10 10W)
DESCRIPTION:Lehrveranstaltung 703002 10W, Gruppe 10\nTitel: Einführung in die Informatik\nOrt: SR 13\n\nhttps://lfuonline.uibk.ac.at/public/lfuonline_lv.details?sem_id_in=10W&lvnr_id_in=703002\n
CLASS:PUBLIC
DTSTART:20101206T151500Z
DTEND:20101206T170000Z
DTSTAMP:20260423T080910Z
LOCATION:SR 13
END:VEVENT
BEGIN:VEVENT
UID:10W_703002_1432512@uibk.ac.at
ORGANIZER;CN="LFU:online Universität Innsbruck":MAILTO:Uni-Innsbruck-noreply@uibk.ac.at
SUMMARY:Einführung in die Informatik (LV 703002-10 10W)
DESCRIPTION:Lehrveranstaltung 703002 10W, Gruppe 10\nTitel: Einführung in die Informatik\nOrt: SR 13\n\nhttps://lfuonline.uibk.ac.at/public/lfuonline_lv.details?sem_id_in=10W&lvnr_id_in=703002\n
CLASS:PUBLIC
DTSTART:20101213T151500Z
DTEND:20101213T170000Z
DTSTAMP:20260423T080910Z
LOCATION:SR 13
END:VEVENT
BEGIN:VEVENT
UID:10W_703002_1432513@uibk.ac.at
ORGANIZER;CN="LFU:online Universität Innsbruck":MAILTO:Uni-Innsbruck-noreply@uibk.ac.at
SUMMARY:Einführung in die Informatik (LV 703002-10 10W)
DESCRIPTION:Lehrveranstaltung 703002 10W, Gruppe 10\nTitel: Einführung in die Informatik\nOrt: SR 13\n\nhttps://lfuonline.uibk.ac.at/public/lfuonline_lv.details?sem_id_in=10W&lvnr_id_in=703002\n
CLASS:PUBLIC
DTSTART:20110110T151500Z
DTEND:20110110T170000Z
DTSTAMP:20260423T080910Z
LOCATION:SR 13
END:VEVENT
BEGIN:VEVENT
UID:10W_703002_1432514@uibk.ac.at
ORGANIZER;CN="LFU:online Universität Innsbruck":MAILTO:Uni-Innsbruck-noreply@uibk.ac.at
SUMMARY:Einführung in die Informatik (LV 703002-10 10W)
DESCRIPTION:Lehrveranstaltung 703002 10W, Gruppe 10\nTitel: Einführung in die Informatik\nOrt: SR 13\n\nhttps://lfuonline.uibk.ac.at/public/lfuonline_lv.details?sem_id_in=10W&lvnr_id_in=703002\n
CLASS:PUBLIC
DTSTART:20110117T151500Z
DTEND:20110117T170000Z
DTSTAMP:20260423T080910Z
LOCATION:SR 13
END:VEVENT
BEGIN:VEVENT
UID:10W_703002_1432515@uibk.ac.at
ORGANIZER;CN="LFU:online Universität Innsbruck":MAILTO:Uni-Innsbruck-noreply@uibk.ac.at
SUMMARY:Einführung in die Informatik (LV 703002-10 10W)
DESCRIPTION:Lehrveranstaltung 703002 10W, Gruppe 10\nTitel: Einführung in die Informatik\nOrt: SR 13\n\nhttps://lfuonline.uibk.ac.at/public/lfuonline_lv.details?sem_id_in=10W&lvnr_id_in=703002\n
CLASS:PUBLIC
DTSTART:20110124T151500Z
DTEND:20110124T170000Z
DTSTAMP:20260423T080910Z
LOCATION:SR 13
END:VEVENT
BEGIN:VEVENT
UID:10W_703002_1432516@uibk.ac.at
ORGANIZER;CN="LFU:online Universität Innsbruck":MAILTO:Uni-Innsbruck-noreply@uibk.ac.at
SUMMARY:Einführung in die Informatik (LV 703002-10 10W)
DESCRIPTION:Lehrveranstaltung 703002 10W, Gruppe 10\nTitel: Einführung in die Informatik\nOrt: SR 13\n\nhttps://lfuonline.uibk.ac.at/public/lfuonline_lv.details?sem_id_in=10W&lvnr_id_in=703002\n
CLASS:PUBLIC
DTSTART:20110131T151500Z
DTEND:20110131T170000Z
DTSTAMP:20260423T080910Z
LOCATION:SR 13
END:VEVENT
END:VCALENDAR