BEGIN:VCALENDAR
VERSION:2.0
PRODID:-//Universität Innsbruck//LFU:online//DE
METHOD:PUBLISH
BEGIN:VEVENT
UID:20W_627300_3627801@uibk.ac.at
ORGANIZER;CN="LFU:online Universität Innsbruck":MAILTO:Uni-Innsbruck-noreply@uibk.ac.at
SUMMARY:VU Einführung in das Testen und Bewerten im Fremdsprachenunterricht (3 Gruppen) (LV 627300-2 20W)
DESCRIPTION:Lehrveranstaltung 627300 20W, Gruppe 2\nTitel: VU Einführung in das Testen und Bewerten im Fremdsprachenunterricht (3 Gruppen)\nOrt: eLecture - online\n\nhttps://lfuonline.uibk.ac.at/public/lfuonline_lv.details?sem_id_in=20W&lvnr_id_in=627300\n
CLASS:PUBLIC
DTSTART:20201007T151500Z
DTEND:20201007T164500Z
DTSTAMP:20260419T213526Z
LOCATION:eLecture - online
END:VEVENT
BEGIN:VEVENT
UID:20W_627300_3627847@uibk.ac.at
ORGANIZER;CN="LFU:online Universität Innsbruck":MAILTO:Uni-Innsbruck-noreply@uibk.ac.at
SUMMARY:VU Einführung in das Testen und Bewerten im Fremdsprachenunterricht (3 Gruppen) (LV 627300-2 20W)
DESCRIPTION:Lehrveranstaltung 627300 20W, Gruppe 2\nTitel: VU Einführung in das Testen und Bewerten im Fremdsprachenunterricht (3 Gruppen)\nOrt: eLecture - online\n\nhttps://lfuonline.uibk.ac.at/public/lfuonline_lv.details?sem_id_in=20W&lvnr_id_in=627300\n
CLASS:PUBLIC
DTSTART:20201010T063000Z
DTEND:20201010T094500Z
DTSTAMP:20260419T213526Z
LOCATION:eLecture - online
END:VEVENT
BEGIN:VEVENT
UID:20W_627300_3627802@uibk.ac.at
ORGANIZER;CN="LFU:online Universität Innsbruck":MAILTO:Uni-Innsbruck-noreply@uibk.ac.at
SUMMARY:VU Einführung in das Testen und Bewerten im Fremdsprachenunterricht (3 Gruppen) (LV 627300-2 20W)
DESCRIPTION:Lehrveranstaltung 627300 20W, Gruppe 2\nTitel: VU Einführung in das Testen und Bewerten im Fremdsprachenunterricht (3 Gruppen)\nOrt: eLecture - online\n\nhttps://lfuonline.uibk.ac.at/public/lfuonline_lv.details?sem_id_in=20W&lvnr_id_in=627300\n
CLASS:PUBLIC
DTSTART:20201014T151500Z
DTEND:20201014T164500Z
DTSTAMP:20260419T213526Z
LOCATION:eLecture - online
END:VEVENT
BEGIN:VEVENT
UID:20W_627300_3627803@uibk.ac.at
ORGANIZER;CN="LFU:online Universität Innsbruck":MAILTO:Uni-Innsbruck-noreply@uibk.ac.at
SUMMARY:VU Einführung in das Testen und Bewerten im Fremdsprachenunterricht (3 Gruppen) (LV 627300-2 20W)
DESCRIPTION:Lehrveranstaltung 627300 20W, Gruppe 2\nTitel: VU Einführung in das Testen und Bewerten im Fremdsprachenunterricht (3 Gruppen)\nOrt: eLecture - online\n\nhttps://lfuonline.uibk.ac.at/public/lfuonline_lv.details?sem_id_in=20W&lvnr_id_in=627300\n
CLASS:PUBLIC
DTSTART:20201021T151500Z
DTEND:20201021T164500Z
DTSTAMP:20260419T213526Z
LOCATION:eLecture - online
END:VEVENT
BEGIN:VEVENT
UID:20W_627300_3627804@uibk.ac.at
ORGANIZER;CN="LFU:online Universität Innsbruck":MAILTO:Uni-Innsbruck-noreply@uibk.ac.at
SUMMARY:VU Einführung in das Testen und Bewerten im Fremdsprachenunterricht (3 Gruppen) (LV 627300-2 20W)
DESCRIPTION:Lehrveranstaltung 627300 20W, Gruppe 2\nTitel: VU Einführung in das Testen und Bewerten im Fremdsprachenunterricht (3 Gruppen)\nOrt: eLecture - online\n\nhttps://lfuonline.uibk.ac.at/public/lfuonline_lv.details?sem_id_in=20W&lvnr_id_in=627300\n
CLASS:PUBLIC
DTSTART:20201104T161500Z
DTEND:20201104T174500Z
DTSTAMP:20260419T213526Z
LOCATION:eLecture - online
END:VEVENT
BEGIN:VEVENT
UID:20W_627300_3627805@uibk.ac.at
ORGANIZER;CN="LFU:online Universität Innsbruck":MAILTO:Uni-Innsbruck-noreply@uibk.ac.at
SUMMARY:VU Einführung in das Testen und Bewerten im Fremdsprachenunterricht (3 Gruppen) (LV 627300-2 20W)
DESCRIPTION:Lehrveranstaltung 627300 20W, Gruppe 2\nTitel: VU Einführung in das Testen und Bewerten im Fremdsprachenunterricht (3 Gruppen)\nOrt: eLecture - online\n\nhttps://lfuonline.uibk.ac.at/public/lfuonline_lv.details?sem_id_in=20W&lvnr_id_in=627300\n
CLASS:PUBLIC
DTSTART:20201111T161500Z
DTEND:20201111T174500Z
DTSTAMP:20260419T213526Z
LOCATION:eLecture - online
END:VEVENT
BEGIN:VEVENT
UID:20W_627300_3627806@uibk.ac.at
ORGANIZER;CN="LFU:online Universität Innsbruck":MAILTO:Uni-Innsbruck-noreply@uibk.ac.at
SUMMARY:VU Einführung in das Testen und Bewerten im Fremdsprachenunterricht (3 Gruppen) (LV 627300-2 20W)
DESCRIPTION:Lehrveranstaltung 627300 20W, Gruppe 2\nTitel: VU Einführung in das Testen und Bewerten im Fremdsprachenunterricht (3 Gruppen)\nOrt: eLecture - online\n\nhttps://lfuonline.uibk.ac.at/public/lfuonline_lv.details?sem_id_in=20W&lvnr_id_in=627300\n
CLASS:PUBLIC
DTSTART:20201118T161500Z
DTEND:20201118T174500Z
DTSTAMP:20260419T213526Z
LOCATION:eLecture - online
END:VEVENT
BEGIN:VEVENT
UID:20W_627300_3627807@uibk.ac.at
ORGANIZER;CN="LFU:online Universität Innsbruck":MAILTO:Uni-Innsbruck-noreply@uibk.ac.at
SUMMARY:VU Einführung in das Testen und Bewerten im Fremdsprachenunterricht (3 Gruppen) (LV 627300-2 20W)
DESCRIPTION:Lehrveranstaltung 627300 20W, Gruppe 2\nTitel: VU Einführung in das Testen und Bewerten im Fremdsprachenunterricht (3 Gruppen)\nOrt: eLecture - online\n\nhttps://lfuonline.uibk.ac.at/public/lfuonline_lv.details?sem_id_in=20W&lvnr_id_in=627300\n
CLASS:PUBLIC
DTSTART:20201125T161500Z
DTEND:20201125T174500Z
DTSTAMP:20260419T213526Z
LOCATION:eLecture - online
END:VEVENT
BEGIN:VEVENT
UID:20W_627300_3627808@uibk.ac.at
ORGANIZER;CN="LFU:online Universität Innsbruck":MAILTO:Uni-Innsbruck-noreply@uibk.ac.at
SUMMARY:VU Einführung in das Testen und Bewerten im Fremdsprachenunterricht (3 Gruppen) (LV 627300-2 20W)
DESCRIPTION:Lehrveranstaltung 627300 20W, Gruppe 2\nTitel: VU Einführung in das Testen und Bewerten im Fremdsprachenunterricht (3 Gruppen)\nOrt: eLecture - online\n\nhttps://lfuonline.uibk.ac.at/public/lfuonline_lv.details?sem_id_in=20W&lvnr_id_in=627300\n
CLASS:PUBLIC
DTSTART:20201202T161500Z
DTEND:20201202T174500Z
DTSTAMP:20260419T213526Z
LOCATION:eLecture - online
END:VEVENT
BEGIN:VEVENT
UID:20W_627300_3627809@uibk.ac.at
ORGANIZER;CN="LFU:online Universität Innsbruck":MAILTO:Uni-Innsbruck-noreply@uibk.ac.at
SUMMARY:VU Einführung in das Testen und Bewerten im Fremdsprachenunterricht (3 Gruppen) (LV 627300-2 20W)
DESCRIPTION:Lehrveranstaltung 627300 20W, Gruppe 2\nTitel: VU Einführung in das Testen und Bewerten im Fremdsprachenunterricht (3 Gruppen)\nOrt: eLecture - online\n\nhttps://lfuonline.uibk.ac.at/public/lfuonline_lv.details?sem_id_in=20W&lvnr_id_in=627300\n
CLASS:PUBLIC
DTSTART:20201209T161500Z
DTEND:20201209T174500Z
DTSTAMP:20260419T213526Z
LOCATION:eLecture - online
END:VEVENT
BEGIN:VEVENT
UID:20W_627300_3627810@uibk.ac.at
ORGANIZER;CN="LFU:online Universität Innsbruck":MAILTO:Uni-Innsbruck-noreply@uibk.ac.at
SUMMARY:VU Einführung in das Testen und Bewerten im Fremdsprachenunterricht (3 Gruppen) (LV 627300-2 20W)
DESCRIPTION:Lehrveranstaltung 627300 20W, Gruppe 2\nTitel: VU Einführung in das Testen und Bewerten im Fremdsprachenunterricht (3 Gruppen)\nOrt: eLecture - online\n\nhttps://lfuonline.uibk.ac.at/public/lfuonline_lv.details?sem_id_in=20W&lvnr_id_in=627300\n
CLASS:PUBLIC
DTSTART:20201216T161500Z
DTEND:20201216T174500Z
DTSTAMP:20260419T213526Z
LOCATION:eLecture - online
END:VEVENT
BEGIN:VEVENT
UID:20W_627300_3627811@uibk.ac.at
ORGANIZER;CN="LFU:online Universität Innsbruck":MAILTO:Uni-Innsbruck-noreply@uibk.ac.at
SUMMARY:VU Einführung in das Testen und Bewerten im Fremdsprachenunterricht (3 Gruppen) (LV 627300-2 20W)
DESCRIPTION:Lehrveranstaltung 627300 20W, Gruppe 2\nTitel: VU Einführung in das Testen und Bewerten im Fremdsprachenunterricht (3 Gruppen)\nOrt: eLecture - online\n\nhttps://lfuonline.uibk.ac.at/public/lfuonline_lv.details?sem_id_in=20W&lvnr_id_in=627300\n
CLASS:PUBLIC
DTSTART:20210113T161500Z
DTEND:20210113T174500Z
DTSTAMP:20260419T213526Z
LOCATION:eLecture - online
END:VEVENT
BEGIN:VEVENT
UID:20W_627300_3627812@uibk.ac.at
ORGANIZER;CN="LFU:online Universität Innsbruck":MAILTO:Uni-Innsbruck-noreply@uibk.ac.at
SUMMARY:VU Einführung in das Testen und Bewerten im Fremdsprachenunterricht (3 Gruppen) (LV 627300-2 20W)
DESCRIPTION:Lehrveranstaltung 627300 20W, Gruppe 2\nTitel: VU Einführung in das Testen und Bewerten im Fremdsprachenunterricht (3 Gruppen)\nOrt: eLecture - online\n\nhttps://lfuonline.uibk.ac.at/public/lfuonline_lv.details?sem_id_in=20W&lvnr_id_in=627300\n
CLASS:PUBLIC
DTSTART:20210120T170000Z
DTEND:20210120T174500Z
DTSTAMP:20260419T213526Z
LOCATION:eLecture - online
END:VEVENT
BEGIN:VEVENT
UID:20W_627300_3627877@uibk.ac.at
ORGANIZER;CN="LFU:online Universität Innsbruck":MAILTO:Uni-Innsbruck-noreply@uibk.ac.at
SUMMARY:VU Einführung in das Testen und Bewerten im Fremdsprachenunterricht (3 Gruppen) (LV 627300-2 20W)
DESCRIPTION:Lehrveranstaltung 627300 20W, Gruppe 2\nTitel: VU Einführung in das Testen und Bewerten im Fremdsprachenunterricht (3 Gruppen)\nOrt: eLecture - online\n\nhttps://lfuonline.uibk.ac.at/public/lfuonline_lv.details?sem_id_in=20W&lvnr_id_in=627300\n
CLASS:PUBLIC
DTSTART:20210127T161500Z
DTEND:20210127T171500Z
DTSTAMP:20260419T213526Z
LOCATION:eLecture - online
COMMENT:Test
END:VEVENT
END:VCALENDAR