BEGIN:VCALENDAR
VERSION:2.0
PRODID:-//Universität Innsbruck//LFU:online//DE
METHOD:PUBLISH
BEGIN:VEVENT
UID:19S_702212_3274628@uibk.ac.at
ORGANIZER;CN="LFU:online Universität Innsbruck":MAILTO:Uni-Innsbruck-noreply@uibk.ac.at
SUMMARY:PS Analysis 2 (LV 702212-2 19S)
DESCRIPTION:Lehrveranstaltung 702212 19S, Gruppe 2\nTitel: PS Analysis 2\nOrt: HS F (Technik)\n\nhttps://lfuonline.uibk.ac.at/public/lfuonline_lv.details?sem_id_in=19S&lvnr_id_in=702212\n
CLASS:PUBLIC
DTSTART:20190307T131500Z
DTEND:20190307T150000Z
DTSTAMP:20260422T042320Z
LOCATION:HS F (Technik)
END:VEVENT
BEGIN:VEVENT
UID:19S_702212_3274629@uibk.ac.at
ORGANIZER;CN="LFU:online Universität Innsbruck":MAILTO:Uni-Innsbruck-noreply@uibk.ac.at
SUMMARY:PS Analysis 2 (LV 702212-2 19S)
DESCRIPTION:Lehrveranstaltung 702212 19S, Gruppe 2\nTitel: PS Analysis 2\nOrt: HS A (Technik)\n\nhttps://lfuonline.uibk.ac.at/public/lfuonline_lv.details?sem_id_in=19S&lvnr_id_in=702212\n
CLASS:PUBLIC
DTSTART:20190314T131500Z
DTEND:20190314T150000Z
DTSTAMP:20260422T042320Z
LOCATION:HS A (Technik)
END:VEVENT
BEGIN:VEVENT
UID:19S_702212_3274630@uibk.ac.at
ORGANIZER;CN="LFU:online Universität Innsbruck":MAILTO:Uni-Innsbruck-noreply@uibk.ac.at
SUMMARY:PS Analysis 2 (LV 702212-2 19S)
DESCRIPTION:Lehrveranstaltung 702212 19S, Gruppe 2\nTitel: PS Analysis 2\nOrt: HS F (Technik)\n\nhttps://lfuonline.uibk.ac.at/public/lfuonline_lv.details?sem_id_in=19S&lvnr_id_in=702212\n
CLASS:PUBLIC
DTSTART:20190321T131500Z
DTEND:20190321T150000Z
DTSTAMP:20260422T042320Z
LOCATION:HS F (Technik)
END:VEVENT
BEGIN:VEVENT
UID:19S_702212_3274631@uibk.ac.at
ORGANIZER;CN="LFU:online Universität Innsbruck":MAILTO:Uni-Innsbruck-noreply@uibk.ac.at
SUMMARY:PS Analysis 2 (LV 702212-2 19S)
DESCRIPTION:Lehrveranstaltung 702212 19S, Gruppe 2\nTitel: PS Analysis 2\nOrt: HS F (Technik)\n\nhttps://lfuonline.uibk.ac.at/public/lfuonline_lv.details?sem_id_in=19S&lvnr_id_in=702212\n
CLASS:PUBLIC
DTSTART:20190328T131500Z
DTEND:20190328T150000Z
DTSTAMP:20260422T042320Z
LOCATION:HS F (Technik)
END:VEVENT
BEGIN:VEVENT
UID:19S_702212_3274632@uibk.ac.at
ORGANIZER;CN="LFU:online Universität Innsbruck":MAILTO:Uni-Innsbruck-noreply@uibk.ac.at
SUMMARY:PS Analysis 2 (LV 702212-2 19S)
DESCRIPTION:Lehrveranstaltung 702212 19S, Gruppe 2\nTitel: PS Analysis 2\nOrt: HS F (Technik)\n\nhttps://lfuonline.uibk.ac.at/public/lfuonline_lv.details?sem_id_in=19S&lvnr_id_in=702212\n
CLASS:PUBLIC
DTSTART:20190404T121500Z
DTEND:20190404T140000Z
DTSTAMP:20260422T042320Z
LOCATION:HS F (Technik)
END:VEVENT
BEGIN:VEVENT
UID:19S_702212_3274633@uibk.ac.at
ORGANIZER;CN="LFU:online Universität Innsbruck":MAILTO:Uni-Innsbruck-noreply@uibk.ac.at
SUMMARY:PS Analysis 2 (LV 702212-2 19S)
DESCRIPTION:Lehrveranstaltung 702212 19S, Gruppe 2\nTitel: PS Analysis 2\nOrt: HS F (Technik)\n\nhttps://lfuonline.uibk.ac.at/public/lfuonline_lv.details?sem_id_in=19S&lvnr_id_in=702212\n
CLASS:PUBLIC
DTSTART:20190411T121500Z
DTEND:20190411T140000Z
DTSTAMP:20260422T042320Z
LOCATION:HS F (Technik)
END:VEVENT
BEGIN:VEVENT
UID:19S_702212_3274634@uibk.ac.at
ORGANIZER;CN="LFU:online Universität Innsbruck":MAILTO:Uni-Innsbruck-noreply@uibk.ac.at
SUMMARY:PS Analysis 2 (LV 702212-2 19S)
DESCRIPTION:Lehrveranstaltung 702212 19S, Gruppe 2\nTitel: PS Analysis 2\nOrt: HS F (Technik)\n\nhttps://lfuonline.uibk.ac.at/public/lfuonline_lv.details?sem_id_in=19S&lvnr_id_in=702212\n
CLASS:PUBLIC
DTSTART:20190502T121500Z
DTEND:20190502T140000Z
DTSTAMP:20260422T042320Z
LOCATION:HS F (Technik)
END:VEVENT
BEGIN:VEVENT
UID:19S_702212_3274635@uibk.ac.at
ORGANIZER;CN="LFU:online Universität Innsbruck":MAILTO:Uni-Innsbruck-noreply@uibk.ac.at
SUMMARY:PS Analysis 2 (LV 702212-2 19S)
DESCRIPTION:Lehrveranstaltung 702212 19S, Gruppe 2\nTitel: PS Analysis 2\nOrt: HS F (Technik)\n\nhttps://lfuonline.uibk.ac.at/public/lfuonline_lv.details?sem_id_in=19S&lvnr_id_in=702212\n
CLASS:PUBLIC
DTSTART:20190509T121500Z
DTEND:20190509T140000Z
DTSTAMP:20260422T042320Z
LOCATION:HS F (Technik)
END:VEVENT
BEGIN:VEVENT
UID:19S_702212_3274636@uibk.ac.at
ORGANIZER;CN="LFU:online Universität Innsbruck":MAILTO:Uni-Innsbruck-noreply@uibk.ac.at
SUMMARY:PS Analysis 2 (LV 702212-2 19S)
DESCRIPTION:Lehrveranstaltung 702212 19S, Gruppe 2\nTitel: PS Analysis 2\nOrt: HS F (Technik)\n\nhttps://lfuonline.uibk.ac.at/public/lfuonline_lv.details?sem_id_in=19S&lvnr_id_in=702212\n
CLASS:PUBLIC
DTSTART:20190516T121500Z
DTEND:20190516T140000Z
DTSTAMP:20260422T042320Z
LOCATION:HS F (Technik)
END:VEVENT
BEGIN:VEVENT
UID:19S_702212_3274637@uibk.ac.at
ORGANIZER;CN="LFU:online Universität Innsbruck":MAILTO:Uni-Innsbruck-noreply@uibk.ac.at
SUMMARY:PS Analysis 2 (LV 702212-2 19S)
DESCRIPTION:Lehrveranstaltung 702212 19S, Gruppe 2\nTitel: PS Analysis 2\nOrt: HS F (Technik)\n\nhttps://lfuonline.uibk.ac.at/public/lfuonline_lv.details?sem_id_in=19S&lvnr_id_in=702212\n
CLASS:PUBLIC
DTSTART:20190523T121500Z
DTEND:20190523T140000Z
DTSTAMP:20260422T042320Z
LOCATION:HS F (Technik)
END:VEVENT
BEGIN:VEVENT
UID:19S_702212_3274638@uibk.ac.at
ORGANIZER;CN="LFU:online Universität Innsbruck":MAILTO:Uni-Innsbruck-noreply@uibk.ac.at
SUMMARY:PS Analysis 2 (LV 702212-2 19S)
DESCRIPTION:Lehrveranstaltung 702212 19S, Gruppe 2\nTitel: PS Analysis 2\nOrt: HS F (Technik)\n\nhttps://lfuonline.uibk.ac.at/public/lfuonline_lv.details?sem_id_in=19S&lvnr_id_in=702212\n
CLASS:PUBLIC
DTSTART:20190606T121500Z
DTEND:20190606T140000Z
DTSTAMP:20260422T042320Z
LOCATION:HS F (Technik)
END:VEVENT
BEGIN:VEVENT
UID:19S_702212_3274639@uibk.ac.at
ORGANIZER;CN="LFU:online Universität Innsbruck":MAILTO:Uni-Innsbruck-noreply@uibk.ac.at
SUMMARY:PS Analysis 2 (LV 702212-2 19S)
DESCRIPTION:Lehrveranstaltung 702212 19S, Gruppe 2\nTitel: PS Analysis 2\nOrt: HS F (Technik)\n\nhttps://lfuonline.uibk.ac.at/public/lfuonline_lv.details?sem_id_in=19S&lvnr_id_in=702212\n
CLASS:PUBLIC
DTSTART:20190613T121500Z
DTEND:20190613T140000Z
DTSTAMP:20260422T042320Z
LOCATION:HS F (Technik)
END:VEVENT
BEGIN:VEVENT
UID:19S_702212_3274640@uibk.ac.at
ORGANIZER;CN="LFU:online Universität Innsbruck":MAILTO:Uni-Innsbruck-noreply@uibk.ac.at
SUMMARY:PS Analysis 2 (LV 702212-2 19S)
DESCRIPTION:Lehrveranstaltung 702212 19S, Gruppe 2\nTitel: PS Analysis 2\nOrt: HS F (Technik)\n\nhttps://lfuonline.uibk.ac.at/public/lfuonline_lv.details?sem_id_in=19S&lvnr_id_in=702212\n
CLASS:PUBLIC
DTSTART:20190627T121500Z
DTEND:20190627T140000Z
DTSTAMP:20260422T042320Z
LOCATION:HS F (Technik)
END:VEVENT
END:VCALENDAR