BEGIN:VCALENDAR
VERSION:2.0
PRODID:-//Universität Innsbruck//LFU:online//DE
METHOD:PUBLISH
BEGIN:VEVENT
UID:10W_703002_1432392@uibk.ac.at
ORGANIZER;CN="LFU:online Universität Innsbruck":MAILTO:Uni-Innsbruck-noreply@uibk.ac.at
SUMMARY:Einführung in die Informatik (LV 703002-2 10W)
DESCRIPTION:Lehrveranstaltung 703002 10W, Gruppe 2\nTitel: Einführung in die Informatik\nOrt: SR 13\n\nhttps://lfuonline.uibk.ac.at/public/lfuonline_lv.details?sem_id_in=10W&lvnr_id_in=703002\n
CLASS:PUBLIC
DTSTART:20101011T061500Z
DTEND:20101011T080000Z
DTSTAMP:20260423T080753Z
LOCATION:SR 13
END:VEVENT
BEGIN:VEVENT
UID:10W_703002_1432393@uibk.ac.at
ORGANIZER;CN="LFU:online Universität Innsbruck":MAILTO:Uni-Innsbruck-noreply@uibk.ac.at
SUMMARY:Einführung in die Informatik (LV 703002-2 10W)
DESCRIPTION:Lehrveranstaltung 703002 10W, Gruppe 2\nTitel: Einführung in die Informatik\nOrt: SR 13\n\nhttps://lfuonline.uibk.ac.at/public/lfuonline_lv.details?sem_id_in=10W&lvnr_id_in=703002\n
CLASS:PUBLIC
DTSTART:20101018T061500Z
DTEND:20101018T080000Z
DTSTAMP:20260423T080753Z
LOCATION:SR 13
END:VEVENT
BEGIN:VEVENT
UID:10W_703002_1432394@uibk.ac.at
ORGANIZER;CN="LFU:online Universität Innsbruck":MAILTO:Uni-Innsbruck-noreply@uibk.ac.at
SUMMARY:Einführung in die Informatik (LV 703002-2 10W)
DESCRIPTION:Lehrveranstaltung 703002 10W, Gruppe 2\nTitel: Einführung in die Informatik\nOrt: SR 13\n\nhttps://lfuonline.uibk.ac.at/public/lfuonline_lv.details?sem_id_in=10W&lvnr_id_in=703002\n
CLASS:PUBLIC
DTSTART:20101025T061500Z
DTEND:20101025T080000Z
DTSTAMP:20260423T080753Z
LOCATION:SR 13
END:VEVENT
BEGIN:VEVENT
UID:10W_703002_1432395@uibk.ac.at
ORGANIZER;CN="LFU:online Universität Innsbruck":MAILTO:Uni-Innsbruck-noreply@uibk.ac.at
SUMMARY:Einführung in die Informatik (LV 703002-2 10W)
DESCRIPTION:Lehrveranstaltung 703002 10W, Gruppe 2\nTitel: Einführung in die Informatik\nOrt: SR 13\n\nhttps://lfuonline.uibk.ac.at/public/lfuonline_lv.details?sem_id_in=10W&lvnr_id_in=703002\n
CLASS:PUBLIC
DTSTART:20101108T071500Z
DTEND:20101108T090000Z
DTSTAMP:20260423T080753Z
LOCATION:SR 13
END:VEVENT
BEGIN:VEVENT
UID:10W_703002_1432396@uibk.ac.at
ORGANIZER;CN="LFU:online Universität Innsbruck":MAILTO:Uni-Innsbruck-noreply@uibk.ac.at
SUMMARY:Einführung in die Informatik (LV 703002-2 10W)
DESCRIPTION:Lehrveranstaltung 703002 10W, Gruppe 2\nTitel: Einführung in die Informatik\nOrt: SR 13\n\nhttps://lfuonline.uibk.ac.at/public/lfuonline_lv.details?sem_id_in=10W&lvnr_id_in=703002\n
CLASS:PUBLIC
DTSTART:20101115T071500Z
DTEND:20101115T090000Z
DTSTAMP:20260423T080753Z
LOCATION:SR 13
END:VEVENT
BEGIN:VEVENT
UID:10W_703002_1432397@uibk.ac.at
ORGANIZER;CN="LFU:online Universität Innsbruck":MAILTO:Uni-Innsbruck-noreply@uibk.ac.at
SUMMARY:Einführung in die Informatik (LV 703002-2 10W)
DESCRIPTION:Lehrveranstaltung 703002 10W, Gruppe 2\nTitel: Einführung in die Informatik\nOrt: SR 13\n\nhttps://lfuonline.uibk.ac.at/public/lfuonline_lv.details?sem_id_in=10W&lvnr_id_in=703002\n
CLASS:PUBLIC
DTSTART:20101122T071500Z
DTEND:20101122T090000Z
DTSTAMP:20260423T080753Z
LOCATION:SR 13
END:VEVENT
BEGIN:VEVENT
UID:10W_703002_1432398@uibk.ac.at
ORGANIZER;CN="LFU:online Universität Innsbruck":MAILTO:Uni-Innsbruck-noreply@uibk.ac.at
SUMMARY:Einführung in die Informatik (LV 703002-2 10W)
DESCRIPTION:Lehrveranstaltung 703002 10W, Gruppe 2\nTitel: Einführung in die Informatik\nOrt: SR 13\n\nhttps://lfuonline.uibk.ac.at/public/lfuonline_lv.details?sem_id_in=10W&lvnr_id_in=703002\n
CLASS:PUBLIC
DTSTART:20101129T071500Z
DTEND:20101129T090000Z
DTSTAMP:20260423T080753Z
LOCATION:SR 13
END:VEVENT
BEGIN:VEVENT
UID:10W_703002_1432399@uibk.ac.at
ORGANIZER;CN="LFU:online Universität Innsbruck":MAILTO:Uni-Innsbruck-noreply@uibk.ac.at
SUMMARY:Einführung in die Informatik (LV 703002-2 10W)
DESCRIPTION:Lehrveranstaltung 703002 10W, Gruppe 2\nTitel: Einführung in die Informatik\nOrt: SR 13\n\nhttps://lfuonline.uibk.ac.at/public/lfuonline_lv.details?sem_id_in=10W&lvnr_id_in=703002\n
CLASS:PUBLIC
DTSTART:20101206T071500Z
DTEND:20101206T090000Z
DTSTAMP:20260423T080753Z
LOCATION:SR 13
END:VEVENT
BEGIN:VEVENT
UID:10W_703002_1432400@uibk.ac.at
ORGANIZER;CN="LFU:online Universität Innsbruck":MAILTO:Uni-Innsbruck-noreply@uibk.ac.at
SUMMARY:Einführung in die Informatik (LV 703002-2 10W)
DESCRIPTION:Lehrveranstaltung 703002 10W, Gruppe 2\nTitel: Einführung in die Informatik\nOrt: SR 13\n\nhttps://lfuonline.uibk.ac.at/public/lfuonline_lv.details?sem_id_in=10W&lvnr_id_in=703002\n
CLASS:PUBLIC
DTSTART:20101213T071500Z
DTEND:20101213T090000Z
DTSTAMP:20260423T080753Z
LOCATION:SR 13
END:VEVENT
BEGIN:VEVENT
UID:10W_703002_1432401@uibk.ac.at
ORGANIZER;CN="LFU:online Universität Innsbruck":MAILTO:Uni-Innsbruck-noreply@uibk.ac.at
SUMMARY:Einführung in die Informatik (LV 703002-2 10W)
DESCRIPTION:Lehrveranstaltung 703002 10W, Gruppe 2\nTitel: Einführung in die Informatik\nOrt: SR 13\n\nhttps://lfuonline.uibk.ac.at/public/lfuonline_lv.details?sem_id_in=10W&lvnr_id_in=703002\n
CLASS:PUBLIC
DTSTART:20110110T071500Z
DTEND:20110110T090000Z
DTSTAMP:20260423T080753Z
LOCATION:SR 13
END:VEVENT
BEGIN:VEVENT
UID:10W_703002_1432402@uibk.ac.at
ORGANIZER;CN="LFU:online Universität Innsbruck":MAILTO:Uni-Innsbruck-noreply@uibk.ac.at
SUMMARY:Einführung in die Informatik (LV 703002-2 10W)
DESCRIPTION:Lehrveranstaltung 703002 10W, Gruppe 2\nTitel: Einführung in die Informatik\nOrt: SR 13\n\nhttps://lfuonline.uibk.ac.at/public/lfuonline_lv.details?sem_id_in=10W&lvnr_id_in=703002\n
CLASS:PUBLIC
DTSTART:20110117T071500Z
DTEND:20110117T090000Z
DTSTAMP:20260423T080753Z
LOCATION:SR 13
END:VEVENT
BEGIN:VEVENT
UID:10W_703002_1432403@uibk.ac.at
ORGANIZER;CN="LFU:online Universität Innsbruck":MAILTO:Uni-Innsbruck-noreply@uibk.ac.at
SUMMARY:Einführung in die Informatik (LV 703002-2 10W)
DESCRIPTION:Lehrveranstaltung 703002 10W, Gruppe 2\nTitel: Einführung in die Informatik\nOrt: SR 13\n\nhttps://lfuonline.uibk.ac.at/public/lfuonline_lv.details?sem_id_in=10W&lvnr_id_in=703002\n
CLASS:PUBLIC
DTSTART:20110124T071500Z
DTEND:20110124T090000Z
DTSTAMP:20260423T080753Z
LOCATION:SR 13
END:VEVENT
BEGIN:VEVENT
UID:10W_703002_1432404@uibk.ac.at
ORGANIZER;CN="LFU:online Universität Innsbruck":MAILTO:Uni-Innsbruck-noreply@uibk.ac.at
SUMMARY:Einführung in die Informatik (LV 703002-2 10W)
DESCRIPTION:Lehrveranstaltung 703002 10W, Gruppe 2\nTitel: Einführung in die Informatik\nOrt: SR 13\n\nhttps://lfuonline.uibk.ac.at/public/lfuonline_lv.details?sem_id_in=10W&lvnr_id_in=703002\n
CLASS:PUBLIC
DTSTART:20110131T071500Z
DTEND:20110131T090000Z
DTSTAMP:20260423T080753Z
LOCATION:SR 13
END:VEVENT
END:VCALENDAR