BEGIN:VCALENDAR
VERSION:2.0
PRODID:-//Universität Innsbruck//LFU:online//DE
METHOD:PUBLISH
BEGIN:VEVENT
UID:10W_703016_1433027@uibk.ac.at
ORGANIZER;CN="LFU:online Universität Innsbruck":MAILTO:Uni-Innsbruck-noreply@uibk.ac.at
SUMMARY:Entwurf von Softwaresystemen (LV 703016-2 10W)
DESCRIPTION:Lehrveranstaltung 703016 10W, Gruppe 2\nTitel: Entwurf von Softwaresystemen\nOrt: rr 22\n\nhttps://lfuonline.uibk.ac.at/public/lfuonline_lv.details?sem_id_in=10W&lvnr_id_in=703016\n
CLASS:PUBLIC
DTSTART:20101012T071500Z
DTEND:20101012T080000Z
DTSTAMP:20260423T161711Z
LOCATION:rr 22
END:VEVENT
BEGIN:VEVENT
UID:10W_703016_1433029@uibk.ac.at
ORGANIZER;CN="LFU:online Universität Innsbruck":MAILTO:Uni-Innsbruck-noreply@uibk.ac.at
SUMMARY:Entwurf von Softwaresystemen (LV 703016-2 10W)
DESCRIPTION:Lehrveranstaltung 703016 10W, Gruppe 2\nTitel: Entwurf von Softwaresystemen\nOrt: rr 22\n\nhttps://lfuonline.uibk.ac.at/public/lfuonline_lv.details?sem_id_in=10W&lvnr_id_in=703016\n
CLASS:PUBLIC
DTSTART:20101109T081500Z
DTEND:20101109T090000Z
DTSTAMP:20260423T161711Z
LOCATION:rr 22
END:VEVENT
BEGIN:VEVENT
UID:10W_703016_1433030@uibk.ac.at
ORGANIZER;CN="LFU:online Universität Innsbruck":MAILTO:Uni-Innsbruck-noreply@uibk.ac.at
SUMMARY:Entwurf von Softwaresystemen (LV 703016-2 10W)
DESCRIPTION:Lehrveranstaltung 703016 10W, Gruppe 2\nTitel: Entwurf von Softwaresystemen\nOrt: rr 22\n\nhttps://lfuonline.uibk.ac.at/public/lfuonline_lv.details?sem_id_in=10W&lvnr_id_in=703016\n
CLASS:PUBLIC
DTSTART:20101116T081500Z
DTEND:20101116T090000Z
DTSTAMP:20260423T161711Z
LOCATION:rr 22
END:VEVENT
BEGIN:VEVENT
UID:10W_703016_1433031@uibk.ac.at
ORGANIZER;CN="LFU:online Universität Innsbruck":MAILTO:Uni-Innsbruck-noreply@uibk.ac.at
SUMMARY:Entwurf von Softwaresystemen (LV 703016-2 10W)
DESCRIPTION:Lehrveranstaltung 703016 10W, Gruppe 2\nTitel: Entwurf von Softwaresystemen\nOrt: rr 22\n\nhttps://lfuonline.uibk.ac.at/public/lfuonline_lv.details?sem_id_in=10W&lvnr_id_in=703016\n
CLASS:PUBLIC
DTSTART:20101123T081500Z
DTEND:20101123T090000Z
DTSTAMP:20260423T161711Z
LOCATION:rr 22
END:VEVENT
BEGIN:VEVENT
UID:10W_703016_1433032@uibk.ac.at
ORGANIZER;CN="LFU:online Universität Innsbruck":MAILTO:Uni-Innsbruck-noreply@uibk.ac.at
SUMMARY:Entwurf von Softwaresystemen (LV 703016-2 10W)
DESCRIPTION:Lehrveranstaltung 703016 10W, Gruppe 2\nTitel: Entwurf von Softwaresystemen\nOrt: rr 22\n\nhttps://lfuonline.uibk.ac.at/public/lfuonline_lv.details?sem_id_in=10W&lvnr_id_in=703016\n
CLASS:PUBLIC
DTSTART:20101130T081500Z
DTEND:20101130T090000Z
DTSTAMP:20260423T161711Z
LOCATION:rr 22
END:VEVENT
BEGIN:VEVENT
UID:10W_703016_1433033@uibk.ac.at
ORGANIZER;CN="LFU:online Universität Innsbruck":MAILTO:Uni-Innsbruck-noreply@uibk.ac.at
SUMMARY:Entwurf von Softwaresystemen (LV 703016-2 10W)
DESCRIPTION:Lehrveranstaltung 703016 10W, Gruppe 2\nTitel: Entwurf von Softwaresystemen\nOrt: rr 22\n\nhttps://lfuonline.uibk.ac.at/public/lfuonline_lv.details?sem_id_in=10W&lvnr_id_in=703016\n
CLASS:PUBLIC
DTSTART:20101207T081500Z
DTEND:20101207T090000Z
DTSTAMP:20260423T161711Z
LOCATION:rr 22
END:VEVENT
BEGIN:VEVENT
UID:10W_703016_1433034@uibk.ac.at
ORGANIZER;CN="LFU:online Universität Innsbruck":MAILTO:Uni-Innsbruck-noreply@uibk.ac.at
SUMMARY:Entwurf von Softwaresystemen (LV 703016-2 10W)
DESCRIPTION:Lehrveranstaltung 703016 10W, Gruppe 2\nTitel: Entwurf von Softwaresystemen\nOrt: rr 22\n\nhttps://lfuonline.uibk.ac.at/public/lfuonline_lv.details?sem_id_in=10W&lvnr_id_in=703016\n
CLASS:PUBLIC
DTSTART:20101214T081500Z
DTEND:20101214T090000Z
DTSTAMP:20260423T161711Z
LOCATION:rr 22
END:VEVENT
BEGIN:VEVENT
UID:10W_703016_1433035@uibk.ac.at
ORGANIZER;CN="LFU:online Universität Innsbruck":MAILTO:Uni-Innsbruck-noreply@uibk.ac.at
SUMMARY:Entwurf von Softwaresystemen (LV 703016-2 10W)
DESCRIPTION:Lehrveranstaltung 703016 10W, Gruppe 2\nTitel: Entwurf von Softwaresystemen\nOrt: rr 22\n\nhttps://lfuonline.uibk.ac.at/public/lfuonline_lv.details?sem_id_in=10W&lvnr_id_in=703016\n
CLASS:PUBLIC
DTSTART:20110111T081500Z
DTEND:20110111T090000Z
DTSTAMP:20260423T161711Z
LOCATION:rr 22
END:VEVENT
BEGIN:VEVENT
UID:10W_703016_1433036@uibk.ac.at
ORGANIZER;CN="LFU:online Universität Innsbruck":MAILTO:Uni-Innsbruck-noreply@uibk.ac.at
SUMMARY:Entwurf von Softwaresystemen (LV 703016-2 10W)
DESCRIPTION:Lehrveranstaltung 703016 10W, Gruppe 2\nTitel: Entwurf von Softwaresystemen\nOrt: rr 22\n\nhttps://lfuonline.uibk.ac.at/public/lfuonline_lv.details?sem_id_in=10W&lvnr_id_in=703016\n
CLASS:PUBLIC
DTSTART:20110118T081500Z
DTEND:20110118T090000Z
DTSTAMP:20260423T161711Z
LOCATION:rr 22
END:VEVENT
BEGIN:VEVENT
UID:10W_703016_1433037@uibk.ac.at
ORGANIZER;CN="LFU:online Universität Innsbruck":MAILTO:Uni-Innsbruck-noreply@uibk.ac.at
SUMMARY:Entwurf von Softwaresystemen (LV 703016-2 10W)
DESCRIPTION:Lehrveranstaltung 703016 10W, Gruppe 2\nTitel: Entwurf von Softwaresystemen\nOrt: rr 22\n\nhttps://lfuonline.uibk.ac.at/public/lfuonline_lv.details?sem_id_in=10W&lvnr_id_in=703016\n
CLASS:PUBLIC
DTSTART:20110125T081500Z
DTEND:20110125T090000Z
DTSTAMP:20260423T161711Z
LOCATION:rr 22
END:VEVENT
BEGIN:VEVENT
UID:10W_703016_1433038@uibk.ac.at
ORGANIZER;CN="LFU:online Universität Innsbruck":MAILTO:Uni-Innsbruck-noreply@uibk.ac.at
SUMMARY:Entwurf von Softwaresystemen (LV 703016-2 10W)
DESCRIPTION:Lehrveranstaltung 703016 10W, Gruppe 2\nTitel: Entwurf von Softwaresystemen\nOrt: rr 22\n\nhttps://lfuonline.uibk.ac.at/public/lfuonline_lv.details?sem_id_in=10W&lvnr_id_in=703016\n
CLASS:PUBLIC
DTSTART:20110201T081500Z
DTEND:20110201T090000Z
DTSTAMP:20260423T161711Z
LOCATION:rr 22
END:VEVENT
END:VCALENDAR