BEGIN:VCALENDAR
VERSION:2.0
PRODID:-//Universität Innsbruck//LFU:online//DE
METHOD:PUBLISH
BEGIN:VEVENT
UID:18W_703025_3153229@uibk.ac.at
ORGANIZER;CN="LFU:online Universität Innsbruck":MAILTO:Uni-Innsbruck-noreply@uibk.ac.at
SUMMARY:PS Funktionale Programmierung (LV 703025-2 18W)
DESCRIPTION:Lehrveranstaltung 703025 18W, Gruppe 2\nTitel: PS Funktionale Programmierung\nOrt: HS 11\n\nhttps://lfuonline.uibk.ac.at/public/lfuonline_lv.details?sem_id_in=18W&lvnr_id_in=703025\n
CLASS:PUBLIC
DTSTART:20181012T071500Z
DTEND:20181012T080000Z
DTSTAMP:20260419T121612Z
LOCATION:HS 11
END:VEVENT
BEGIN:VEVENT
UID:18W_703025_3153230@uibk.ac.at
ORGANIZER;CN="LFU:online Universität Innsbruck":MAILTO:Uni-Innsbruck-noreply@uibk.ac.at
SUMMARY:PS Funktionale Programmierung (LV 703025-2 18W)
DESCRIPTION:Lehrveranstaltung 703025 18W, Gruppe 2\nTitel: PS Funktionale Programmierung\nOrt: HS 11\n\nhttps://lfuonline.uibk.ac.at/public/lfuonline_lv.details?sem_id_in=18W&lvnr_id_in=703025\n
CLASS:PUBLIC
DTSTART:20181109T081500Z
DTEND:20181109T090000Z
DTSTAMP:20260419T121612Z
LOCATION:HS 11
END:VEVENT
BEGIN:VEVENT
UID:18W_703025_3153231@uibk.ac.at
ORGANIZER;CN="LFU:online Universität Innsbruck":MAILTO:Uni-Innsbruck-noreply@uibk.ac.at
SUMMARY:PS Funktionale Programmierung (LV 703025-2 18W)
DESCRIPTION:Lehrveranstaltung 703025 18W, Gruppe 2\nTitel: PS Funktionale Programmierung\nOrt: HS 11\n\nhttps://lfuonline.uibk.ac.at/public/lfuonline_lv.details?sem_id_in=18W&lvnr_id_in=703025\n
CLASS:PUBLIC
DTSTART:20181116T081500Z
DTEND:20181116T090000Z
DTSTAMP:20260419T121612Z
LOCATION:HS 11
END:VEVENT
BEGIN:VEVENT
UID:18W_703025_3153232@uibk.ac.at
ORGANIZER;CN="LFU:online Universität Innsbruck":MAILTO:Uni-Innsbruck-noreply@uibk.ac.at
SUMMARY:PS Funktionale Programmierung (LV 703025-2 18W)
DESCRIPTION:Lehrveranstaltung 703025 18W, Gruppe 2\nTitel: PS Funktionale Programmierung\nOrt: HS 11\n\nhttps://lfuonline.uibk.ac.at/public/lfuonline_lv.details?sem_id_in=18W&lvnr_id_in=703025\n
CLASS:PUBLIC
DTSTART:20181123T081500Z
DTEND:20181123T090000Z
DTSTAMP:20260419T121612Z
LOCATION:HS 11
END:VEVENT
BEGIN:VEVENT
UID:18W_703025_3153233@uibk.ac.at
ORGANIZER;CN="LFU:online Universität Innsbruck":MAILTO:Uni-Innsbruck-noreply@uibk.ac.at
SUMMARY:PS Funktionale Programmierung (LV 703025-2 18W)
DESCRIPTION:Lehrveranstaltung 703025 18W, Gruppe 2\nTitel: PS Funktionale Programmierung\nOrt: HS 11\n\nhttps://lfuonline.uibk.ac.at/public/lfuonline_lv.details?sem_id_in=18W&lvnr_id_in=703025\n
CLASS:PUBLIC
DTSTART:20181130T081500Z
DTEND:20181130T090000Z
DTSTAMP:20260419T121612Z
LOCATION:HS 11
END:VEVENT
BEGIN:VEVENT
UID:18W_703025_3153234@uibk.ac.at
ORGANIZER;CN="LFU:online Universität Innsbruck":MAILTO:Uni-Innsbruck-noreply@uibk.ac.at
SUMMARY:PS Funktionale Programmierung (LV 703025-2 18W)
DESCRIPTION:Lehrveranstaltung 703025 18W, Gruppe 2\nTitel: PS Funktionale Programmierung\nOrt: HS 11\n\nhttps://lfuonline.uibk.ac.at/public/lfuonline_lv.details?sem_id_in=18W&lvnr_id_in=703025\n
CLASS:PUBLIC
DTSTART:20181207T081500Z
DTEND:20181207T090000Z
DTSTAMP:20260419T121612Z
LOCATION:HS 11
END:VEVENT
BEGIN:VEVENT
UID:18W_703025_3153235@uibk.ac.at
ORGANIZER;CN="LFU:online Universität Innsbruck":MAILTO:Uni-Innsbruck-noreply@uibk.ac.at
SUMMARY:PS Funktionale Programmierung (LV 703025-2 18W)
DESCRIPTION:Lehrveranstaltung 703025 18W, Gruppe 2\nTitel: PS Funktionale Programmierung\nOrt: HS 11\n\nhttps://lfuonline.uibk.ac.at/public/lfuonline_lv.details?sem_id_in=18W&lvnr_id_in=703025\n
CLASS:PUBLIC
DTSTART:20181214T081500Z
DTEND:20181214T090000Z
DTSTAMP:20260419T121612Z
LOCATION:HS 11
END:VEVENT
BEGIN:VEVENT
UID:18W_703025_3153236@uibk.ac.at
ORGANIZER;CN="LFU:online Universität Innsbruck":MAILTO:Uni-Innsbruck-noreply@uibk.ac.at
SUMMARY:PS Funktionale Programmierung (LV 703025-2 18W)
DESCRIPTION:Lehrveranstaltung 703025 18W, Gruppe 2\nTitel: PS Funktionale Programmierung\nOrt: HS 11\n\nhttps://lfuonline.uibk.ac.at/public/lfuonline_lv.details?sem_id_in=18W&lvnr_id_in=703025\n
CLASS:PUBLIC
DTSTART:20190111T081500Z
DTEND:20190111T090000Z
DTSTAMP:20260419T121612Z
LOCATION:HS 11
END:VEVENT
BEGIN:VEVENT
UID:18W_703025_3153237@uibk.ac.at
ORGANIZER;CN="LFU:online Universität Innsbruck":MAILTO:Uni-Innsbruck-noreply@uibk.ac.at
SUMMARY:PS Funktionale Programmierung (LV 703025-2 18W)
DESCRIPTION:Lehrveranstaltung 703025 18W, Gruppe 2\nTitel: PS Funktionale Programmierung\nOrt: HS 11\n\nhttps://lfuonline.uibk.ac.at/public/lfuonline_lv.details?sem_id_in=18W&lvnr_id_in=703025\n
CLASS:PUBLIC
DTSTART:20190118T081500Z
DTEND:20190118T090000Z
DTSTAMP:20260419T121612Z
LOCATION:HS 11
END:VEVENT
BEGIN:VEVENT
UID:18W_703025_3153238@uibk.ac.at
ORGANIZER;CN="LFU:online Universität Innsbruck":MAILTO:Uni-Innsbruck-noreply@uibk.ac.at
SUMMARY:PS Funktionale Programmierung (LV 703025-2 18W)
DESCRIPTION:Lehrveranstaltung 703025 18W, Gruppe 2\nTitel: PS Funktionale Programmierung\nOrt: HS 11\n\nhttps://lfuonline.uibk.ac.at/public/lfuonline_lv.details?sem_id_in=18W&lvnr_id_in=703025\n
CLASS:PUBLIC
DTSTART:20190125T081500Z
DTEND:20190125T090000Z
DTSTAMP:20260419T121612Z
LOCATION:HS 11
END:VEVENT
BEGIN:VEVENT
UID:18W_703025_3153239@uibk.ac.at
ORGANIZER;CN="LFU:online Universität Innsbruck":MAILTO:Uni-Innsbruck-noreply@uibk.ac.at
SUMMARY:PS Funktionale Programmierung (LV 703025-2 18W)
DESCRIPTION:Lehrveranstaltung 703025 18W, Gruppe 2\nTitel: PS Funktionale Programmierung\nOrt: HS 11\n\nhttps://lfuonline.uibk.ac.at/public/lfuonline_lv.details?sem_id_in=18W&lvnr_id_in=703025\n
CLASS:PUBLIC
DTSTART:20190201T081500Z
DTEND:20190201T090000Z
DTSTAMP:20260419T121612Z
LOCATION:HS 11
END:VEVENT
END:VCALENDAR