BEGIN:VCALENDAR
VERSION:2.0
PRODID:-//Universität Innsbruck//LFU:online//DE
METHOD:PUBLISH
BEGIN:VEVENT
UID:26S_703073_4976644@uibk.ac.at
ORGANIZER;CN="LFU:online Universität Innsbruck":MAILTO:Uni-Innsbruck-noreply@uibk.ac.at
SUMMARY:VU Einführung in das wissenschaftliche Arbeiten (LV 703073-2 26S)
DESCRIPTION:Lehrveranstaltung 703073 26S, Gruppe 2\nTitel: VU Einführung in das wissenschaftliche Arbeiten\nOrt: HS 11\n\nhttps://lfuonline.uibk.ac.at/public/lfuonline_lv.details?sem_id_in=26S&lvnr_id_in=703073\n
CLASS:PUBLIC
DTSTART:20260305T073000Z
DTEND:20260305T090000Z
DTSTAMP:20260423T014400Z
LOCATION:HS 11
END:VEVENT
BEGIN:VEVENT
UID:26S_703073_4976645@uibk.ac.at
ORGANIZER;CN="LFU:online Universität Innsbruck":MAILTO:Uni-Innsbruck-noreply@uibk.ac.at
SUMMARY:VU Einführung in das wissenschaftliche Arbeiten (LV 703073-2 26S)
DESCRIPTION:Lehrveranstaltung 703073 26S, Gruppe 2\nTitel: VU Einführung in das wissenschaftliche Arbeiten\nOrt: HS 11\n\nhttps://lfuonline.uibk.ac.at/public/lfuonline_lv.details?sem_id_in=26S&lvnr_id_in=703073\n
CLASS:PUBLIC
DTSTART:20260312T073000Z
DTEND:20260312T090000Z
DTSTAMP:20260423T014400Z
LOCATION:HS 11
END:VEVENT
BEGIN:VEVENT
UID:26S_703073_4976646@uibk.ac.at
ORGANIZER;CN="LFU:online Universität Innsbruck":MAILTO:Uni-Innsbruck-noreply@uibk.ac.at
SUMMARY:VU Einführung in das wissenschaftliche Arbeiten (LV 703073-2 26S)
DESCRIPTION:Lehrveranstaltung 703073 26S, Gruppe 2\nTitel: VU Einführung in das wissenschaftliche Arbeiten\nOrt: HS 11\n\nhttps://lfuonline.uibk.ac.at/public/lfuonline_lv.details?sem_id_in=26S&lvnr_id_in=703073\n
CLASS:PUBLIC
DTSTART:20260319T073000Z
DTEND:20260319T090000Z
DTSTAMP:20260423T014400Z
LOCATION:HS 11
END:VEVENT
BEGIN:VEVENT
UID:26S_703073_4976647@uibk.ac.at
ORGANIZER;CN="LFU:online Universität Innsbruck":MAILTO:Uni-Innsbruck-noreply@uibk.ac.at
SUMMARY:VU Einführung in das wissenschaftliche Arbeiten (LV 703073-2 26S)
DESCRIPTION:Lehrveranstaltung 703073 26S, Gruppe 2\nTitel: VU Einführung in das wissenschaftliche Arbeiten\nOrt: HS 11\n\nhttps://lfuonline.uibk.ac.at/public/lfuonline_lv.details?sem_id_in=26S&lvnr_id_in=703073\n
CLASS:PUBLIC
DTSTART:20260326T073000Z
DTEND:20260326T090000Z
DTSTAMP:20260423T014400Z
LOCATION:HS 11
END:VEVENT
BEGIN:VEVENT
UID:26S_703073_4976648@uibk.ac.at
ORGANIZER;CN="LFU:online Universität Innsbruck":MAILTO:Uni-Innsbruck-noreply@uibk.ac.at
SUMMARY:VU Einführung in das wissenschaftliche Arbeiten (LV 703073-2 26S)
DESCRIPTION:Lehrveranstaltung 703073 26S, Gruppe 2\nTitel: VU Einführung in das wissenschaftliche Arbeiten\nOrt: HS 11\n\nhttps://lfuonline.uibk.ac.at/public/lfuonline_lv.details?sem_id_in=26S&lvnr_id_in=703073\n
CLASS:PUBLIC
DTSTART:20260416T063000Z
DTEND:20260416T080000Z
DTSTAMP:20260423T014400Z
LOCATION:HS 11
END:VEVENT
BEGIN:VEVENT
UID:26S_703073_4976649@uibk.ac.at
ORGANIZER;CN="LFU:online Universität Innsbruck":MAILTO:Uni-Innsbruck-noreply@uibk.ac.at
SUMMARY:VU Einführung in das wissenschaftliche Arbeiten (LV 703073-2 26S)
DESCRIPTION:Lehrveranstaltung 703073 26S, Gruppe 2\nTitel: VU Einführung in das wissenschaftliche Arbeiten\nOrt: HS 11\n\nhttps://lfuonline.uibk.ac.at/public/lfuonline_lv.details?sem_id_in=26S&lvnr_id_in=703073\n
CLASS:PUBLIC
DTSTART:20260423T063000Z
DTEND:20260423T080000Z
DTSTAMP:20260423T014400Z
LOCATION:HS 11
END:VEVENT
BEGIN:VEVENT
UID:26S_703073_4976650@uibk.ac.at
ORGANIZER;CN="LFU:online Universität Innsbruck":MAILTO:Uni-Innsbruck-noreply@uibk.ac.at
SUMMARY:VU Einführung in das wissenschaftliche Arbeiten (LV 703073-2 26S)
DESCRIPTION:Lehrveranstaltung 703073 26S, Gruppe 2\nTitel: VU Einführung in das wissenschaftliche Arbeiten\nOrt: HS 11\n\nhttps://lfuonline.uibk.ac.at/public/lfuonline_lv.details?sem_id_in=26S&lvnr_id_in=703073\n
CLASS:PUBLIC
DTSTART:20260430T063000Z
DTEND:20260430T080000Z
DTSTAMP:20260423T014400Z
LOCATION:HS 11
END:VEVENT
BEGIN:VEVENT
UID:26S_703073_4976651@uibk.ac.at
ORGANIZER;CN="LFU:online Universität Innsbruck":MAILTO:Uni-Innsbruck-noreply@uibk.ac.at
SUMMARY:VU Einführung in das wissenschaftliche Arbeiten (LV 703073-2 26S)
DESCRIPTION:Lehrveranstaltung 703073 26S, Gruppe 2\nTitel: VU Einführung in das wissenschaftliche Arbeiten\nOrt: HS 11\n\nhttps://lfuonline.uibk.ac.at/public/lfuonline_lv.details?sem_id_in=26S&lvnr_id_in=703073\n
CLASS:PUBLIC
DTSTART:20260507T063000Z
DTEND:20260507T080000Z
DTSTAMP:20260423T014400Z
LOCATION:HS 11
END:VEVENT
BEGIN:VEVENT
UID:26S_703073_4976652@uibk.ac.at
ORGANIZER;CN="LFU:online Universität Innsbruck":MAILTO:Uni-Innsbruck-noreply@uibk.ac.at
SUMMARY:VU Einführung in das wissenschaftliche Arbeiten (LV 703073-2 26S)
DESCRIPTION:Lehrveranstaltung 703073 26S, Gruppe 2\nTitel: VU Einführung in das wissenschaftliche Arbeiten\nOrt: HS 11\n\nhttps://lfuonline.uibk.ac.at/public/lfuonline_lv.details?sem_id_in=26S&lvnr_id_in=703073\n
CLASS:PUBLIC
DTSTART:20260521T063000Z
DTEND:20260521T080000Z
DTSTAMP:20260423T014400Z
LOCATION:HS 11
END:VEVENT
BEGIN:VEVENT
UID:26S_703073_4976653@uibk.ac.at
ORGANIZER;CN="LFU:online Universität Innsbruck":MAILTO:Uni-Innsbruck-noreply@uibk.ac.at
SUMMARY:VU Einführung in das wissenschaftliche Arbeiten (LV 703073-2 26S)
DESCRIPTION:Lehrveranstaltung 703073 26S, Gruppe 2\nTitel: VU Einführung in das wissenschaftliche Arbeiten\nOrt: HS 11\n\nhttps://lfuonline.uibk.ac.at/public/lfuonline_lv.details?sem_id_in=26S&lvnr_id_in=703073\n
CLASS:PUBLIC
DTSTART:20260528T063000Z
DTEND:20260528T080000Z
DTSTAMP:20260423T014400Z
LOCATION:HS 11
END:VEVENT
BEGIN:VEVENT
UID:26S_703073_4976654@uibk.ac.at
ORGANIZER;CN="LFU:online Universität Innsbruck":MAILTO:Uni-Innsbruck-noreply@uibk.ac.at
SUMMARY:VU Einführung in das wissenschaftliche Arbeiten (LV 703073-2 26S)
DESCRIPTION:Lehrveranstaltung 703073 26S, Gruppe 2\nTitel: VU Einführung in das wissenschaftliche Arbeiten\nOrt: HS 11\n\nhttps://lfuonline.uibk.ac.at/public/lfuonline_lv.details?sem_id_in=26S&lvnr_id_in=703073\n
CLASS:PUBLIC
DTSTART:20260611T063000Z
DTEND:20260611T080000Z
DTSTAMP:20260423T014400Z
LOCATION:HS 11
END:VEVENT
BEGIN:VEVENT
UID:26S_703073_4976655@uibk.ac.at
ORGANIZER;CN="LFU:online Universität Innsbruck":MAILTO:Uni-Innsbruck-noreply@uibk.ac.at
SUMMARY:VU Einführung in das wissenschaftliche Arbeiten (LV 703073-2 26S)
DESCRIPTION:Lehrveranstaltung 703073 26S, Gruppe 2\nTitel: VU Einführung in das wissenschaftliche Arbeiten\nOrt: HS 11\n\nhttps://lfuonline.uibk.ac.at/public/lfuonline_lv.details?sem_id_in=26S&lvnr_id_in=703073\n
CLASS:PUBLIC
DTSTART:20260618T063000Z
DTEND:20260618T080000Z
DTSTAMP:20260423T014400Z
LOCATION:HS 11
END:VEVENT
BEGIN:VEVENT
UID:26S_703073_4976656@uibk.ac.at
ORGANIZER;CN="LFU:online Universität Innsbruck":MAILTO:Uni-Innsbruck-noreply@uibk.ac.at
SUMMARY:VU Einführung in das wissenschaftliche Arbeiten (LV 703073-2 26S)
DESCRIPTION:Lehrveranstaltung 703073 26S, Gruppe 2\nTitel: VU Einführung in das wissenschaftliche Arbeiten\nOrt: HS 11\n\nhttps://lfuonline.uibk.ac.at/public/lfuonline_lv.details?sem_id_in=26S&lvnr_id_in=703073\n
CLASS:PUBLIC
DTSTART:20260625T063000Z
DTEND:20260625T080000Z
DTSTAMP:20260423T014400Z
LOCATION:HS 11
END:VEVENT
END:VCALENDAR