BEGIN:VCALENDAR
VERSION:2.0
PRODID:-//Universität Innsbruck//LFU:online//DE
METHOD:PUBLISH
BEGIN:VEVENT
UID:20S_703076_3510174@uibk.ac.at
ORGANIZER;CN="LFU:online Universität Innsbruck":MAILTO:Uni-Innsbruck-noreply@uibk.ac.at
SUMMARY:PS Maschinelles Lernen (LV 703076-2 20S)
DESCRIPTION:Lehrveranstaltung 703076 20S, Gruppe 2\nTitel: PS Maschinelles Lernen\nOrt: rr 20\n\nhttps://lfuonline.uibk.ac.at/public/lfuonline_lv.details?sem_id_in=20S&lvnr_id_in=703076\n
CLASS:PUBLIC
DTSTART:20200306T111500Z
DTEND:20200306T130000Z
DTSTAMP:20260419T123925Z
LOCATION:rr 20
END:VEVENT
BEGIN:VEVENT
UID:20S_703076_3510175@uibk.ac.at
ORGANIZER;CN="LFU:online Universität Innsbruck":MAILTO:Uni-Innsbruck-noreply@uibk.ac.at
SUMMARY:PS Maschinelles Lernen (LV 703076-2 20S)
DESCRIPTION:Lehrveranstaltung 703076 20S, Gruppe 2\nTitel: PS Maschinelles Lernen\nOrt: rr 20\n\nhttps://lfuonline.uibk.ac.at/public/lfuonline_lv.details?sem_id_in=20S&lvnr_id_in=703076\n
CLASS:PUBLIC
DTSTART:20200313T111500Z
DTEND:20200313T130000Z
DTSTAMP:20260419T123925Z
LOCATION:rr 20
END:VEVENT
BEGIN:VEVENT
UID:20S_703076_3510176@uibk.ac.at
ORGANIZER;CN="LFU:online Universität Innsbruck":MAILTO:Uni-Innsbruck-noreply@uibk.ac.at
SUMMARY:PS Maschinelles Lernen (LV 703076-2 20S)
DESCRIPTION:Lehrveranstaltung 703076 20S, Gruppe 2\nTitel: PS Maschinelles Lernen\nOrt: rr 20\n\nhttps://lfuonline.uibk.ac.at/public/lfuonline_lv.details?sem_id_in=20S&lvnr_id_in=703076\n
CLASS:PUBLIC
DTSTART:20200320T111500Z
DTEND:20200320T130000Z
DTSTAMP:20260419T123925Z
LOCATION:rr 20
END:VEVENT
BEGIN:VEVENT
UID:20S_703076_3510177@uibk.ac.at
ORGANIZER;CN="LFU:online Universität Innsbruck":MAILTO:Uni-Innsbruck-noreply@uibk.ac.at
SUMMARY:PS Maschinelles Lernen (LV 703076-2 20S)
DESCRIPTION:Lehrveranstaltung 703076 20S, Gruppe 2\nTitel: PS Maschinelles Lernen\nOrt: rr 20\n\nhttps://lfuonline.uibk.ac.at/public/lfuonline_lv.details?sem_id_in=20S&lvnr_id_in=703076\n
CLASS:PUBLIC
DTSTART:20200327T111500Z
DTEND:20200327T130000Z
DTSTAMP:20260419T123925Z
LOCATION:rr 20
END:VEVENT
BEGIN:VEVENT
UID:20S_703076_3510178@uibk.ac.at
ORGANIZER;CN="LFU:online Universität Innsbruck":MAILTO:Uni-Innsbruck-noreply@uibk.ac.at
SUMMARY:PS Maschinelles Lernen (LV 703076-2 20S)
DESCRIPTION:Lehrveranstaltung 703076 20S, Gruppe 2\nTitel: PS Maschinelles Lernen\nOrt: rr 20\n\nhttps://lfuonline.uibk.ac.at/public/lfuonline_lv.details?sem_id_in=20S&lvnr_id_in=703076\n
CLASS:PUBLIC
DTSTART:20200403T101500Z
DTEND:20200403T120000Z
DTSTAMP:20260419T123925Z
LOCATION:rr 20
END:VEVENT
BEGIN:VEVENT
UID:20S_703076_3510179@uibk.ac.at
ORGANIZER;CN="LFU:online Universität Innsbruck":MAILTO:Uni-Innsbruck-noreply@uibk.ac.at
SUMMARY:PS Maschinelles Lernen (LV 703076-2 20S)
DESCRIPTION:Lehrveranstaltung 703076 20S, Gruppe 2\nTitel: PS Maschinelles Lernen\nOrt: rr 20\n\nhttps://lfuonline.uibk.ac.at/public/lfuonline_lv.details?sem_id_in=20S&lvnr_id_in=703076\n
CLASS:PUBLIC
DTSTART:20200424T101500Z
DTEND:20200424T120000Z
DTSTAMP:20260419T123925Z
LOCATION:rr 20
END:VEVENT
BEGIN:VEVENT
UID:20S_703076_3510180@uibk.ac.at
ORGANIZER;CN="LFU:online Universität Innsbruck":MAILTO:Uni-Innsbruck-noreply@uibk.ac.at
SUMMARY:PS Maschinelles Lernen (LV 703076-2 20S)
DESCRIPTION:Lehrveranstaltung 703076 20S, Gruppe 2\nTitel: PS Maschinelles Lernen\nOrt: rr 20\n\nhttps://lfuonline.uibk.ac.at/public/lfuonline_lv.details?sem_id_in=20S&lvnr_id_in=703076\n
CLASS:PUBLIC
DTSTART:20200508T101500Z
DTEND:20200508T120000Z
DTSTAMP:20260419T123925Z
LOCATION:rr 20
END:VEVENT
BEGIN:VEVENT
UID:20S_703076_3510181@uibk.ac.at
ORGANIZER;CN="LFU:online Universität Innsbruck":MAILTO:Uni-Innsbruck-noreply@uibk.ac.at
SUMMARY:PS Maschinelles Lernen (LV 703076-2 20S)
DESCRIPTION:Lehrveranstaltung 703076 20S, Gruppe 2\nTitel: PS Maschinelles Lernen\nOrt: rr 20\n\nhttps://lfuonline.uibk.ac.at/public/lfuonline_lv.details?sem_id_in=20S&lvnr_id_in=703076\n
CLASS:PUBLIC
DTSTART:20200515T101500Z
DTEND:20200515T120000Z
DTSTAMP:20260419T123925Z
LOCATION:rr 20
END:VEVENT
BEGIN:VEVENT
UID:20S_703076_3510182@uibk.ac.at
ORGANIZER;CN="LFU:online Universität Innsbruck":MAILTO:Uni-Innsbruck-noreply@uibk.ac.at
SUMMARY:PS Maschinelles Lernen (LV 703076-2 20S)
DESCRIPTION:Lehrveranstaltung 703076 20S, Gruppe 2\nTitel: PS Maschinelles Lernen\nOrt: rr 20\n\nhttps://lfuonline.uibk.ac.at/public/lfuonline_lv.details?sem_id_in=20S&lvnr_id_in=703076\n
CLASS:PUBLIC
DTSTART:20200522T101500Z
DTEND:20200522T120000Z
DTSTAMP:20260419T123925Z
LOCATION:rr 20
END:VEVENT
BEGIN:VEVENT
UID:20S_703076_3510183@uibk.ac.at
ORGANIZER;CN="LFU:online Universität Innsbruck":MAILTO:Uni-Innsbruck-noreply@uibk.ac.at
SUMMARY:PS Maschinelles Lernen (LV 703076-2 20S)
DESCRIPTION:Lehrveranstaltung 703076 20S, Gruppe 2\nTitel: PS Maschinelles Lernen\nOrt: rr 20\n\nhttps://lfuonline.uibk.ac.at/public/lfuonline_lv.details?sem_id_in=20S&lvnr_id_in=703076\n
CLASS:PUBLIC
DTSTART:20200529T101500Z
DTEND:20200529T120000Z
DTSTAMP:20260419T123925Z
LOCATION:rr 20
END:VEVENT
BEGIN:VEVENT
UID:20S_703076_3510184@uibk.ac.at
ORGANIZER;CN="LFU:online Universität Innsbruck":MAILTO:Uni-Innsbruck-noreply@uibk.ac.at
SUMMARY:PS Maschinelles Lernen (LV 703076-2 20S)
DESCRIPTION:Lehrveranstaltung 703076 20S, Gruppe 2\nTitel: PS Maschinelles Lernen\nOrt: rr 20\n\nhttps://lfuonline.uibk.ac.at/public/lfuonline_lv.details?sem_id_in=20S&lvnr_id_in=703076\n
CLASS:PUBLIC
DTSTART:20200605T101500Z
DTEND:20200605T120000Z
DTSTAMP:20260419T123925Z
LOCATION:rr 20
END:VEVENT
BEGIN:VEVENT
UID:20S_703076_3510185@uibk.ac.at
ORGANIZER;CN="LFU:online Universität Innsbruck":MAILTO:Uni-Innsbruck-noreply@uibk.ac.at
SUMMARY:PS Maschinelles Lernen (LV 703076-2 20S)
DESCRIPTION:Lehrveranstaltung 703076 20S, Gruppe 2\nTitel: PS Maschinelles Lernen\nOrt: rr 20\n\nhttps://lfuonline.uibk.ac.at/public/lfuonline_lv.details?sem_id_in=20S&lvnr_id_in=703076\n
CLASS:PUBLIC
DTSTART:20200612T101500Z
DTEND:20200612T120000Z
DTSTAMP:20260419T123925Z
LOCATION:rr 20
END:VEVENT
BEGIN:VEVENT
UID:20S_703076_3510186@uibk.ac.at
ORGANIZER;CN="LFU:online Universität Innsbruck":MAILTO:Uni-Innsbruck-noreply@uibk.ac.at
SUMMARY:PS Maschinelles Lernen (LV 703076-2 20S)
DESCRIPTION:Lehrveranstaltung 703076 20S, Gruppe 2\nTitel: PS Maschinelles Lernen\nOrt: rr 20\n\nhttps://lfuonline.uibk.ac.at/public/lfuonline_lv.details?sem_id_in=20S&lvnr_id_in=703076\n
CLASS:PUBLIC
DTSTART:20200619T101500Z
DTEND:20200619T120000Z
DTSTAMP:20260419T123925Z
LOCATION:rr 20
END:VEVENT
BEGIN:VEVENT
UID:20S_703076_3510187@uibk.ac.at
ORGANIZER;CN="LFU:online Universität Innsbruck":MAILTO:Uni-Innsbruck-noreply@uibk.ac.at
SUMMARY:PS Maschinelles Lernen (LV 703076-2 20S)
DESCRIPTION:Lehrveranstaltung 703076 20S, Gruppe 2\nTitel: PS Maschinelles Lernen\nOrt: rr 20\n\nhttps://lfuonline.uibk.ac.at/public/lfuonline_lv.details?sem_id_in=20S&lvnr_id_in=703076\n
CLASS:PUBLIC
DTSTART:20200626T101500Z
DTEND:20200626T120000Z
DTSTAMP:20260419T123925Z
LOCATION:rr 20
END:VEVENT
END:VCALENDAR