BEGIN:VCALENDAR
VERSION:2.0
PRODID:-//Universität Innsbruck//LFU:online//DE
METHOD:PUBLISH
BEGIN:VEVENT
UID:19S_703410_3335325@uibk.ac.at
ORGANIZER;CN="LFU:online Universität Innsbruck":MAILTO:Uni-Innsbruck-noreply@uibk.ac.at
SUMMARY:VU Introduction to Programming in Python (LV 703410-2 19S)
DESCRIPTION:Lehrveranstaltung 703410 19S, Gruppe 2\nTitel: VU Introduction to Programming in Python\nOrt: rr 21\n\nhttps://lfuonline.uibk.ac.at/public/lfuonline_lv.details?sem_id_in=19S&lvnr_id_in=703410\n
CLASS:PUBLIC
DTSTART:20190305T071500Z
DTEND:20190305T100000Z
DTSTAMP:20260421T003309Z
LOCATION:rr 21
END:VEVENT
BEGIN:VEVENT
UID:19S_703410_3335326@uibk.ac.at
ORGANIZER;CN="LFU:online Universität Innsbruck":MAILTO:Uni-Innsbruck-noreply@uibk.ac.at
SUMMARY:VU Introduction to Programming in Python (LV 703410-2 19S)
DESCRIPTION:Lehrveranstaltung 703410 19S, Gruppe 2\nTitel: VU Introduction to Programming in Python\nOrt: rr 21\n\nhttps://lfuonline.uibk.ac.at/public/lfuonline_lv.details?sem_id_in=19S&lvnr_id_in=703410\n
CLASS:PUBLIC
DTSTART:20190312T071500Z
DTEND:20190312T100000Z
DTSTAMP:20260421T003309Z
LOCATION:rr 21
END:VEVENT
BEGIN:VEVENT
UID:19S_703410_3335327@uibk.ac.at
ORGANIZER;CN="LFU:online Universität Innsbruck":MAILTO:Uni-Innsbruck-noreply@uibk.ac.at
SUMMARY:VU Introduction to Programming in Python (LV 703410-2 19S)
DESCRIPTION:Lehrveranstaltung 703410 19S, Gruppe 2\nTitel: VU Introduction to Programming in Python\nOrt: rr 21\n\nhttps://lfuonline.uibk.ac.at/public/lfuonline_lv.details?sem_id_in=19S&lvnr_id_in=703410\n
CLASS:PUBLIC
DTSTART:20190319T071500Z
DTEND:20190319T100000Z
DTSTAMP:20260421T003309Z
LOCATION:rr 21
END:VEVENT
BEGIN:VEVENT
UID:19S_703410_3335328@uibk.ac.at
ORGANIZER;CN="LFU:online Universität Innsbruck":MAILTO:Uni-Innsbruck-noreply@uibk.ac.at
SUMMARY:VU Introduction to Programming in Python (LV 703410-2 19S)
DESCRIPTION:Lehrveranstaltung 703410 19S, Gruppe 2\nTitel: VU Introduction to Programming in Python\nOrt: rr 21\n\nhttps://lfuonline.uibk.ac.at/public/lfuonline_lv.details?sem_id_in=19S&lvnr_id_in=703410\n
CLASS:PUBLIC
DTSTART:20190326T071500Z
DTEND:20190326T100000Z
DTSTAMP:20260421T003309Z
LOCATION:rr 21
END:VEVENT
BEGIN:VEVENT
UID:19S_703410_3335329@uibk.ac.at
ORGANIZER;CN="LFU:online Universität Innsbruck":MAILTO:Uni-Innsbruck-noreply@uibk.ac.at
SUMMARY:VU Introduction to Programming in Python (LV 703410-2 19S)
DESCRIPTION:Lehrveranstaltung 703410 19S, Gruppe 2\nTitel: VU Introduction to Programming in Python\nOrt: rr 21\n\nhttps://lfuonline.uibk.ac.at/public/lfuonline_lv.details?sem_id_in=19S&lvnr_id_in=703410\n
CLASS:PUBLIC
DTSTART:20190402T061500Z
DTEND:20190402T090000Z
DTSTAMP:20260421T003309Z
LOCATION:rr 21
END:VEVENT
BEGIN:VEVENT
UID:19S_703410_3335330@uibk.ac.at
ORGANIZER;CN="LFU:online Universität Innsbruck":MAILTO:Uni-Innsbruck-noreply@uibk.ac.at
SUMMARY:VU Introduction to Programming in Python (LV 703410-2 19S)
DESCRIPTION:Lehrveranstaltung 703410 19S, Gruppe 2\nTitel: VU Introduction to Programming in Python\nOrt: rr 21\n\nhttps://lfuonline.uibk.ac.at/public/lfuonline_lv.details?sem_id_in=19S&lvnr_id_in=703410\n
CLASS:PUBLIC
DTSTART:20190409T061500Z
DTEND:20190409T090000Z
DTSTAMP:20260421T003309Z
LOCATION:rr 21
END:VEVENT
BEGIN:VEVENT
UID:19S_703410_3335331@uibk.ac.at
ORGANIZER;CN="LFU:online Universität Innsbruck":MAILTO:Uni-Innsbruck-noreply@uibk.ac.at
SUMMARY:VU Introduction to Programming in Python (LV 703410-2 19S)
DESCRIPTION:Lehrveranstaltung 703410 19S, Gruppe 2\nTitel: VU Introduction to Programming in Python\nOrt: rr 21\n\nhttps://lfuonline.uibk.ac.at/public/lfuonline_lv.details?sem_id_in=19S&lvnr_id_in=703410\n
CLASS:PUBLIC
DTSTART:20190430T061500Z
DTEND:20190430T090000Z
DTSTAMP:20260421T003309Z
LOCATION:rr 21
END:VEVENT
BEGIN:VEVENT
UID:19S_703410_3335332@uibk.ac.at
ORGANIZER;CN="LFU:online Universität Innsbruck":MAILTO:Uni-Innsbruck-noreply@uibk.ac.at
SUMMARY:VU Introduction to Programming in Python (LV 703410-2 19S)
DESCRIPTION:Lehrveranstaltung 703410 19S, Gruppe 2\nTitel: VU Introduction to Programming in Python\nOrt: rr 21\n\nhttps://lfuonline.uibk.ac.at/public/lfuonline_lv.details?sem_id_in=19S&lvnr_id_in=703410\n
CLASS:PUBLIC
DTSTART:20190507T061500Z
DTEND:20190507T090000Z
DTSTAMP:20260421T003309Z
LOCATION:rr 21
END:VEVENT
BEGIN:VEVENT
UID:19S_703410_3335333@uibk.ac.at
ORGANIZER;CN="LFU:online Universität Innsbruck":MAILTO:Uni-Innsbruck-noreply@uibk.ac.at
SUMMARY:VU Introduction to Programming in Python (LV 703410-2 19S)
DESCRIPTION:Lehrveranstaltung 703410 19S, Gruppe 2\nTitel: VU Introduction to Programming in Python\nOrt: rr 21\n\nhttps://lfuonline.uibk.ac.at/public/lfuonline_lv.details?sem_id_in=19S&lvnr_id_in=703410\n
CLASS:PUBLIC
DTSTART:20190514T061500Z
DTEND:20190514T090000Z
DTSTAMP:20260421T003309Z
LOCATION:rr 21
END:VEVENT
BEGIN:VEVENT
UID:19S_703410_3335334@uibk.ac.at
ORGANIZER;CN="LFU:online Universität Innsbruck":MAILTO:Uni-Innsbruck-noreply@uibk.ac.at
SUMMARY:VU Introduction to Programming in Python (LV 703410-2 19S)
DESCRIPTION:Lehrveranstaltung 703410 19S, Gruppe 2\nTitel: VU Introduction to Programming in Python\nOrt: rr 21\n\nhttps://lfuonline.uibk.ac.at/public/lfuonline_lv.details?sem_id_in=19S&lvnr_id_in=703410\n
CLASS:PUBLIC
DTSTART:20190521T061500Z
DTEND:20190521T090000Z
DTSTAMP:20260421T003309Z
LOCATION:rr 21
END:VEVENT
BEGIN:VEVENT
UID:19S_703410_3335335@uibk.ac.at
ORGANIZER;CN="LFU:online Universität Innsbruck":MAILTO:Uni-Innsbruck-noreply@uibk.ac.at
SUMMARY:VU Introduction to Programming in Python (LV 703410-2 19S)
DESCRIPTION:Lehrveranstaltung 703410 19S, Gruppe 2\nTitel: VU Introduction to Programming in Python\nOrt: rr 21\n\nhttps://lfuonline.uibk.ac.at/public/lfuonline_lv.details?sem_id_in=19S&lvnr_id_in=703410\n
CLASS:PUBLIC
DTSTART:20190528T061500Z
DTEND:20190528T090000Z
DTSTAMP:20260421T003309Z
LOCATION:rr 21
END:VEVENT
BEGIN:VEVENT
UID:19S_703410_3335336@uibk.ac.at
ORGANIZER;CN="LFU:online Universität Innsbruck":MAILTO:Uni-Innsbruck-noreply@uibk.ac.at
SUMMARY:VU Introduction to Programming in Python (LV 703410-2 19S)
DESCRIPTION:Lehrveranstaltung 703410 19S, Gruppe 2\nTitel: VU Introduction to Programming in Python\nOrt: rr 21\n\nhttps://lfuonline.uibk.ac.at/public/lfuonline_lv.details?sem_id_in=19S&lvnr_id_in=703410\n
CLASS:PUBLIC
DTSTART:20190604T061500Z
DTEND:20190604T090000Z
DTSTAMP:20260421T003309Z
LOCATION:rr 21
END:VEVENT
BEGIN:VEVENT
UID:19S_703410_3335337@uibk.ac.at
ORGANIZER;CN="LFU:online Universität Innsbruck":MAILTO:Uni-Innsbruck-noreply@uibk.ac.at
SUMMARY:VU Introduction to Programming in Python (LV 703410-2 19S)
DESCRIPTION:Lehrveranstaltung 703410 19S, Gruppe 2\nTitel: VU Introduction to Programming in Python\nOrt: rr 21\n\nhttps://lfuonline.uibk.ac.at/public/lfuonline_lv.details?sem_id_in=19S&lvnr_id_in=703410\n
CLASS:PUBLIC
DTSTART:20190611T061500Z
DTEND:20190611T090000Z
DTSTAMP:20260421T003309Z
LOCATION:rr 21
END:VEVENT
BEGIN:VEVENT
UID:19S_703410_3335338@uibk.ac.at
ORGANIZER;CN="LFU:online Universität Innsbruck":MAILTO:Uni-Innsbruck-noreply@uibk.ac.at
SUMMARY:VU Introduction to Programming in Python (LV 703410-2 19S)
DESCRIPTION:Lehrveranstaltung 703410 19S, Gruppe 2\nTitel: VU Introduction to Programming in Python\nOrt: rr 21\n\nhttps://lfuonline.uibk.ac.at/public/lfuonline_lv.details?sem_id_in=19S&lvnr_id_in=703410\n
CLASS:PUBLIC
DTSTART:20190618T061500Z
DTEND:20190618T090000Z
DTSTAMP:20260421T003309Z
LOCATION:rr 21
END:VEVENT
BEGIN:VEVENT
UID:19S_703410_3335339@uibk.ac.at
ORGANIZER;CN="LFU:online Universität Innsbruck":MAILTO:Uni-Innsbruck-noreply@uibk.ac.at
SUMMARY:VU Introduction to Programming in Python (LV 703410-2 19S)
DESCRIPTION:Lehrveranstaltung 703410 19S, Gruppe 2\nTitel: VU Introduction to Programming in Python\nOrt: rr 21\n\nhttps://lfuonline.uibk.ac.at/public/lfuonline_lv.details?sem_id_in=19S&lvnr_id_in=703410\n
CLASS:PUBLIC
DTSTART:20190625T061500Z
DTEND:20190625T090000Z
DTSTAMP:20260421T003309Z
LOCATION:rr 21
END:VEVENT
END:VCALENDAR