BEGIN:VCALENDAR
VERSION:2.0
PRODID:-//Universität Innsbruck//LFU:online//DE
METHOD:PUBLISH
BEGIN:VEVENT
UID:10W_704097_1544083@uibk.ac.at
ORGANIZER;CN="LFU:online Universität Innsbruck":MAILTO:Uni-Innsbruck-noreply@uibk.ac.at
SUMMARY:Einführung in die Physik (LV 704097-2 10W)
DESCRIPTION:Lehrveranstaltung 704097 10W, Gruppe 2\nTitel: Einführung in die Physik\nOrt: HS A (Technik)\n\nhttps://lfuonline.uibk.ac.at/public/lfuonline_lv.details?sem_id_in=10W&lvnr_id_in=704097\n
CLASS:PUBLIC
DTSTART:20101130T171500Z
DTEND:20101130T183000Z
DTSTAMP:20260423T080753Z
LOCATION:HS A (Technik)
END:VEVENT
BEGIN:VEVENT
UID:10W_704097_1544084@uibk.ac.at
ORGANIZER;CN="LFU:online Universität Innsbruck":MAILTO:Uni-Innsbruck-noreply@uibk.ac.at
SUMMARY:Einführung in die Physik (LV 704097-2 10W)
DESCRIPTION:Lehrveranstaltung 704097 10W, Gruppe 2\nTitel: Einführung in die Physik\nOrt: HS A (Technik)\n\nhttps://lfuonline.uibk.ac.at/public/lfuonline_lv.details?sem_id_in=10W&lvnr_id_in=704097\n
CLASS:PUBLIC
DTSTART:20101214T171500Z
DTEND:20101214T183000Z
DTSTAMP:20260423T080753Z
LOCATION:HS A (Technik)
END:VEVENT
BEGIN:VEVENT
UID:10W_704097_1544085@uibk.ac.at
ORGANIZER;CN="LFU:online Universität Innsbruck":MAILTO:Uni-Innsbruck-noreply@uibk.ac.at
SUMMARY:Einführung in die Physik (LV 704097-2 10W)
DESCRIPTION:Lehrveranstaltung 704097 10W, Gruppe 2\nTitel: Einführung in die Physik\nOrt: HS A (Technik)\n\nhttps://lfuonline.uibk.ac.at/public/lfuonline_lv.details?sem_id_in=10W&lvnr_id_in=704097\n
CLASS:PUBLIC
DTSTART:20110111T171500Z
DTEND:20110111T183000Z
DTSTAMP:20260423T080753Z
LOCATION:HS A (Technik)
END:VEVENT
BEGIN:VEVENT
UID:10W_704097_1544086@uibk.ac.at
ORGANIZER;CN="LFU:online Universität Innsbruck":MAILTO:Uni-Innsbruck-noreply@uibk.ac.at
SUMMARY:Einführung in die Physik (LV 704097-2 10W)
DESCRIPTION:Lehrveranstaltung 704097 10W, Gruppe 2\nTitel: Einführung in die Physik\nOrt: HS A (Technik)\n\nhttps://lfuonline.uibk.ac.at/public/lfuonline_lv.details?sem_id_in=10W&lvnr_id_in=704097\n
CLASS:PUBLIC
DTSTART:20110118T171500Z
DTEND:20110118T183000Z
DTSTAMP:20260423T080753Z
LOCATION:HS A (Technik)
END:VEVENT
BEGIN:VEVENT
UID:10W_704097_1544087@uibk.ac.at
ORGANIZER;CN="LFU:online Universität Innsbruck":MAILTO:Uni-Innsbruck-noreply@uibk.ac.at
SUMMARY:Einführung in die Physik (LV 704097-2 10W)
DESCRIPTION:Lehrveranstaltung 704097 10W, Gruppe 2\nTitel: Einführung in die Physik\nOrt: HS A (Technik)\n\nhttps://lfuonline.uibk.ac.at/public/lfuonline_lv.details?sem_id_in=10W&lvnr_id_in=704097\n
CLASS:PUBLIC
DTSTART:20110125T171500Z
DTEND:20110125T183000Z
DTSTAMP:20260423T080753Z
LOCATION:HS A (Technik)
END:VEVENT
BEGIN:VEVENT
UID:10W_704097_1590096@uibk.ac.at
ORGANIZER;CN="LFU:online Universität Innsbruck":MAILTO:Uni-Innsbruck-noreply@uibk.ac.at
SUMMARY:Einführung in die Physik (LV 704097-2 10W)
DESCRIPTION:Lehrveranstaltung 704097 10W, Gruppe 2\nTitel: Einführung in die Physik\nOrt: HS B (Technik)\n\nhttps://lfuonline.uibk.ac.at/public/lfuonline_lv.details?sem_id_in=10W&lvnr_id_in=704097\n
CLASS:PUBLIC
DTSTART:20110404T161500Z
DTEND:20110404T180000Z
DTSTAMP:20260423T080753Z
LOCATION:HS B (Technik)
COMMENT:2.Prüfung
END:VEVENT
BEGIN:VEVENT
UID:10W_704097_1590094@uibk.ac.at
ORGANIZER;CN="LFU:online Universität Innsbruck":MAILTO:Uni-Innsbruck-noreply@uibk.ac.at
SUMMARY:Einführung in die Physik (LV 704097-2 10W)
DESCRIPTION:Lehrveranstaltung 704097 10W, Gruppe 2\nTitel: Einführung in die Physik\nOrt: HS A (Technik)\n\nhttps://lfuonline.uibk.ac.at/public/lfuonline_lv.details?sem_id_in=10W&lvnr_id_in=704097\n
CLASS:PUBLIC
DTSTART:20110404T161500Z
DTEND:20110404T180000Z
DTSTAMP:20260423T080753Z
LOCATION:HS A (Technik)
COMMENT:2.Prüfung
END:VEVENT
BEGIN:VEVENT
UID:10W_704097_1590095@uibk.ac.at
ORGANIZER;CN="LFU:online Universität Innsbruck":MAILTO:Uni-Innsbruck-noreply@uibk.ac.at
SUMMARY:Einführung in die Physik (LV 704097-2 10W)
DESCRIPTION:Lehrveranstaltung 704097 10W, Gruppe 2\nTitel: Einführung in die Physik\nOrt: HS A (Technik)\n\nhttps://lfuonline.uibk.ac.at/public/lfuonline_lv.details?sem_id_in=10W&lvnr_id_in=704097\n
CLASS:PUBLIC
DTSTART:20110509T161500Z
DTEND:20110509T180000Z
DTSTAMP:20260423T080753Z
LOCATION:HS A (Technik)
COMMENT:3.Prüfung
END:VEVENT
BEGIN:VEVENT
UID:10W_704097_1590097@uibk.ac.at
ORGANIZER;CN="LFU:online Universität Innsbruck":MAILTO:Uni-Innsbruck-noreply@uibk.ac.at
SUMMARY:Einführung in die Physik (LV 704097-2 10W)
DESCRIPTION:Lehrveranstaltung 704097 10W, Gruppe 2\nTitel: Einführung in die Physik\nOrt: HS B (Technik)\n\nhttps://lfuonline.uibk.ac.at/public/lfuonline_lv.details?sem_id_in=10W&lvnr_id_in=704097\n
CLASS:PUBLIC
DTSTART:20110509T161500Z
DTEND:20110509T180000Z
DTSTAMP:20260423T080753Z
LOCATION:HS B (Technik)
COMMENT:3.Prüfung
END:VEVENT
END:VCALENDAR