BEGIN:VCALENDAR
VERSION:2.0
PRODID:-//Universität Innsbruck//LFU:online//DE
METHOD:PUBLISH
BEGIN:VEVENT
UID:26S_705321_5070430@uibk.ac.at
ORGANIZER;CN="LFU:online Universität Innsbruck":MAILTO:Uni-Innsbruck-noreply@uibk.ac.at
SUMMARY:UE Theoretische Physik 1 (Mechanik) (LV 705321-2 26S)
DESCRIPTION:Lehrveranstaltung 705321 26S, Gruppe 2\nTitel: UE Theoretische Physik 1 (Mechanik)\nOrt: HS G (Technik)\n\nhttps://lfuonline.uibk.ac.at/public/lfuonline_lv.details?sem_id_in=26S&lvnr_id_in=705321\n
CLASS:PUBLIC
DTSTART:20260316T143000Z
DTEND:20260316T160000Z
DTSTAMP:20260421T144440Z
LOCATION:HS G (Technik)
END:VEVENT
BEGIN:VEVENT
UID:26S_705321_5070431@uibk.ac.at
ORGANIZER;CN="LFU:online Universität Innsbruck":MAILTO:Uni-Innsbruck-noreply@uibk.ac.at
SUMMARY:UE Theoretische Physik 1 (Mechanik) (LV 705321-2 26S)
DESCRIPTION:Lehrveranstaltung 705321 26S, Gruppe 2\nTitel: UE Theoretische Physik 1 (Mechanik)\nOrt: HS G (Technik)\n\nhttps://lfuonline.uibk.ac.at/public/lfuonline_lv.details?sem_id_in=26S&lvnr_id_in=705321\n
CLASS:PUBLIC
DTSTART:20260323T143000Z
DTEND:20260323T160000Z
DTSTAMP:20260421T144440Z
LOCATION:HS G (Technik)
END:VEVENT
BEGIN:VEVENT
UID:26S_705321_5070432@uibk.ac.at
ORGANIZER;CN="LFU:online Universität Innsbruck":MAILTO:Uni-Innsbruck-noreply@uibk.ac.at
SUMMARY:UE Theoretische Physik 1 (Mechanik) (LV 705321-2 26S)
DESCRIPTION:Lehrveranstaltung 705321 26S, Gruppe 2\nTitel: UE Theoretische Physik 1 (Mechanik)\nOrt: HS G (Technik)\n\nhttps://lfuonline.uibk.ac.at/public/lfuonline_lv.details?sem_id_in=26S&lvnr_id_in=705321\n
CLASS:PUBLIC
DTSTART:20260413T133000Z
DTEND:20260413T150000Z
DTSTAMP:20260421T144440Z
LOCATION:HS G (Technik)
END:VEVENT
BEGIN:VEVENT
UID:26S_705321_5070433@uibk.ac.at
ORGANIZER;CN="LFU:online Universität Innsbruck":MAILTO:Uni-Innsbruck-noreply@uibk.ac.at
SUMMARY:UE Theoretische Physik 1 (Mechanik) (LV 705321-2 26S)
DESCRIPTION:Lehrveranstaltung 705321 26S, Gruppe 2\nTitel: UE Theoretische Physik 1 (Mechanik)\nOrt: HS G (Technik)\n\nhttps://lfuonline.uibk.ac.at/public/lfuonline_lv.details?sem_id_in=26S&lvnr_id_in=705321\n
CLASS:PUBLIC
DTSTART:20260420T133000Z
DTEND:20260420T150000Z
DTSTAMP:20260421T144440Z
LOCATION:HS G (Technik)
END:VEVENT
BEGIN:VEVENT
UID:26S_705321_5070434@uibk.ac.at
ORGANIZER;CN="LFU:online Universität Innsbruck":MAILTO:Uni-Innsbruck-noreply@uibk.ac.at
SUMMARY:UE Theoretische Physik 1 (Mechanik) (LV 705321-2 26S)
DESCRIPTION:Lehrveranstaltung 705321 26S, Gruppe 2\nTitel: UE Theoretische Physik 1 (Mechanik)\nOrt: HS G (Technik)\n\nhttps://lfuonline.uibk.ac.at/public/lfuonline_lv.details?sem_id_in=26S&lvnr_id_in=705321\n
CLASS:PUBLIC
DTSTART:20260427T133000Z
DTEND:20260427T150000Z
DTSTAMP:20260421T144440Z
LOCATION:HS G (Technik)
END:VEVENT
BEGIN:VEVENT
UID:26S_705321_5070435@uibk.ac.at
ORGANIZER;CN="LFU:online Universität Innsbruck":MAILTO:Uni-Innsbruck-noreply@uibk.ac.at
SUMMARY:UE Theoretische Physik 1 (Mechanik) (LV 705321-2 26S)
DESCRIPTION:Lehrveranstaltung 705321 26S, Gruppe 2\nTitel: UE Theoretische Physik 1 (Mechanik)\nOrt: HS G (Technik)\n\nhttps://lfuonline.uibk.ac.at/public/lfuonline_lv.details?sem_id_in=26S&lvnr_id_in=705321\n
CLASS:PUBLIC
DTSTART:20260504T133000Z
DTEND:20260504T150000Z
DTSTAMP:20260421T144440Z
LOCATION:HS G (Technik)
END:VEVENT
BEGIN:VEVENT
UID:26S_705321_5070436@uibk.ac.at
ORGANIZER;CN="LFU:online Universität Innsbruck":MAILTO:Uni-Innsbruck-noreply@uibk.ac.at
SUMMARY:UE Theoretische Physik 1 (Mechanik) (LV 705321-2 26S)
DESCRIPTION:Lehrveranstaltung 705321 26S, Gruppe 2\nTitel: UE Theoretische Physik 1 (Mechanik)\nOrt: HS G (Technik)\n\nhttps://lfuonline.uibk.ac.at/public/lfuonline_lv.details?sem_id_in=26S&lvnr_id_in=705321\n
CLASS:PUBLIC
DTSTART:20260511T133000Z
DTEND:20260511T150000Z
DTSTAMP:20260421T144440Z
LOCATION:HS G (Technik)
END:VEVENT
BEGIN:VEVENT
UID:26S_705321_5070437@uibk.ac.at
ORGANIZER;CN="LFU:online Universität Innsbruck":MAILTO:Uni-Innsbruck-noreply@uibk.ac.at
SUMMARY:UE Theoretische Physik 1 (Mechanik) (LV 705321-2 26S)
DESCRIPTION:Lehrveranstaltung 705321 26S, Gruppe 2\nTitel: UE Theoretische Physik 1 (Mechanik)\nOrt: HS G (Technik)\n\nhttps://lfuonline.uibk.ac.at/public/lfuonline_lv.details?sem_id_in=26S&lvnr_id_in=705321\n
CLASS:PUBLIC
DTSTART:20260518T133000Z
DTEND:20260518T150000Z
DTSTAMP:20260421T144440Z
LOCATION:HS G (Technik)
END:VEVENT
BEGIN:VEVENT
UID:26S_705321_5070438@uibk.ac.at
ORGANIZER;CN="LFU:online Universität Innsbruck":MAILTO:Uni-Innsbruck-noreply@uibk.ac.at
SUMMARY:UE Theoretische Physik 1 (Mechanik) (LV 705321-2 26S)
DESCRIPTION:Lehrveranstaltung 705321 26S, Gruppe 2\nTitel: UE Theoretische Physik 1 (Mechanik)\nOrt: HS G (Technik)\n\nhttps://lfuonline.uibk.ac.at/public/lfuonline_lv.details?sem_id_in=26S&lvnr_id_in=705321\n
CLASS:PUBLIC
DTSTART:20260601T133000Z
DTEND:20260601T150000Z
DTSTAMP:20260421T144440Z
LOCATION:HS G (Technik)
END:VEVENT
BEGIN:VEVENT
UID:26S_705321_5070439@uibk.ac.at
ORGANIZER;CN="LFU:online Universität Innsbruck":MAILTO:Uni-Innsbruck-noreply@uibk.ac.at
SUMMARY:UE Theoretische Physik 1 (Mechanik) (LV 705321-2 26S)
DESCRIPTION:Lehrveranstaltung 705321 26S, Gruppe 2\nTitel: UE Theoretische Physik 1 (Mechanik)\nOrt: HS G (Technik)\n\nhttps://lfuonline.uibk.ac.at/public/lfuonline_lv.details?sem_id_in=26S&lvnr_id_in=705321\n
CLASS:PUBLIC
DTSTART:20260608T133000Z
DTEND:20260608T150000Z
DTSTAMP:20260421T144440Z
LOCATION:HS G (Technik)
END:VEVENT
BEGIN:VEVENT
UID:26S_705321_5070440@uibk.ac.at
ORGANIZER;CN="LFU:online Universität Innsbruck":MAILTO:Uni-Innsbruck-noreply@uibk.ac.at
SUMMARY:UE Theoretische Physik 1 (Mechanik) (LV 705321-2 26S)
DESCRIPTION:Lehrveranstaltung 705321 26S, Gruppe 2\nTitel: UE Theoretische Physik 1 (Mechanik)\nOrt: HS G (Technik)\n\nhttps://lfuonline.uibk.ac.at/public/lfuonline_lv.details?sem_id_in=26S&lvnr_id_in=705321\n
CLASS:PUBLIC
DTSTART:20260615T133000Z
DTEND:20260615T150000Z
DTSTAMP:20260421T144440Z
LOCATION:HS G (Technik)
END:VEVENT
BEGIN:VEVENT
UID:26S_705321_5070441@uibk.ac.at
ORGANIZER;CN="LFU:online Universität Innsbruck":MAILTO:Uni-Innsbruck-noreply@uibk.ac.at
SUMMARY:UE Theoretische Physik 1 (Mechanik) (LV 705321-2 26S)
DESCRIPTION:Lehrveranstaltung 705321 26S, Gruppe 2\nTitel: UE Theoretische Physik 1 (Mechanik)\nOrt: HS G (Technik)\n\nhttps://lfuonline.uibk.ac.at/public/lfuonline_lv.details?sem_id_in=26S&lvnr_id_in=705321\n
CLASS:PUBLIC
DTSTART:20260622T133000Z
DTEND:20260622T150000Z
DTSTAMP:20260421T144440Z
LOCATION:HS G (Technik)
END:VEVENT
END:VCALENDAR