BEGIN:VCALENDAR
VERSION:2.0
PRODID:-//Universität Innsbruck//LFU:online//DE
METHOD:PUBLISH
BEGIN:VEVENT
UID:26S_740550_5045171@uibk.ac.at
ORGANIZER;CN="LFU:online Universität Innsbruck":MAILTO:Uni-Innsbruck-noreply@uibk.ac.at
SUMMARY:VU Biochemische und molekularbiologische Übungen (3 Gruppen) (LV 740550-2 26S)
DESCRIPTION:Lehrveranstaltung 740550 26S, Gruppe 2\nTitel: VU Biochemische und molekularbiologische Übungen (3 Gruppen)\nOrt: L.01.220\n\nhttps://lfuonline.uibk.ac.at/public/lfuonline_lv.details?sem_id_in=26S&lvnr_id_in=740550\n
CLASS:PUBLIC
DTSTART:20260302T083000Z
DTEND:20260302T090000Z
DTSTAMP:20260422T053603Z
LOCATION:L.01.220
COMMENT:Vorbesprechung
END:VEVENT
BEGIN:VEVENT
UID:26S_740550_5068153@uibk.ac.at
ORGANIZER;CN="LFU:online Universität Innsbruck":MAILTO:Uni-Innsbruck-noreply@uibk.ac.at
SUMMARY:VU Biochemische und molekularbiologische Übungen (3 Gruppen) (LV 740550-2 26S)
DESCRIPTION:Lehrveranstaltung 740550 26S, Gruppe 2\nTitel: VU Biochemische und molekularbiologische Übungen (3 Gruppen)\nOrt: L.03.070\n\nhttps://lfuonline.uibk.ac.at/public/lfuonline_lv.details?sem_id_in=26S&lvnr_id_in=740550\n
CLASS:PUBLIC
DTSTART:20260309T120000Z
DTEND:20260309T170000Z
DTSTAMP:20260422T053603Z
LOCATION:L.03.070
END:VEVENT
BEGIN:VEVENT
UID:26S_740550_5068154@uibk.ac.at
ORGANIZER;CN="LFU:online Universität Innsbruck":MAILTO:Uni-Innsbruck-noreply@uibk.ac.at
SUMMARY:VU Biochemische und molekularbiologische Übungen (3 Gruppen) (LV 740550-2 26S)
DESCRIPTION:Lehrveranstaltung 740550 26S, Gruppe 2\nTitel: VU Biochemische und molekularbiologische Übungen (3 Gruppen)\nOrt: L.03.070\n\nhttps://lfuonline.uibk.ac.at/public/lfuonline_lv.details?sem_id_in=26S&lvnr_id_in=740550\n
CLASS:PUBLIC
DTSTART:20260310T120000Z
DTEND:20260310T170000Z
DTSTAMP:20260422T053603Z
LOCATION:L.03.070
END:VEVENT
BEGIN:VEVENT
UID:26S_740550_5068155@uibk.ac.at
ORGANIZER;CN="LFU:online Universität Innsbruck":MAILTO:Uni-Innsbruck-noreply@uibk.ac.at
SUMMARY:VU Biochemische und molekularbiologische Übungen (3 Gruppen) (LV 740550-2 26S)
DESCRIPTION:Lehrveranstaltung 740550 26S, Gruppe 2\nTitel: VU Biochemische und molekularbiologische Übungen (3 Gruppen)\nOrt: L.03.070\n\nhttps://lfuonline.uibk.ac.at/public/lfuonline_lv.details?sem_id_in=26S&lvnr_id_in=740550\n
CLASS:PUBLIC
DTSTART:20260311T120000Z
DTEND:20260311T170000Z
DTSTAMP:20260422T053603Z
LOCATION:L.03.070
END:VEVENT
BEGIN:VEVENT
UID:26S_740550_5068156@uibk.ac.at
ORGANIZER;CN="LFU:online Universität Innsbruck":MAILTO:Uni-Innsbruck-noreply@uibk.ac.at
SUMMARY:VU Biochemische und molekularbiologische Übungen (3 Gruppen) (LV 740550-2 26S)
DESCRIPTION:Lehrveranstaltung 740550 26S, Gruppe 2\nTitel: VU Biochemische und molekularbiologische Übungen (3 Gruppen)\nOrt: L.03.070\n\nhttps://lfuonline.uibk.ac.at/public/lfuonline_lv.details?sem_id_in=26S&lvnr_id_in=740550\n
CLASS:PUBLIC
DTSTART:20260312T120000Z
DTEND:20260312T170000Z
DTSTAMP:20260422T053603Z
LOCATION:L.03.070
END:VEVENT
BEGIN:VEVENT
UID:26S_740550_5068157@uibk.ac.at
ORGANIZER;CN="LFU:online Universität Innsbruck":MAILTO:Uni-Innsbruck-noreply@uibk.ac.at
SUMMARY:VU Biochemische und molekularbiologische Übungen (3 Gruppen) (LV 740550-2 26S)
DESCRIPTION:Lehrveranstaltung 740550 26S, Gruppe 2\nTitel: VU Biochemische und molekularbiologische Übungen (3 Gruppen)\nOrt: L.03.070\n\nhttps://lfuonline.uibk.ac.at/public/lfuonline_lv.details?sem_id_in=26S&lvnr_id_in=740550\n
CLASS:PUBLIC
DTSTART:20260313T120000Z
DTEND:20260313T170000Z
DTSTAMP:20260422T053603Z
LOCATION:L.03.070
END:VEVENT
END:VCALENDAR